BEGIN:VCALENDAR
VERSION:2.0
PRODID:-//Dual Event Calendar//EN
CALSCALE:GREGORIAN
X-WR-CALNAME:Dual Event Calendar - November 2032
X-WR-TIMEZONE:Europe/Budapest
BEGIN:VEVENT
UID:dualevcal-68-1983375000@tfdk.hu
DTSTAMP:20260426T03
 5709Z
DTSTART;TZID=Europe/Budapest:20321106T183000
DTEND;TZID=Europ
 e/Budapest:20321106T200000
SUMMARY:Esti szertartás
DESCRIPTION:Est
 i szertartás kínai nyelven.\\nHelyszín: Kővágóör
 s Amitábha
  templom
LOCATION:Kővágóörs\, Amitábha templom
URL:https://tfd
 k.hu/dual_event/esti-szertartas/
END:VEVENT
BEGIN:VEVENT
UID:dualevcal-68-1983979800@tfdk.hu
DTSTAMP:20260426T03
 5709Z
DTSTART;TZID=Europe/Budapest:20321113T183000
DTEND;TZID=Europ
 e/Budapest:20321113T200000
SUMMARY:Esti szertartás
DESCRIPTION:Est
 i szertartás kínai nyelven.\\nHelyszín: Kővágóör
 s Amitábha
  templom
LOCATION:Kővágóörs\, Amitábha templom
URL:https://tfd
 k.hu/dual_event/esti-szertartas/
END:VEVENT
BEGIN:VEVENT
UID:dualevcal-68-1984584600@tfdk.hu
DTSTAMP:20260426T03
 5709Z
DTSTART;TZID=Europe/Budapest:20321120T183000
DTEND;TZID=Europ
 e/Budapest:20321120T200000
SUMMARY:Esti szertartás
DESCRIPTION:Est
 i szertartás kínai nyelven.\\nHelyszín: Kővágóör
 s Amitábha
  templom
LOCATION:Kővágóörs\, Amitábha templom
URL:https://tfd
 k.hu/dual_event/esti-szertartas/
END:VEVENT
BEGIN:VEVENT
UID:dualevcal-68-1985189400@tfdk.hu
DTSTAMP:20260426T03
 5709Z
DTSTART;TZID=Europe/Budapest:20321127T183000
DTEND;TZID=Europ
 e/Budapest:20321127T200000
SUMMARY:Esti szertartás
DESCRIPTION:Est
 i szertartás kínai nyelven.\\nHelyszín: Kővágóör
 s Amitábha
  templom
LOCATION:Kővágóörs\, Amitábha templom
URL:https://tfd
 k.hu/dual_event/esti-szertartas/
END:VEVENT
BEGIN:VEVENT
UID:dualevcal-67-1983930300@tfdk.hu
DTSTAMP:20260426T03
 5709Z
DTSTART;TZID=Europe/Budapest:20321113T044500
DTEND;TZID=Europ
 e/Budapest:20321113T063000
SUMMARY:Reggeli szertartás
DESCRIPTION:
 Reggeli szartartás kínai nyelven.\\nHelyszín: Kővágó
 örs\, A
 mitábha templom
LOCATION:Kővágóörs
URL:https://tfdk.hu/dual_ev
 ent/reggeli-szertartas-kovagoors/
END:VEVENT
BEGIN:VEVENT
UID:dualevcal-67-1985139900@tfdk.hu
DTSTAMP:20260426T03
 5709Z
DTSTART;TZID=Europe/Budapest:20321127T044500
DTEND;TZID=Europ
 e/Budapest:20321127T063000
SUMMARY:Reggeli szertartás
DESCRIPTION:
 Reggeli szartartás kínai nyelven.\\nHelyszín: Kővágó
 örs\, A
 mitábha templom
LOCATION:Kővágóörs
URL:https://tfdk.hu/dual_ev
 ent/reggeli-szertartas-kovagoors/
END:VEVENT
BEGIN:VEVENT
UID:dualevcal-64-1983325500@tfdk.hu
DTSTAMP:20260426T03
 5709Z
DTSTART;TZID=Europe/Budapest:20321106T044500
DTEND;TZID=Europ
 e/Budapest:20321106T063000
SUMMARY:Reggeli szertartás
DESCRIPTION:
 Reggeli szertartás kínai nyelven.\\nHelyszín: Magyarpol
 ány
LO
 CATION:Magyarpolány
URL:https://tfdk.hu/dual_event/reggeli-szertart
 as-magyarpolany/
END:VEVENT
BEGIN:VEVENT
UID:dualevcal-64-1984535100@tfdk.hu
DTSTAMP:20260426T03
 5709Z
DTSTART;TZID=Europe/Budapest:20321120T044500
DTEND;TZID=Europ
 e/Budapest:20321120T063000
SUMMARY:Reggeli szertartás
DESCRIPTION:
 Reggeli szertartás kínai nyelven.\\nHelyszín: Magyarpol
 ány
LO
 CATION:Magyarpolány
URL:https://tfdk.hu/dual_event/reggeli-szertart
 as-magyarpolany/
END:VEVENT
END:VCALENDAR
