BEGIN:VCALENDAR
VERSION:2.0
PRODID:-//Dual Event Calendar//EN
CALSCALE:GREGORIAN
X-WR-CALNAME:Dual Event Calendar - October 2032
X-WR-TIMEZONE:Europe/Budapest
BEGIN:VEVENT
UID:dualevcal-68-1980347400@tfdk.hu
DTSTAMP:20260426T02
 4046Z
DTSTART;TZID=Europe/Budapest:20321002T183000
DTEND;TZID=Europ
 e/Budapest:20321002T200000
SUMMARY:Esti szertartás
DESCRIPTION:Est
 i szertartás kínai nyelven.\\nHelyszín: Kővágóör
 s Amitábha
  templom
LOCATION:Kővágóörs\, Amitábha templom
URL:https://tfd
 k.hu/dual_event/esti-szertartas/
END:VEVENT
BEGIN:VEVENT
UID:dualevcal-68-1980952200@tfdk.hu
DTSTAMP:20260426T02
 4046Z
DTSTART;TZID=Europe/Budapest:20321009T183000
DTEND;TZID=Europ
 e/Budapest:20321009T200000
SUMMARY:Esti szertartás
DESCRIPTION:Est
 i szertartás kínai nyelven.\\nHelyszín: Kővágóör
 s Amitábha
  templom
LOCATION:Kővágóörs\, Amitábha templom
URL:https://tfd
 k.hu/dual_event/esti-szertartas/
END:VEVENT
BEGIN:VEVENT
UID:dualevcal-68-1981557000@tfdk.hu
DTSTAMP:20260426T02
 4046Z
DTSTART;TZID=Europe/Budapest:20321016T183000
DTEND;TZID=Europ
 e/Budapest:20321016T200000
SUMMARY:Esti szertartás
DESCRIPTION:Est
 i szertartás kínai nyelven.\\nHelyszín: Kővágóör
 s Amitábha
  templom
LOCATION:Kővágóörs\, Amitábha templom
URL:https://tfd
 k.hu/dual_event/esti-szertartas/
END:VEVENT
BEGIN:VEVENT
UID:dualevcal-68-1982161800@tfdk.hu
DTSTAMP:20260426T02
 4046Z
DTSTART;TZID=Europe/Budapest:20321023T183000
DTEND;TZID=Europ
 e/Budapest:20321023T200000
SUMMARY:Esti szertartás
DESCRIPTION:Est
 i szertartás kínai nyelven.\\nHelyszín: Kővágóör
 s Amitábha
  templom
LOCATION:Kővágóörs\, Amitábha templom
URL:https://tfd
 k.hu/dual_event/esti-szertartas/
END:VEVENT
BEGIN:VEVENT
UID:dualevcal-68-1982766600@tfdk.hu
DTSTAMP:20260426T02
 4046Z
DTSTART;TZID=Europe/Budapest:20321030T183000
DTEND;TZID=Europ
 e/Budapest:20321030T200000
SUMMARY:Esti szertartás
DESCRIPTION:Est
 i szertartás kínai nyelven.\\nHelyszín: Kővágóör
 s Amitábha
  templom
LOCATION:Kővágóörs\, Amitábha templom
URL:https://tfd
 k.hu/dual_event/esti-szertartas/
END:VEVENT
BEGIN:VEVENT
UID:dualevcal-67-1980902700@tfdk.hu
DTSTAMP:20260426T02
 4046Z
DTSTART;TZID=Europe/Budapest:20321009T044500
DTEND;TZID=Europ
 e/Budapest:20321009T063000
SUMMARY:Reggeli szertartás
DESCRIPTION:
 Reggeli szartartás kínai nyelven.\\nHelyszín: Kővágó
 örs\, A
 mitábha templom
LOCATION:Kővágóörs
URL:https://tfdk.hu/dual_ev
 ent/reggeli-szertartas-kovagoors/
END:VEVENT
BEGIN:VEVENT
UID:dualevcal-67-1982112300@tfdk.hu
DTSTAMP:20260426T02
 4046Z
DTSTART;TZID=Europe/Budapest:20321023T044500
DTEND;TZID=Europ
 e/Budapest:20321023T063000
SUMMARY:Reggeli szertartás
DESCRIPTION:
 Reggeli szartartás kínai nyelven.\\nHelyszín: Kővágó
 örs\, A
 mitábha templom
LOCATION:Kővágóörs
URL:https://tfdk.hu/dual_ev
 ent/reggeli-szertartas-kovagoors/
END:VEVENT
BEGIN:VEVENT
UID:dualevcal-64-1980297900@tfdk.hu
DTSTAMP:20260426T02
 4046Z
DTSTART;TZID=Europe/Budapest:20321002T044500
DTEND;TZID=Europ
 e/Budapest:20321002T063000
SUMMARY:Reggeli szertartás
DESCRIPTION:
 Reggeli szertartás kínai nyelven.\\nHelyszín: Magyarpol
 ány
LO
 CATION:Magyarpolány
URL:https://tfdk.hu/dual_event/reggeli-szertart
 as-magyarpolany/
END:VEVENT
BEGIN:VEVENT
UID:dualevcal-64-1981507500@tfdk.hu
DTSTAMP:20260426T02
 4046Z
DTSTART;TZID=Europe/Budapest:20321016T044500
DTEND;TZID=Europ
 e/Budapest:20321016T063000
SUMMARY:Reggeli szertartás
DESCRIPTION:
 Reggeli szertartás kínai nyelven.\\nHelyszín: Magyarpol
 ány
LO
 CATION:Magyarpolány
URL:https://tfdk.hu/dual_event/reggeli-szertart
 as-magyarpolany/
END:VEVENT
BEGIN:VEVENT
UID:dualevcal-64-1982717100@tfdk.hu
DTSTAMP:20260426T02
 4046Z
DTSTART;TZID=Europe/Budapest:20321030T044500
DTEND;TZID=Europ
 e/Budapest:20321030T063000
SUMMARY:Reggeli szertartás
DESCRIPTION:
 Reggeli szertartás kínai nyelven.\\nHelyszín: Magyarpol
 ány
LO
 CATION:Magyarpolány
URL:https://tfdk.hu/dual_event/reggeli-szertart
 as-magyarpolany/
END:VEVENT
END:VCALENDAR
