BEGIN:VCALENDAR
VERSION:2.0
PRODID:-//Dual Event Calendar//EN
CALSCALE:GREGORIAN
X-WR-CALNAME:Dual Event Calendar - September 2032
X-WR-TIMEZONE:Europe/Budapest
BEGIN:VEVENT
UID:dualevcal-68-1977928200@tfdk.hu
DTSTAMP:20260426T01
 2119Z
DTSTART;TZID=Europe/Budapest:20320904T183000
DTEND;TZID=Europ
 e/Budapest:20320904T200000
SUMMARY:Esti szertartás
DESCRIPTION:Est
 i szertartás kínai nyelven.\\nHelyszín: Kővágóör
 s Amitábha
  templom
LOCATION:Kővágóörs\, Amitábha templom
URL:https://tfd
 k.hu/dual_event/esti-szertartas/
END:VEVENT
BEGIN:VEVENT
UID:dualevcal-68-1978533000@tfdk.hu
DTSTAMP:20260426T01
 2119Z
DTSTART;TZID=Europe/Budapest:20320911T183000
DTEND;TZID=Europ
 e/Budapest:20320911T200000
SUMMARY:Esti szertartás
DESCRIPTION:Est
 i szertartás kínai nyelven.\\nHelyszín: Kővágóör
 s Amitábha
  templom
LOCATION:Kővágóörs\, Amitábha templom
URL:https://tfd
 k.hu/dual_event/esti-szertartas/
END:VEVENT
BEGIN:VEVENT
UID:dualevcal-68-1979137800@tfdk.hu
DTSTAMP:20260426T01
 2119Z
DTSTART;TZID=Europe/Budapest:20320918T183000
DTEND;TZID=Europ
 e/Budapest:20320918T200000
SUMMARY:Esti szertartás
DESCRIPTION:Est
 i szertartás kínai nyelven.\\nHelyszín: Kővágóör
 s Amitábha
  templom
LOCATION:Kővágóörs\, Amitábha templom
URL:https://tfd
 k.hu/dual_event/esti-szertartas/
END:VEVENT
BEGIN:VEVENT
UID:dualevcal-68-1979742600@tfdk.hu
DTSTAMP:20260426T01
 2119Z
DTSTART;TZID=Europe/Budapest:20320925T183000
DTEND;TZID=Europ
 e/Budapest:20320925T200000
SUMMARY:Esti szertartás
DESCRIPTION:Est
 i szertartás kínai nyelven.\\nHelyszín: Kővágóör
 s Amitábha
  templom
LOCATION:Kővágóörs\, Amitábha templom
URL:https://tfd
 k.hu/dual_event/esti-szertartas/
END:VEVENT
BEGIN:VEVENT
UID:dualevcal-67-1978483500@tfdk.hu
DTSTAMP:20260426T01
 2119Z
DTSTART;TZID=Europe/Budapest:20320911T044500
DTEND;TZID=Europ
 e/Budapest:20320911T063000
SUMMARY:Reggeli szertartás
DESCRIPTION:
 Reggeli szartartás kínai nyelven.\\nHelyszín: Kővágó
 örs\, A
 mitábha templom
LOCATION:Kővágóörs
URL:https://tfdk.hu/dual_ev
 ent/reggeli-szertartas-kovagoors/
END:VEVENT
BEGIN:VEVENT
UID:dualevcal-67-1979693100@tfdk.hu
DTSTAMP:20260426T01
 2119Z
DTSTART;TZID=Europe/Budapest:20320925T044500
DTEND;TZID=Europ
 e/Budapest:20320925T063000
SUMMARY:Reggeli szertartás
DESCRIPTION:
 Reggeli szartartás kínai nyelven.\\nHelyszín: Kővágó
 örs\, A
 mitábha templom
LOCATION:Kővágóörs
URL:https://tfdk.hu/dual_ev
 ent/reggeli-szertartas-kovagoors/
END:VEVENT
BEGIN:VEVENT
UID:dualevcal-64-1977878700@tfdk.hu
DTSTAMP:20260426T01
 2119Z
DTSTART;TZID=Europe/Budapest:20320904T044500
DTEND;TZID=Europ
 e/Budapest:20320904T063000
SUMMARY:Reggeli szertartás
DESCRIPTION:
 Reggeli szertartás kínai nyelven.\\nHelyszín: Magyarpol
 ány
LO
 CATION:Magyarpolány
URL:https://tfdk.hu/dual_event/reggeli-szertart
 as-magyarpolany/
END:VEVENT
BEGIN:VEVENT
UID:dualevcal-64-1979088300@tfdk.hu
DTSTAMP:20260426T01
 2119Z
DTSTART;TZID=Europe/Budapest:20320918T044500
DTEND;TZID=Europ
 e/Budapest:20320918T063000
SUMMARY:Reggeli szertartás
DESCRIPTION:
 Reggeli szertartás kínai nyelven.\\nHelyszín: Magyarpol
 ány
LO
 CATION:Magyarpolány
URL:https://tfdk.hu/dual_event/reggeli-szertart
 as-magyarpolany/
END:VEVENT
END:VCALENDAR
