BEGIN:VCALENDAR
VERSION:2.0
PRODID:-//Dual Event Calendar//EN
CALSCALE:GREGORIAN
X-WR-CALNAME:Dual Event Calendar - August 2032
X-WR-TIMEZONE:Europe/Budapest
BEGIN:VEVENT
UID:dualevcal-68-1975509000@tfdk.hu
DTSTAMP:20260425T23
 5124Z
DTSTART;TZID=Europe/Budapest:20320807T183000
DTEND;TZID=Europ
 e/Budapest:20320807T200000
SUMMARY:Esti szertartás
DESCRIPTION:Est
 i szertartás kínai nyelven.\\nHelyszín: Kővágóör
 s Amitábha
  templom
LOCATION:Kővágóörs\, Amitábha templom
URL:https://tfd
 k.hu/dual_event/esti-szertartas/
END:VEVENT
BEGIN:VEVENT
UID:dualevcal-68-1976113800@tfdk.hu
DTSTAMP:20260425T23
 5124Z
DTSTART;TZID=Europe/Budapest:20320814T183000
DTEND;TZID=Europ
 e/Budapest:20320814T200000
SUMMARY:Esti szertartás
DESCRIPTION:Est
 i szertartás kínai nyelven.\\nHelyszín: Kővágóör
 s Amitábha
  templom
LOCATION:Kővágóörs\, Amitábha templom
URL:https://tfd
 k.hu/dual_event/esti-szertartas/
END:VEVENT
BEGIN:VEVENT
UID:dualevcal-68-1976718600@tfdk.hu
DTSTAMP:20260425T23
 5124Z
DTSTART;TZID=Europe/Budapest:20320821T183000
DTEND;TZID=Europ
 e/Budapest:20320821T200000
SUMMARY:Esti szertartás
DESCRIPTION:Est
 i szertartás kínai nyelven.\\nHelyszín: Kővágóör
 s Amitábha
  templom
LOCATION:Kővágóörs\, Amitábha templom
URL:https://tfd
 k.hu/dual_event/esti-szertartas/
END:VEVENT
BEGIN:VEVENT
UID:dualevcal-68-1977323400@tfdk.hu
DTSTAMP:20260425T23
 5124Z
DTSTART;TZID=Europe/Budapest:20320828T183000
DTEND;TZID=Europ
 e/Budapest:20320828T200000
SUMMARY:Esti szertartás
DESCRIPTION:Est
 i szertartás kínai nyelven.\\nHelyszín: Kővágóör
 s Amitábha
  templom
LOCATION:Kővágóörs\, Amitábha templom
URL:https://tfd
 k.hu/dual_event/esti-szertartas/
END:VEVENT
BEGIN:VEVENT
UID:dualevcal-67-1976064300@tfdk.hu
DTSTAMP:20260425T23
 5124Z
DTSTART;TZID=Europe/Budapest:20320814T044500
DTEND;TZID=Europ
 e/Budapest:20320814T063000
SUMMARY:Reggeli szertartás
DESCRIPTION:
 Reggeli szartartás kínai nyelven.\\nHelyszín: Kővágó
 örs\, A
 mitábha templom
LOCATION:Kővágóörs
URL:https://tfdk.hu/dual_ev
 ent/reggeli-szertartas-kovagoors/
END:VEVENT
BEGIN:VEVENT
UID:dualevcal-67-1977273900@tfdk.hu
DTSTAMP:20260425T23
 5124Z
DTSTART;TZID=Europe/Budapest:20320828T044500
DTEND;TZID=Europ
 e/Budapest:20320828T063000
SUMMARY:Reggeli szertartás
DESCRIPTION:
 Reggeli szartartás kínai nyelven.\\nHelyszín: Kővágó
 örs\, A
 mitábha templom
LOCATION:Kővágóörs
URL:https://tfdk.hu/dual_ev
 ent/reggeli-szertartas-kovagoors/
END:VEVENT
BEGIN:VEVENT
UID:dualevcal-64-1975459500@tfdk.hu
DTSTAMP:20260425T23
 5124Z
DTSTART;TZID=Europe/Budapest:20320807T044500
DTEND;TZID=Europ
 e/Budapest:20320807T063000
SUMMARY:Reggeli szertartás
DESCRIPTION:
 Reggeli szertartás kínai nyelven.\\nHelyszín: Magyarpol
 ány
LO
 CATION:Magyarpolány
URL:https://tfdk.hu/dual_event/reggeli-szertart
 as-magyarpolany/
END:VEVENT
BEGIN:VEVENT
UID:dualevcal-64-1976669100@tfdk.hu
DTSTAMP:20260425T23
 5124Z
DTSTART;TZID=Europe/Budapest:20320821T044500
DTEND;TZID=Europ
 e/Budapest:20320821T063000
SUMMARY:Reggeli szertartás
DESCRIPTION:
 Reggeli szertartás kínai nyelven.\\nHelyszín: Magyarpol
 ány
LO
 CATION:Magyarpolány
URL:https://tfdk.hu/dual_event/reggeli-szertart
 as-magyarpolany/
END:VEVENT
END:VCALENDAR
