BEGIN:VCALENDAR
VERSION:2.0
PRODID:-//Dual Event Calendar//EN
CALSCALE:GREGORIAN
X-WR-CALNAME:Dual Event Calendar - July 2032
X-WR-TIMEZONE:Europe/Budapest
BEGIN:VEVENT
UID:dualevcal-68-1972485000@tfdk.hu
DTSTAMP:20260425T22
 2243Z
DTSTART;TZID=Europe/Budapest:20320703T183000
DTEND;TZID=Europ
 e/Budapest:20320703T200000
SUMMARY:Esti szertartás
DESCRIPTION:Est
 i szertartás kínai nyelven.\\nHelyszín: Kővágóör
 s Amitábha
  templom
LOCATION:Kővágóörs\, Amitábha templom
URL:https://tfd
 k.hu/dual_event/esti-szertartas/
END:VEVENT
BEGIN:VEVENT
UID:dualevcal-68-1973089800@tfdk.hu
DTSTAMP:20260425T22
 2243Z
DTSTART;TZID=Europe/Budapest:20320710T183000
DTEND;TZID=Europ
 e/Budapest:20320710T200000
SUMMARY:Esti szertartás
DESCRIPTION:Est
 i szertartás kínai nyelven.\\nHelyszín: Kővágóör
 s Amitábha
  templom
LOCATION:Kővágóörs\, Amitábha templom
URL:https://tfd
 k.hu/dual_event/esti-szertartas/
END:VEVENT
BEGIN:VEVENT
UID:dualevcal-68-1973694600@tfdk.hu
DTSTAMP:20260425T22
 2243Z
DTSTART;TZID=Europe/Budapest:20320717T183000
DTEND;TZID=Europ
 e/Budapest:20320717T200000
SUMMARY:Esti szertartás
DESCRIPTION:Est
 i szertartás kínai nyelven.\\nHelyszín: Kővágóör
 s Amitábha
  templom
LOCATION:Kővágóörs\, Amitábha templom
URL:https://tfd
 k.hu/dual_event/esti-szertartas/
END:VEVENT
BEGIN:VEVENT
UID:dualevcal-68-1974299400@tfdk.hu
DTSTAMP:20260425T22
 2243Z
DTSTART;TZID=Europe/Budapest:20320724T183000
DTEND;TZID=Europ
 e/Budapest:20320724T200000
SUMMARY:Esti szertartás
DESCRIPTION:Est
 i szertartás kínai nyelven.\\nHelyszín: Kővágóör
 s Amitábha
  templom
LOCATION:Kővágóörs\, Amitábha templom
URL:https://tfd
 k.hu/dual_event/esti-szertartas/
END:VEVENT
BEGIN:VEVENT
UID:dualevcal-68-1974904200@tfdk.hu
DTSTAMP:20260425T22
 2243Z
DTSTART;TZID=Europe/Budapest:20320731T183000
DTEND;TZID=Europ
 e/Budapest:20320731T200000
SUMMARY:Esti szertartás
DESCRIPTION:Est
 i szertartás kínai nyelven.\\nHelyszín: Kővágóör
 s Amitábha
  templom
LOCATION:Kővágóörs\, Amitábha templom
URL:https://tfd
 k.hu/dual_event/esti-szertartas/
END:VEVENT
BEGIN:VEVENT
UID:dualevcal-67-1972435500@tfdk.hu
DTSTAMP:20260425T22
 2243Z
DTSTART;TZID=Europe/Budapest:20320703T044500
DTEND;TZID=Europ
 e/Budapest:20320703T063000
SUMMARY:Reggeli szertartás
DESCRIPTION:
 Reggeli szartartás kínai nyelven.\\nHelyszín: Kővágó
 örs\, A
 mitábha templom
LOCATION:Kővágóörs
URL:https://tfdk.hu/dual_ev
 ent/reggeli-szertartas-kovagoors/
END:VEVENT
BEGIN:VEVENT
UID:dualevcal-67-1973645100@tfdk.hu
DTSTAMP:20260425T22
 2243Z
DTSTART;TZID=Europe/Budapest:20320717T044500
DTEND;TZID=Europ
 e/Budapest:20320717T063000
SUMMARY:Reggeli szertartás
DESCRIPTION:
 Reggeli szartartás kínai nyelven.\\nHelyszín: Kővágó
 örs\, A
 mitábha templom
LOCATION:Kővágóörs
URL:https://tfdk.hu/dual_ev
 ent/reggeli-szertartas-kovagoors/
END:VEVENT
BEGIN:VEVENT
UID:dualevcal-67-1974854700@tfdk.hu
DTSTAMP:20260425T22
 2243Z
DTSTART;TZID=Europe/Budapest:20320731T044500
DTEND;TZID=Europ
 e/Budapest:20320731T063000
SUMMARY:Reggeli szertartás
DESCRIPTION:
 Reggeli szartartás kínai nyelven.\\nHelyszín: Kővágó
 örs\, A
 mitábha templom
LOCATION:Kővágóörs
URL:https://tfdk.hu/dual_ev
 ent/reggeli-szertartas-kovagoors/
END:VEVENT
BEGIN:VEVENT
UID:dualevcal-64-1973040300@tfdk.hu
DTSTAMP:20260425T22
 2243Z
DTSTART;TZID=Europe/Budapest:20320710T044500
DTEND;TZID=Europ
 e/Budapest:20320710T063000
SUMMARY:Reggeli szertartás
DESCRIPTION:
 Reggeli szertartás kínai nyelven.\\nHelyszín: Magyarpol
 ány
LO
 CATION:Magyarpolány
URL:https://tfdk.hu/dual_event/reggeli-szertart
 as-magyarpolany/
END:VEVENT
BEGIN:VEVENT
UID:dualevcal-64-1974249900@tfdk.hu
DTSTAMP:20260425T22
 2243Z
DTSTART;TZID=Europe/Budapest:20320724T044500
DTEND;TZID=Europ
 e/Budapest:20320724T063000
SUMMARY:Reggeli szertartás
DESCRIPTION:
 Reggeli szertartás kínai nyelven.\\nHelyszín: Magyarpol
 ány
LO
 CATION:Magyarpolány
URL:https://tfdk.hu/dual_event/reggeli-szertart
 as-magyarpolany/
END:VEVENT
END:VCALENDAR
