BEGIN:VCALENDAR
VERSION:2.0
PRODID:-//Dual Event Calendar//EN
CALSCALE:GREGORIAN
X-WR-CALNAME:Dual Event Calendar - June 2032
X-WR-TIMEZONE:Europe/Budapest
BEGIN:VEVENT
UID:dualevcal-68-1970065800@tfdk.hu
DTSTAMP:20260425T20
 5302Z
DTSTART;TZID=Europe/Budapest:20320605T183000
DTEND;TZID=Europ
 e/Budapest:20320605T200000
SUMMARY:Esti szertartás
DESCRIPTION:Est
 i szertartás kínai nyelven.\\nHelyszín: Kővágóör
 s Amitábha
  templom
LOCATION:Kővágóörs\, Amitábha templom
URL:https://tfd
 k.hu/dual_event/esti-szertartas/
END:VEVENT
BEGIN:VEVENT
UID:dualevcal-68-1970670600@tfdk.hu
DTSTAMP:20260425T20
 5302Z
DTSTART;TZID=Europe/Budapest:20320612T183000
DTEND;TZID=Europ
 e/Budapest:20320612T200000
SUMMARY:Esti szertartás
DESCRIPTION:Est
 i szertartás kínai nyelven.\\nHelyszín: Kővágóör
 s Amitábha
  templom
LOCATION:Kővágóörs\, Amitábha templom
URL:https://tfd
 k.hu/dual_event/esti-szertartas/
END:VEVENT
BEGIN:VEVENT
UID:dualevcal-68-1971275400@tfdk.hu
DTSTAMP:20260425T20
 5302Z
DTSTART;TZID=Europe/Budapest:20320619T183000
DTEND;TZID=Europ
 e/Budapest:20320619T200000
SUMMARY:Esti szertartás
DESCRIPTION:Est
 i szertartás kínai nyelven.\\nHelyszín: Kővágóör
 s Amitábha
  templom
LOCATION:Kővágóörs\, Amitábha templom
URL:https://tfd
 k.hu/dual_event/esti-szertartas/
END:VEVENT
BEGIN:VEVENT
UID:dualevcal-68-1971880200@tfdk.hu
DTSTAMP:20260425T20
 5302Z
DTSTART;TZID=Europe/Budapest:20320626T183000
DTEND;TZID=Europ
 e/Budapest:20320626T200000
SUMMARY:Esti szertartás
DESCRIPTION:Est
 i szertartás kínai nyelven.\\nHelyszín: Kővágóör
 s Amitábha
  templom
LOCATION:Kővágóörs\, Amitábha templom
URL:https://tfd
 k.hu/dual_event/esti-szertartas/
END:VEVENT
BEGIN:VEVENT
UID:dualevcal-67-1970016300@tfdk.hu
DTSTAMP:20260425T20
 5302Z
DTSTART;TZID=Europe/Budapest:20320605T044500
DTEND;TZID=Europ
 e/Budapest:20320605T063000
SUMMARY:Reggeli szertartás
DESCRIPTION:
 Reggeli szartartás kínai nyelven.\\nHelyszín: Kővágó
 örs\, A
 mitábha templom
LOCATION:Kővágóörs
URL:https://tfdk.hu/dual_ev
 ent/reggeli-szertartas-kovagoors/
END:VEVENT
BEGIN:VEVENT
UID:dualevcal-67-1971225900@tfdk.hu
DTSTAMP:20260425T20
 5302Z
DTSTART;TZID=Europe/Budapest:20320619T044500
DTEND;TZID=Europ
 e/Budapest:20320619T063000
SUMMARY:Reggeli szertartás
DESCRIPTION:
 Reggeli szartartás kínai nyelven.\\nHelyszín: Kővágó
 örs\, A
 mitábha templom
LOCATION:Kővágóörs
URL:https://tfdk.hu/dual_ev
 ent/reggeli-szertartas-kovagoors/
END:VEVENT
BEGIN:VEVENT
UID:dualevcal-64-1970621100@tfdk.hu
DTSTAMP:20260425T20
 5302Z
DTSTART;TZID=Europe/Budapest:20320612T044500
DTEND;TZID=Europ
 e/Budapest:20320612T063000
SUMMARY:Reggeli szertartás
DESCRIPTION:
 Reggeli szertartás kínai nyelven.\\nHelyszín: Magyarpol
 ány
LO
 CATION:Magyarpolány
URL:https://tfdk.hu/dual_event/reggeli-szertart
 as-magyarpolany/
END:VEVENT
BEGIN:VEVENT
UID:dualevcal-64-1971830700@tfdk.hu
DTSTAMP:20260425T20
 5302Z
DTSTART;TZID=Europe/Budapest:20320626T044500
DTEND;TZID=Europ
 e/Budapest:20320626T063000
SUMMARY:Reggeli szertartás
DESCRIPTION:
 Reggeli szertartás kínai nyelven.\\nHelyszín: Magyarpol
 ány
LO
 CATION:Magyarpolány
URL:https://tfdk.hu/dual_event/reggeli-szertart
 as-magyarpolany/
END:VEVENT
END:VCALENDAR
