BEGIN:VCALENDAR
VERSION:2.0
PRODID:-//Dual Event Calendar//EN
CALSCALE:GREGORIAN
X-WR-CALNAME:Dual Event Calendar - May 2032
X-WR-TIMEZONE:Europe/Budapest
BEGIN:VEVENT
UID:dualevcal-68-1967041800@tfdk.hu
DTSTAMP:20260425T19
 2622Z
DTSTART;TZID=Europe/Budapest:20320501T183000
DTEND;TZID=Europ
 e/Budapest:20320501T200000
SUMMARY:Esti szertartás
DESCRIPTION:Est
 i szertartás kínai nyelven.\\nHelyszín: Kővágóör
 s Amitábha
  templom
LOCATION:Kővágóörs\, Amitábha templom
URL:https://tfd
 k.hu/dual_event/esti-szertartas/
END:VEVENT
BEGIN:VEVENT
UID:dualevcal-68-1967646600@tfdk.hu
DTSTAMP:20260425T19
 2622Z
DTSTART;TZID=Europe/Budapest:20320508T183000
DTEND;TZID=Europ
 e/Budapest:20320508T200000
SUMMARY:Esti szertartás
DESCRIPTION:Est
 i szertartás kínai nyelven.\\nHelyszín: Kővágóör
 s Amitábha
  templom
LOCATION:Kővágóörs\, Amitábha templom
URL:https://tfd
 k.hu/dual_event/esti-szertartas/
END:VEVENT
BEGIN:VEVENT
UID:dualevcal-68-1968251400@tfdk.hu
DTSTAMP:20260425T19
 2622Z
DTSTART;TZID=Europe/Budapest:20320515T183000
DTEND;TZID=Europ
 e/Budapest:20320515T200000
SUMMARY:Esti szertartás
DESCRIPTION:Est
 i szertartás kínai nyelven.\\nHelyszín: Kővágóör
 s Amitábha
  templom
LOCATION:Kővágóörs\, Amitábha templom
URL:https://tfd
 k.hu/dual_event/esti-szertartas/
END:VEVENT
BEGIN:VEVENT
UID:dualevcal-68-1968856200@tfdk.hu
DTSTAMP:20260425T19
 2622Z
DTSTART;TZID=Europe/Budapest:20320522T183000
DTEND;TZID=Europ
 e/Budapest:20320522T200000
SUMMARY:Esti szertartás
DESCRIPTION:Est
 i szertartás kínai nyelven.\\nHelyszín: Kővágóör
 s Amitábha
  templom
LOCATION:Kővágóörs\, Amitábha templom
URL:https://tfd
 k.hu/dual_event/esti-szertartas/
END:VEVENT
BEGIN:VEVENT
UID:dualevcal-68-1969461000@tfdk.hu
DTSTAMP:20260425T19
 2622Z
DTSTART;TZID=Europe/Budapest:20320529T183000
DTEND;TZID=Europ
 e/Budapest:20320529T200000
SUMMARY:Esti szertartás
DESCRIPTION:Est
 i szertartás kínai nyelven.\\nHelyszín: Kővágóör
 s Amitábha
  templom
LOCATION:Kővágóörs\, Amitábha templom
URL:https://tfd
 k.hu/dual_event/esti-szertartas/
END:VEVENT
BEGIN:VEVENT
UID:dualevcal-67-1967597100@tfdk.hu
DTSTAMP:20260425T19
 2622Z
DTSTART;TZID=Europe/Budapest:20320508T044500
DTEND;TZID=Europ
 e/Budapest:20320508T063000
SUMMARY:Reggeli szertartás
DESCRIPTION:
 Reggeli szartartás kínai nyelven.\\nHelyszín: Kővágó
 örs\, A
 mitábha templom
LOCATION:Kővágóörs
URL:https://tfdk.hu/dual_ev
 ent/reggeli-szertartas-kovagoors/
END:VEVENT
BEGIN:VEVENT
UID:dualevcal-67-1968806700@tfdk.hu
DTSTAMP:20260425T19
 2622Z
DTSTART;TZID=Europe/Budapest:20320522T044500
DTEND;TZID=Europ
 e/Budapest:20320522T063000
SUMMARY:Reggeli szertartás
DESCRIPTION:
 Reggeli szartartás kínai nyelven.\\nHelyszín: Kővágó
 örs\, A
 mitábha templom
LOCATION:Kővágóörs
URL:https://tfdk.hu/dual_ev
 ent/reggeli-szertartas-kovagoors/
END:VEVENT
BEGIN:VEVENT
UID:dualevcal-64-1966992300@tfdk.hu
DTSTAMP:20260425T19
 2622Z
DTSTART;TZID=Europe/Budapest:20320501T044500
DTEND;TZID=Europ
 e/Budapest:20320501T063000
SUMMARY:Reggeli szertartás
DESCRIPTION:
 Reggeli szertartás kínai nyelven.\\nHelyszín: Magyarpol
 ány
LO
 CATION:Magyarpolány
URL:https://tfdk.hu/dual_event/reggeli-szertart
 as-magyarpolany/
END:VEVENT
BEGIN:VEVENT
UID:dualevcal-64-1968201900@tfdk.hu
DTSTAMP:20260425T19
 2622Z
DTSTART;TZID=Europe/Budapest:20320515T044500
DTEND;TZID=Europ
 e/Budapest:20320515T063000
SUMMARY:Reggeli szertartás
DESCRIPTION:
 Reggeli szertartás kínai nyelven.\\nHelyszín: Magyarpol
 ány
LO
 CATION:Magyarpolány
URL:https://tfdk.hu/dual_event/reggeli-szertart
 as-magyarpolany/
END:VEVENT
BEGIN:VEVENT
UID:dualevcal-64-1969411500@tfdk.hu
DTSTAMP:20260425T19
 2622Z
DTSTART;TZID=Europe/Budapest:20320529T044500
DTEND;TZID=Europ
 e/Budapest:20320529T063000
SUMMARY:Reggeli szertartás
DESCRIPTION:
 Reggeli szertartás kínai nyelven.\\nHelyszín: Magyarpol
 ány
LO
 CATION:Magyarpolány
URL:https://tfdk.hu/dual_event/reggeli-szertart
 as-magyarpolany/
END:VEVENT
END:VCALENDAR
