BEGIN:VCALENDAR
VERSION:2.0
PRODID:-//Dual Event Calendar//EN
CALSCALE:GREGORIAN
X-WR-CALNAME:Dual Event Calendar - April 2032
X-WR-TIMEZONE:Europe/Budapest
BEGIN:VEVENT
UID:dualevcal-68-1964622600@tfdk.hu
DTSTAMP:20260425T18
 0006Z
DTSTART;TZID=Europe/Budapest:20320403T183000
DTEND;TZID=Europ
 e/Budapest:20320403T200000
SUMMARY:Esti szertartás
DESCRIPTION:Est
 i szertartás kínai nyelven.\\nHelyszín: Kővágóör
 s Amitábha
  templom
LOCATION:Kővágóörs\, Amitábha templom
URL:https://tfd
 k.hu/dual_event/esti-szertartas/
END:VEVENT
BEGIN:VEVENT
UID:dualevcal-68-1965227400@tfdk.hu
DTSTAMP:20260425T18
 0006Z
DTSTART;TZID=Europe/Budapest:20320410T183000
DTEND;TZID=Europ
 e/Budapest:20320410T200000
SUMMARY:Esti szertartás
DESCRIPTION:Est
 i szertartás kínai nyelven.\\nHelyszín: Kővágóör
 s Amitábha
  templom
LOCATION:Kővágóörs\, Amitábha templom
URL:https://tfd
 k.hu/dual_event/esti-szertartas/
END:VEVENT
BEGIN:VEVENT
UID:dualevcal-68-1965832200@tfdk.hu
DTSTAMP:20260425T18
 0006Z
DTSTART;TZID=Europe/Budapest:20320417T183000
DTEND;TZID=Europ
 e/Budapest:20320417T200000
SUMMARY:Esti szertartás
DESCRIPTION:Est
 i szertartás kínai nyelven.\\nHelyszín: Kővágóör
 s Amitábha
  templom
LOCATION:Kővágóörs\, Amitábha templom
URL:https://tfd
 k.hu/dual_event/esti-szertartas/
END:VEVENT
BEGIN:VEVENT
UID:dualevcal-68-1966437000@tfdk.hu
DTSTAMP:20260425T18
 0006Z
DTSTART;TZID=Europe/Budapest:20320424T183000
DTEND;TZID=Europ
 e/Budapest:20320424T200000
SUMMARY:Esti szertartás
DESCRIPTION:Est
 i szertartás kínai nyelven.\\nHelyszín: Kővágóör
 s Amitábha
  templom
LOCATION:Kővágóörs\, Amitábha templom
URL:https://tfd
 k.hu/dual_event/esti-szertartas/
END:VEVENT
BEGIN:VEVENT
UID:dualevcal-67-1965177900@tfdk.hu
DTSTAMP:20260425T18
 0006Z
DTSTART;TZID=Europe/Budapest:20320410T044500
DTEND;TZID=Europ
 e/Budapest:20320410T063000
SUMMARY:Reggeli szertartás
DESCRIPTION:
 Reggeli szartartás kínai nyelven.\\nHelyszín: Kővágó
 örs\, A
 mitábha templom
LOCATION:Kővágóörs
URL:https://tfdk.hu/dual_ev
 ent/reggeli-szertartas-kovagoors/
END:VEVENT
BEGIN:VEVENT
UID:dualevcal-67-1966387500@tfdk.hu
DTSTAMP:20260425T18
 0006Z
DTSTART;TZID=Europe/Budapest:20320424T044500
DTEND;TZID=Europ
 e/Budapest:20320424T063000
SUMMARY:Reggeli szertartás
DESCRIPTION:
 Reggeli szartartás kínai nyelven.\\nHelyszín: Kővágó
 örs\, A
 mitábha templom
LOCATION:Kővágóörs
URL:https://tfdk.hu/dual_ev
 ent/reggeli-szertartas-kovagoors/
END:VEVENT
BEGIN:VEVENT
UID:dualevcal-64-1964573100@tfdk.hu
DTSTAMP:20260425T18
 0006Z
DTSTART;TZID=Europe/Budapest:20320403T044500
DTEND;TZID=Europ
 e/Budapest:20320403T063000
SUMMARY:Reggeli szertartás
DESCRIPTION:
 Reggeli szertartás kínai nyelven.\\nHelyszín: Magyarpol
 ány
LO
 CATION:Magyarpolány
URL:https://tfdk.hu/dual_event/reggeli-szertart
 as-magyarpolany/
END:VEVENT
BEGIN:VEVENT
UID:dualevcal-64-1965782700@tfdk.hu
DTSTAMP:20260425T18
 0006Z
DTSTART;TZID=Europe/Budapest:20320417T044500
DTEND;TZID=Europ
 e/Budapest:20320417T063000
SUMMARY:Reggeli szertartás
DESCRIPTION:
 Reggeli szertartás kínai nyelven.\\nHelyszín: Magyarpol
 ány
LO
 CATION:Magyarpolány
URL:https://tfdk.hu/dual_event/reggeli-szertart
 as-magyarpolany/
END:VEVENT
END:VCALENDAR
