BEGIN:VCALENDAR
VERSION:2.0
PRODID:-//Dual Event Calendar//EN
CALSCALE:GREGORIAN
X-WR-CALNAME:Dual Event Calendar - February 2032
X-WR-TIMEZONE:Europe/Budapest
BEGIN:VEVENT
UID:dualevcal-68-1959787800@tfdk.hu
DTSTAMP:20260425T14
 5933Z
DTSTART;TZID=Europe/Budapest:20320207T183000
DTEND;TZID=Europ
 e/Budapest:20320207T200000
SUMMARY:Esti szertartás
DESCRIPTION:Est
 i szertartás kínai nyelven.\\nHelyszín: Kővágóör
 s Amitábha
  templom
LOCATION:Kővágóörs\, Amitábha templom
URL:https://tfd
 k.hu/dual_event/esti-szertartas/
END:VEVENT
BEGIN:VEVENT
UID:dualevcal-68-1960392600@tfdk.hu
DTSTAMP:20260425T14
 5933Z
DTSTART;TZID=Europe/Budapest:20320214T183000
DTEND;TZID=Europ
 e/Budapest:20320214T200000
SUMMARY:Esti szertartás
DESCRIPTION:Est
 i szertartás kínai nyelven.\\nHelyszín: Kővágóör
 s Amitábha
  templom
LOCATION:Kővágóörs\, Amitábha templom
URL:https://tfd
 k.hu/dual_event/esti-szertartas/
END:VEVENT
BEGIN:VEVENT
UID:dualevcal-68-1960997400@tfdk.hu
DTSTAMP:20260425T14
 5933Z
DTSTART;TZID=Europe/Budapest:20320221T183000
DTEND;TZID=Europ
 e/Budapest:20320221T200000
SUMMARY:Esti szertartás
DESCRIPTION:Est
 i szertartás kínai nyelven.\\nHelyszín: Kővágóör
 s Amitábha
  templom
LOCATION:Kővágóörs\, Amitábha templom
URL:https://tfd
 k.hu/dual_event/esti-szertartas/
END:VEVENT
BEGIN:VEVENT
UID:dualevcal-68-1961602200@tfdk.hu
DTSTAMP:20260425T14
 5933Z
DTSTART;TZID=Europe/Budapest:20320228T183000
DTEND;TZID=Europ
 e/Budapest:20320228T200000
SUMMARY:Esti szertartás
DESCRIPTION:Est
 i szertartás kínai nyelven.\\nHelyszín: Kővágóör
 s Amitábha
  templom
LOCATION:Kővágóörs\, Amitábha templom
URL:https://tfd
 k.hu/dual_event/esti-szertartas/
END:VEVENT
BEGIN:VEVENT
UID:dualevcal-67-1959738300@tfdk.hu
DTSTAMP:20260425T14
 5933Z
DTSTART;TZID=Europe/Budapest:20320207T044500
DTEND;TZID=Europ
 e/Budapest:20320207T063000
SUMMARY:Reggeli szertartás
DESCRIPTION:
 Reggeli szartartás kínai nyelven.\\nHelyszín: Kővágó
 örs\, A
 mitábha templom
LOCATION:Kővágóörs
URL:https://tfdk.hu/dual_ev
 ent/reggeli-szertartas-kovagoors/
END:VEVENT
BEGIN:VEVENT
UID:dualevcal-67-1960947900@tfdk.hu
DTSTAMP:20260425T14
 5933Z
DTSTART;TZID=Europe/Budapest:20320221T044500
DTEND;TZID=Europ
 e/Budapest:20320221T063000
SUMMARY:Reggeli szertartás
DESCRIPTION:
 Reggeli szartartás kínai nyelven.\\nHelyszín: Kővágó
 örs\, A
 mitábha templom
LOCATION:Kővágóörs
URL:https://tfdk.hu/dual_ev
 ent/reggeli-szertartas-kovagoors/
END:VEVENT
BEGIN:VEVENT
UID:dualevcal-64-1960343100@tfdk.hu
DTSTAMP:20260425T14
 5933Z
DTSTART;TZID=Europe/Budapest:20320214T044500
DTEND;TZID=Europ
 e/Budapest:20320214T063000
SUMMARY:Reggeli szertartás
DESCRIPTION:
 Reggeli szertartás kínai nyelven.\\nHelyszín: Magyarpol
 ány
LO
 CATION:Magyarpolány
URL:https://tfdk.hu/dual_event/reggeli-szertart
 as-magyarpolany/
END:VEVENT
BEGIN:VEVENT
UID:dualevcal-64-1961552700@tfdk.hu
DTSTAMP:20260425T14
 5933Z
DTSTART;TZID=Europe/Budapest:20320228T044500
DTEND;TZID=Europ
 e/Budapest:20320228T063000
SUMMARY:Reggeli szertartás
DESCRIPTION:
 Reggeli szertartás kínai nyelven.\\nHelyszín: Magyarpol
 ány
LO
 CATION:Magyarpolány
URL:https://tfdk.hu/dual_event/reggeli-szertart
 as-magyarpolany/
END:VEVENT
END:VCALENDAR
