BEGIN:VCALENDAR
VERSION:2.0
PRODID:-//Dual Event Calendar//EN
CALSCALE:GREGORIAN
X-WR-CALNAME:Dual Event Calendar - January 2032
X-WR-TIMEZONE:Europe/Budapest
BEGIN:VEVENT
UID:dualevcal-68-1956763800@tfdk.hu
DTSTAMP:20260425T13
 2610Z
DTSTART;TZID=Europe/Budapest:20320103T183000
DTEND;TZID=Europ
 e/Budapest:20320103T200000
SUMMARY:Esti szertartás
DESCRIPTION:Est
 i szertartás kínai nyelven.\\nHelyszín: Kővágóör
 s Amitábha
  templom
LOCATION:Kővágóörs\, Amitábha templom
URL:https://tfd
 k.hu/dual_event/esti-szertartas/
END:VEVENT
BEGIN:VEVENT
UID:dualevcal-68-1957368600@tfdk.hu
DTSTAMP:20260425T13
 2610Z
DTSTART;TZID=Europe/Budapest:20320110T183000
DTEND;TZID=Europ
 e/Budapest:20320110T200000
SUMMARY:Esti szertartás
DESCRIPTION:Est
 i szertartás kínai nyelven.\\nHelyszín: Kővágóör
 s Amitábha
  templom
LOCATION:Kővágóörs\, Amitábha templom
URL:https://tfd
 k.hu/dual_event/esti-szertartas/
END:VEVENT
BEGIN:VEVENT
UID:dualevcal-68-1957973400@tfdk.hu
DTSTAMP:20260425T13
 2610Z
DTSTART;TZID=Europe/Budapest:20320117T183000
DTEND;TZID=Europ
 e/Budapest:20320117T200000
SUMMARY:Esti szertartás
DESCRIPTION:Est
 i szertartás kínai nyelven.\\nHelyszín: Kővágóör
 s Amitábha
  templom
LOCATION:Kővágóörs\, Amitábha templom
URL:https://tfd
 k.hu/dual_event/esti-szertartas/
END:VEVENT
BEGIN:VEVENT
UID:dualevcal-68-1958578200@tfdk.hu
DTSTAMP:20260425T13
 2610Z
DTSTART;TZID=Europe/Budapest:20320124T183000
DTEND;TZID=Europ
 e/Budapest:20320124T200000
SUMMARY:Esti szertartás
DESCRIPTION:Est
 i szertartás kínai nyelven.\\nHelyszín: Kővágóör
 s Amitábha
  templom
LOCATION:Kővágóörs\, Amitábha templom
URL:https://tfd
 k.hu/dual_event/esti-szertartas/
END:VEVENT
BEGIN:VEVENT
UID:dualevcal-68-1959183000@tfdk.hu
DTSTAMP:20260425T13
 2610Z
DTSTART;TZID=Europe/Budapest:20320131T183000
DTEND;TZID=Europ
 e/Budapest:20320131T200000
SUMMARY:Esti szertartás
DESCRIPTION:Est
 i szertartás kínai nyelven.\\nHelyszín: Kővágóör
 s Amitábha
  templom
LOCATION:Kővágóörs\, Amitábha templom
URL:https://tfd
 k.hu/dual_event/esti-szertartas/
END:VEVENT
BEGIN:VEVENT
UID:dualevcal-67-1957319100@tfdk.hu
DTSTAMP:20260425T13
 2610Z
DTSTART;TZID=Europe/Budapest:20320110T044500
DTEND;TZID=Europ
 e/Budapest:20320110T063000
SUMMARY:Reggeli szertartás
DESCRIPTION:
 Reggeli szartartás kínai nyelven.\\nHelyszín: Kővágó
 örs\, A
 mitábha templom
LOCATION:Kővágóörs
URL:https://tfdk.hu/dual_ev
 ent/reggeli-szertartas-kovagoors/
END:VEVENT
BEGIN:VEVENT
UID:dualevcal-67-1958528700@tfdk.hu
DTSTAMP:20260425T13
 2610Z
DTSTART;TZID=Europe/Budapest:20320124T044500
DTEND;TZID=Europ
 e/Budapest:20320124T063000
SUMMARY:Reggeli szertartás
DESCRIPTION:
 Reggeli szartartás kínai nyelven.\\nHelyszín: Kővágó
 örs\, A
 mitábha templom
LOCATION:Kővágóörs
URL:https://tfdk.hu/dual_ev
 ent/reggeli-szertartas-kovagoors/
END:VEVENT
BEGIN:VEVENT
UID:dualevcal-64-1956714300@tfdk.hu
DTSTAMP:20260425T13
 2610Z
DTSTART;TZID=Europe/Budapest:20320103T044500
DTEND;TZID=Europ
 e/Budapest:20320103T063000
SUMMARY:Reggeli szertartás
DESCRIPTION:
 Reggeli szertartás kínai nyelven.\\nHelyszín: Magyarpol
 ány
LO
 CATION:Magyarpolány
URL:https://tfdk.hu/dual_event/reggeli-szertart
 as-magyarpolany/
END:VEVENT
BEGIN:VEVENT
UID:dualevcal-64-1957923900@tfdk.hu
DTSTAMP:20260425T13
 2610Z
DTSTART;TZID=Europe/Budapest:20320117T044500
DTEND;TZID=Europ
 e/Budapest:20320117T063000
SUMMARY:Reggeli szertartás
DESCRIPTION:
 Reggeli szertartás kínai nyelven.\\nHelyszín: Magyarpol
 ány
LO
 CATION:Magyarpolány
URL:https://tfdk.hu/dual_event/reggeli-szertart
 as-magyarpolany/
END:VEVENT
BEGIN:VEVENT
UID:dualevcal-64-1959133500@tfdk.hu
DTSTAMP:20260425T13
 2610Z
DTSTART;TZID=Europe/Budapest:20320131T044500
DTEND;TZID=Europ
 e/Budapest:20320131T063000
SUMMARY:Reggeli szertartás
DESCRIPTION:
 Reggeli szertartás kínai nyelven.\\nHelyszín: Magyarpol
 ány
LO
 CATION:Magyarpolány
URL:https://tfdk.hu/dual_event/reggeli-szertart
 as-magyarpolany/
END:VEVENT
END:VCALENDAR
