BEGIN:VCALENDAR
VERSION:2.0
PRODID:-//Dual Event Calendar//EN
CALSCALE:GREGORIAN
X-WR-CALNAME:Dual Event Calendar - December 2031
X-WR-TIMEZONE:Europe/Budapest
BEGIN:VEVENT
UID:dualevcal-68-1954344600@tfdk.hu
DTSTAMP:20260425T11
 5537Z
DTSTART;TZID=Europe/Budapest:20311206T183000
DTEND;TZID=Europ
 e/Budapest:20311206T200000
SUMMARY:Esti szertartás
DESCRIPTION:Est
 i szertartás kínai nyelven.\\nHelyszín: Kővágóör
 s Amitábha
  templom
LOCATION:Kővágóörs\, Amitábha templom
URL:https://tfd
 k.hu/dual_event/esti-szertartas/
END:VEVENT
BEGIN:VEVENT
UID:dualevcal-68-1954949400@tfdk.hu
DTSTAMP:20260425T11
 5537Z
DTSTART;TZID=Europe/Budapest:20311213T183000
DTEND;TZID=Europ
 e/Budapest:20311213T200000
SUMMARY:Esti szertartás
DESCRIPTION:Est
 i szertartás kínai nyelven.\\nHelyszín: Kővágóör
 s Amitábha
  templom
LOCATION:Kővágóörs\, Amitábha templom
URL:https://tfd
 k.hu/dual_event/esti-szertartas/
END:VEVENT
BEGIN:VEVENT
UID:dualevcal-68-1955554200@tfdk.hu
DTSTAMP:20260425T11
 5537Z
DTSTART;TZID=Europe/Budapest:20311220T183000
DTEND;TZID=Europ
 e/Budapest:20311220T200000
SUMMARY:Esti szertartás
DESCRIPTION:Est
 i szertartás kínai nyelven.\\nHelyszín: Kővágóör
 s Amitábha
  templom
LOCATION:Kővágóörs\, Amitábha templom
URL:https://tfd
 k.hu/dual_event/esti-szertartas/
END:VEVENT
BEGIN:VEVENT
UID:dualevcal-68-1956159000@tfdk.hu
DTSTAMP:20260425T11
 5537Z
DTSTART;TZID=Europe/Budapest:20311227T183000
DTEND;TZID=Europ
 e/Budapest:20311227T200000
SUMMARY:Esti szertartás
DESCRIPTION:Est
 i szertartás kínai nyelven.\\nHelyszín: Kővágóör
 s Amitábha
  templom
LOCATION:Kővágóörs\, Amitábha templom
URL:https://tfd
 k.hu/dual_event/esti-szertartas/
END:VEVENT
BEGIN:VEVENT
UID:dualevcal-67-1954899900@tfdk.hu
DTSTAMP:20260425T11
 5537Z
DTSTART;TZID=Europe/Budapest:20311213T044500
DTEND;TZID=Europ
 e/Budapest:20311213T063000
SUMMARY:Reggeli szertartás
DESCRIPTION:
 Reggeli szartartás kínai nyelven.\\nHelyszín: Kővágó
 örs\, A
 mitábha templom
LOCATION:Kővágóörs
URL:https://tfdk.hu/dual_ev
 ent/reggeli-szertartas-kovagoors/
END:VEVENT
BEGIN:VEVENT
UID:dualevcal-67-1956109500@tfdk.hu
DTSTAMP:20260425T11
 5537Z
DTSTART;TZID=Europe/Budapest:20311227T044500
DTEND;TZID=Europ
 e/Budapest:20311227T063000
SUMMARY:Reggeli szertartás
DESCRIPTION:
 Reggeli szartartás kínai nyelven.\\nHelyszín: Kővágó
 örs\, A
 mitábha templom
LOCATION:Kővágóörs
URL:https://tfdk.hu/dual_ev
 ent/reggeli-szertartas-kovagoors/
END:VEVENT
BEGIN:VEVENT
UID:dualevcal-64-1954295100@tfdk.hu
DTSTAMP:20260425T11
 5537Z
DTSTART;TZID=Europe/Budapest:20311206T044500
DTEND;TZID=Europ
 e/Budapest:20311206T063000
SUMMARY:Reggeli szertartás
DESCRIPTION:
 Reggeli szertartás kínai nyelven.\\nHelyszín: Magyarpol
 ány
LO
 CATION:Magyarpolány
URL:https://tfdk.hu/dual_event/reggeli-szertart
 as-magyarpolany/
END:VEVENT
BEGIN:VEVENT
UID:dualevcal-64-1955504700@tfdk.hu
DTSTAMP:20260425T11
 5537Z
DTSTART;TZID=Europe/Budapest:20311220T044500
DTEND;TZID=Europ
 e/Budapest:20311220T063000
SUMMARY:Reggeli szertartás
DESCRIPTION:
 Reggeli szertartás kínai nyelven.\\nHelyszín: Magyarpol
 ány
LO
 CATION:Magyarpolány
URL:https://tfdk.hu/dual_event/reggeli-szertart
 as-magyarpolany/
END:VEVENT
END:VCALENDAR
