BEGIN:VCALENDAR
VERSION:2.0
PRODID:-//Dual Event Calendar//EN
CALSCALE:GREGORIAN
X-WR-CALNAME:Dual Event Calendar - November 2031
X-WR-TIMEZONE:Europe/Budapest
BEGIN:VEVENT
UID:dualevcal-68-1951320600@tfdk.hu
DTSTAMP:20260425T10
 3007Z
DTSTART;TZID=Europe/Budapest:20311101T183000
DTEND;TZID=Europ
 e/Budapest:20311101T200000
SUMMARY:Esti szertartás
DESCRIPTION:Est
 i szertartás kínai nyelven.\\nHelyszín: Kővágóör
 s Amitábha
  templom
LOCATION:Kővágóörs\, Amitábha templom
URL:https://tfd
 k.hu/dual_event/esti-szertartas/
END:VEVENT
BEGIN:VEVENT
UID:dualevcal-68-1951925400@tfdk.hu
DTSTAMP:20260425T10
 3007Z
DTSTART;TZID=Europe/Budapest:20311108T183000
DTEND;TZID=Europ
 e/Budapest:20311108T200000
SUMMARY:Esti szertartás
DESCRIPTION:Est
 i szertartás kínai nyelven.\\nHelyszín: Kővágóör
 s Amitábha
  templom
LOCATION:Kővágóörs\, Amitábha templom
URL:https://tfd
 k.hu/dual_event/esti-szertartas/
END:VEVENT
BEGIN:VEVENT
UID:dualevcal-68-1952530200@tfdk.hu
DTSTAMP:20260425T10
 3007Z
DTSTART;TZID=Europe/Budapest:20311115T183000
DTEND;TZID=Europ
 e/Budapest:20311115T200000
SUMMARY:Esti szertartás
DESCRIPTION:Est
 i szertartás kínai nyelven.\\nHelyszín: Kővágóör
 s Amitábha
  templom
LOCATION:Kővágóörs\, Amitábha templom
URL:https://tfd
 k.hu/dual_event/esti-szertartas/
END:VEVENT
BEGIN:VEVENT
UID:dualevcal-68-1953135000@tfdk.hu
DTSTAMP:20260425T10
 3007Z
DTSTART;TZID=Europe/Budapest:20311122T183000
DTEND;TZID=Europ
 e/Budapest:20311122T200000
SUMMARY:Esti szertartás
DESCRIPTION:Est
 i szertartás kínai nyelven.\\nHelyszín: Kővágóör
 s Amitábha
  templom
LOCATION:Kővágóörs\, Amitábha templom
URL:https://tfd
 k.hu/dual_event/esti-szertartas/
END:VEVENT
BEGIN:VEVENT
UID:dualevcal-68-1953739800@tfdk.hu
DTSTAMP:20260425T10
 3007Z
DTSTART;TZID=Europe/Budapest:20311129T183000
DTEND;TZID=Europ
 e/Budapest:20311129T200000
SUMMARY:Esti szertartás
DESCRIPTION:Est
 i szertartás kínai nyelven.\\nHelyszín: Kővágóör
 s Amitábha
  templom
LOCATION:Kővágóörs\, Amitábha templom
URL:https://tfd
 k.hu/dual_event/esti-szertartas/
END:VEVENT
BEGIN:VEVENT
UID:dualevcal-67-1951271100@tfdk.hu
DTSTAMP:20260425T10
 3007Z
DTSTART;TZID=Europe/Budapest:20311101T044500
DTEND;TZID=Europ
 e/Budapest:20311101T063000
SUMMARY:Reggeli szertartás
DESCRIPTION:
 Reggeli szartartás kínai nyelven.\\nHelyszín: Kővágó
 örs\, A
 mitábha templom
LOCATION:Kővágóörs
URL:https://tfdk.hu/dual_ev
 ent/reggeli-szertartas-kovagoors/
END:VEVENT
BEGIN:VEVENT
UID:dualevcal-67-1952480700@tfdk.hu
DTSTAMP:20260425T10
 3007Z
DTSTART;TZID=Europe/Budapest:20311115T044500
DTEND;TZID=Europ
 e/Budapest:20311115T063000
SUMMARY:Reggeli szertartás
DESCRIPTION:
 Reggeli szartartás kínai nyelven.\\nHelyszín: Kővágó
 örs\, A
 mitábha templom
LOCATION:Kővágóörs
URL:https://tfdk.hu/dual_ev
 ent/reggeli-szertartas-kovagoors/
END:VEVENT
BEGIN:VEVENT
UID:dualevcal-67-1953690300@tfdk.hu
DTSTAMP:20260425T10
 3007Z
DTSTART;TZID=Europe/Budapest:20311129T044500
DTEND;TZID=Europ
 e/Budapest:20311129T063000
SUMMARY:Reggeli szertartás
DESCRIPTION:
 Reggeli szartartás kínai nyelven.\\nHelyszín: Kővágó
 örs\, A
 mitábha templom
LOCATION:Kővágóörs
URL:https://tfdk.hu/dual_ev
 ent/reggeli-szertartas-kovagoors/
END:VEVENT
BEGIN:VEVENT
UID:dualevcal-64-1951875900@tfdk.hu
DTSTAMP:20260425T10
 3007Z
DTSTART;TZID=Europe/Budapest:20311108T044500
DTEND;TZID=Europ
 e/Budapest:20311108T063000
SUMMARY:Reggeli szertartás
DESCRIPTION:
 Reggeli szertartás kínai nyelven.\\nHelyszín: Magyarpol
 ány
LO
 CATION:Magyarpolány
URL:https://tfdk.hu/dual_event/reggeli-szertart
 as-magyarpolany/
END:VEVENT
BEGIN:VEVENT
UID:dualevcal-64-1953085500@tfdk.hu
DTSTAMP:20260425T10
 3007Z
DTSTART;TZID=Europe/Budapest:20311122T044500
DTEND;TZID=Europ
 e/Budapest:20311122T063000
SUMMARY:Reggeli szertartás
DESCRIPTION:
 Reggeli szertartás kínai nyelven.\\nHelyszín: Magyarpol
 ány
LO
 CATION:Magyarpolány
URL:https://tfdk.hu/dual_event/reggeli-szertart
 as-magyarpolany/
END:VEVENT
END:VCALENDAR
