BEGIN:VCALENDAR
VERSION:2.0
PRODID:-//Dual Event Calendar//EN
CALSCALE:GREGORIAN
X-WR-CALNAME:Dual Event Calendar - June 2031
X-WR-TIMEZONE:Europe/Budapest
BEGIN:VEVENT
UID:dualevcal-68-1938616200@tfdk.hu
DTSTAMP:20260425T03
 0427Z
DTSTART;TZID=Europe/Budapest:20310607T183000
DTEND;TZID=Europ
 e/Budapest:20310607T200000
SUMMARY:Esti szertartás
DESCRIPTION:Est
 i szertartás kínai nyelven.\\nHelyszín: Kővágóör
 s Amitábha
  templom
LOCATION:Kővágóörs\, Amitábha templom
URL:https://tfd
 k.hu/dual_event/esti-szertartas/
END:VEVENT
BEGIN:VEVENT
UID:dualevcal-68-1939221000@tfdk.hu
DTSTAMP:20260425T03
 0427Z
DTSTART;TZID=Europe/Budapest:20310614T183000
DTEND;TZID=Europ
 e/Budapest:20310614T200000
SUMMARY:Esti szertartás
DESCRIPTION:Est
 i szertartás kínai nyelven.\\nHelyszín: Kővágóör
 s Amitábha
  templom
LOCATION:Kővágóörs\, Amitábha templom
URL:https://tfd
 k.hu/dual_event/esti-szertartas/
END:VEVENT
BEGIN:VEVENT
UID:dualevcal-68-1939825800@tfdk.hu
DTSTAMP:20260425T03
 0427Z
DTSTART;TZID=Europe/Budapest:20310621T183000
DTEND;TZID=Europ
 e/Budapest:20310621T200000
SUMMARY:Esti szertartás
DESCRIPTION:Est
 i szertartás kínai nyelven.\\nHelyszín: Kővágóör
 s Amitábha
  templom
LOCATION:Kővágóörs\, Amitábha templom
URL:https://tfd
 k.hu/dual_event/esti-szertartas/
END:VEVENT
BEGIN:VEVENT
UID:dualevcal-68-1940430600@tfdk.hu
DTSTAMP:20260425T03
 0427Z
DTSTART;TZID=Europe/Budapest:20310628T183000
DTEND;TZID=Europ
 e/Budapest:20310628T200000
SUMMARY:Esti szertartás
DESCRIPTION:Est
 i szertartás kínai nyelven.\\nHelyszín: Kővágóör
 s Amitábha
  templom
LOCATION:Kővágóörs\, Amitábha templom
URL:https://tfd
 k.hu/dual_event/esti-szertartas/
END:VEVENT
BEGIN:VEVENT
UID:dualevcal-67-1938566700@tfdk.hu
DTSTAMP:20260425T03
 0427Z
DTSTART;TZID=Europe/Budapest:20310607T044500
DTEND;TZID=Europ
 e/Budapest:20310607T063000
SUMMARY:Reggeli szertartás
DESCRIPTION:
 Reggeli szartartás kínai nyelven.\\nHelyszín: Kővágó
 örs\, A
 mitábha templom
LOCATION:Kővágóörs
URL:https://tfdk.hu/dual_ev
 ent/reggeli-szertartas-kovagoors/
END:VEVENT
BEGIN:VEVENT
UID:dualevcal-67-1939776300@tfdk.hu
DTSTAMP:20260425T03
 0427Z
DTSTART;TZID=Europe/Budapest:20310621T044500
DTEND;TZID=Europ
 e/Budapest:20310621T063000
SUMMARY:Reggeli szertartás
DESCRIPTION:
 Reggeli szartartás kínai nyelven.\\nHelyszín: Kővágó
 örs\, A
 mitábha templom
LOCATION:Kővágóörs
URL:https://tfdk.hu/dual_ev
 ent/reggeli-szertartas-kovagoors/
END:VEVENT
BEGIN:VEVENT
UID:dualevcal-64-1939171500@tfdk.hu
DTSTAMP:20260425T03
 0427Z
DTSTART;TZID=Europe/Budapest:20310614T044500
DTEND;TZID=Europ
 e/Budapest:20310614T063000
SUMMARY:Reggeli szertartás
DESCRIPTION:
 Reggeli szertartás kínai nyelven.\\nHelyszín: Magyarpol
 ány
LO
 CATION:Magyarpolány
URL:https://tfdk.hu/dual_event/reggeli-szertart
 as-magyarpolany/
END:VEVENT
BEGIN:VEVENT
UID:dualevcal-64-1940381100@tfdk.hu
DTSTAMP:20260425T03
 0427Z
DTSTART;TZID=Europe/Budapest:20310628T044500
DTEND;TZID=Europ
 e/Budapest:20310628T063000
SUMMARY:Reggeli szertartás
DESCRIPTION:
 Reggeli szertartás kínai nyelven.\\nHelyszín: Magyarpol
 ány
LO
 CATION:Magyarpolány
URL:https://tfdk.hu/dual_event/reggeli-szertart
 as-magyarpolany/
END:VEVENT
END:VCALENDAR
