BEGIN:VCALENDAR
VERSION:2.0
PRODID:-//Dual Event Calendar//EN
CALSCALE:GREGORIAN
X-WR-CALNAME:Dual Event Calendar - March 2031
X-WR-TIMEZONE:Europe/Budapest
BEGIN:VEVENT
UID:dualevcal-68-1930152600@tfdk.hu
DTSTAMP:20260424T22
 5349Z
DTSTART;TZID=Europe/Budapest:20310301T183000
DTEND;TZID=Europ
 e/Budapest:20310301T200000
SUMMARY:Esti szertartás
DESCRIPTION:Est
 i szertartás kínai nyelven.\\nHelyszín: Kővágóör
 s Amitábha
  templom
LOCATION:Kővágóörs\, Amitábha templom
URL:https://tfd
 k.hu/dual_event/esti-szertartas/
END:VEVENT
BEGIN:VEVENT
UID:dualevcal-68-1930757400@tfdk.hu
DTSTAMP:20260424T22
 5349Z
DTSTART;TZID=Europe/Budapest:20310308T183000
DTEND;TZID=Europ
 e/Budapest:20310308T200000
SUMMARY:Esti szertartás
DESCRIPTION:Est
 i szertartás kínai nyelven.\\nHelyszín: Kővágóör
 s Amitábha
  templom
LOCATION:Kővágóörs\, Amitábha templom
URL:https://tfd
 k.hu/dual_event/esti-szertartas/
END:VEVENT
BEGIN:VEVENT
UID:dualevcal-68-1931362200@tfdk.hu
DTSTAMP:20260424T22
 5349Z
DTSTART;TZID=Europe/Budapest:20310315T183000
DTEND;TZID=Europ
 e/Budapest:20310315T200000
SUMMARY:Esti szertartás
DESCRIPTION:Est
 i szertartás kínai nyelven.\\nHelyszín: Kővágóör
 s Amitábha
  templom
LOCATION:Kővágóörs\, Amitábha templom
URL:https://tfd
 k.hu/dual_event/esti-szertartas/
END:VEVENT
BEGIN:VEVENT
UID:dualevcal-68-1931967000@tfdk.hu
DTSTAMP:20260424T22
 5349Z
DTSTART;TZID=Europe/Budapest:20310322T183000
DTEND;TZID=Europ
 e/Budapest:20310322T200000
SUMMARY:Esti szertartás
DESCRIPTION:Est
 i szertartás kínai nyelven.\\nHelyszín: Kővágóör
 s Amitábha
  templom
LOCATION:Kővágóörs\, Amitábha templom
URL:https://tfd
 k.hu/dual_event/esti-szertartas/
END:VEVENT
BEGIN:VEVENT
UID:dualevcal-68-1932571800@tfdk.hu
DTSTAMP:20260424T22
 5349Z
DTSTART;TZID=Europe/Budapest:20310329T183000
DTEND;TZID=Europ
 e/Budapest:20310329T200000
SUMMARY:Esti szertartás
DESCRIPTION:Est
 i szertartás kínai nyelven.\\nHelyszín: Kővágóör
 s Amitábha
  templom
LOCATION:Kővágóörs\, Amitábha templom
URL:https://tfd
 k.hu/dual_event/esti-szertartas/
END:VEVENT
BEGIN:VEVENT
UID:dualevcal-67-1930707900@tfdk.hu
DTSTAMP:20260424T22
 5349Z
DTSTART;TZID=Europe/Budapest:20310308T044500
DTEND;TZID=Europ
 e/Budapest:20310308T063000
SUMMARY:Reggeli szertartás
DESCRIPTION:
 Reggeli szartartás kínai nyelven.\\nHelyszín: Kővágó
 örs\, A
 mitábha templom
LOCATION:Kővágóörs
URL:https://tfdk.hu/dual_ev
 ent/reggeli-szertartas-kovagoors/
END:VEVENT
BEGIN:VEVENT
UID:dualevcal-67-1931917500@tfdk.hu
DTSTAMP:20260424T22
 5349Z
DTSTART;TZID=Europe/Budapest:20310322T044500
DTEND;TZID=Europ
 e/Budapest:20310322T063000
SUMMARY:Reggeli szertartás
DESCRIPTION:
 Reggeli szartartás kínai nyelven.\\nHelyszín: Kővágó
 örs\, A
 mitábha templom
LOCATION:Kővágóörs
URL:https://tfdk.hu/dual_ev
 ent/reggeli-szertartas-kovagoors/
END:VEVENT
BEGIN:VEVENT
UID:dualevcal-64-1930103100@tfdk.hu
DTSTAMP:20260424T22
 5349Z
DTSTART;TZID=Europe/Budapest:20310301T044500
DTEND;TZID=Europ
 e/Budapest:20310301T063000
SUMMARY:Reggeli szertartás
DESCRIPTION:
 Reggeli szertartás kínai nyelven.\\nHelyszín: Magyarpol
 ány
LO
 CATION:Magyarpolány
URL:https://tfdk.hu/dual_event/reggeli-szertart
 as-magyarpolany/
END:VEVENT
BEGIN:VEVENT
UID:dualevcal-64-1931312700@tfdk.hu
DTSTAMP:20260424T22
 5349Z
DTSTART;TZID=Europe/Budapest:20310315T044500
DTEND;TZID=Europ
 e/Budapest:20310315T063000
SUMMARY:Reggeli szertartás
DESCRIPTION:
 Reggeli szertartás kínai nyelven.\\nHelyszín: Magyarpol
 ány
LO
 CATION:Magyarpolány
URL:https://tfdk.hu/dual_event/reggeli-szertart
 as-magyarpolany/
END:VEVENT
BEGIN:VEVENT
UID:dualevcal-64-1932522300@tfdk.hu
DTSTAMP:20260424T22
 5349Z
DTSTART;TZID=Europe/Budapest:20310329T044500
DTEND;TZID=Europ
 e/Budapest:20310329T063000
SUMMARY:Reggeli szertartás
DESCRIPTION:
 Reggeli szertartás kínai nyelven.\\nHelyszín: Magyarpol
 ány
LO
 CATION:Magyarpolány
URL:https://tfdk.hu/dual_event/reggeli-szertart
 as-magyarpolany/
END:VEVENT
END:VCALENDAR
