BEGIN:VCALENDAR
VERSION:2.0
PRODID:-//Dual Event Calendar//EN
CALSCALE:GREGORIAN
X-WR-CALNAME:Dual Event Calendar - February 2031
X-WR-TIMEZONE:Europe/Budapest
BEGIN:VEVENT
UID:dualevcal-68-1927733400@tfdk.hu
DTSTAMP:20260424T21
 3136Z
DTSTART;TZID=Europe/Budapest:20310201T183000
DTEND;TZID=Europ
 e/Budapest:20310201T200000
SUMMARY:Esti szertartás
DESCRIPTION:Est
 i szertartás kínai nyelven.\\nHelyszín: Kővágóör
 s Amitábha
  templom
LOCATION:Kővágóörs\, Amitábha templom
URL:https://tfd
 k.hu/dual_event/esti-szertartas/
END:VEVENT
BEGIN:VEVENT
UID:dualevcal-68-1928338200@tfdk.hu
DTSTAMP:20260424T21
 3136Z
DTSTART;TZID=Europe/Budapest:20310208T183000
DTEND;TZID=Europ
 e/Budapest:20310208T200000
SUMMARY:Esti szertartás
DESCRIPTION:Est
 i szertartás kínai nyelven.\\nHelyszín: Kővágóör
 s Amitábha
  templom
LOCATION:Kővágóörs\, Amitábha templom
URL:https://tfd
 k.hu/dual_event/esti-szertartas/
END:VEVENT
BEGIN:VEVENT
UID:dualevcal-68-1928943000@tfdk.hu
DTSTAMP:20260424T21
 3136Z
DTSTART;TZID=Europe/Budapest:20310215T183000
DTEND;TZID=Europ
 e/Budapest:20310215T200000
SUMMARY:Esti szertartás
DESCRIPTION:Est
 i szertartás kínai nyelven.\\nHelyszín: Kővágóör
 s Amitábha
  templom
LOCATION:Kővágóörs\, Amitábha templom
URL:https://tfd
 k.hu/dual_event/esti-szertartas/
END:VEVENT
BEGIN:VEVENT
UID:dualevcal-68-1929547800@tfdk.hu
DTSTAMP:20260424T21
 3136Z
DTSTART;TZID=Europe/Budapest:20310222T183000
DTEND;TZID=Europ
 e/Budapest:20310222T200000
SUMMARY:Esti szertartás
DESCRIPTION:Est
 i szertartás kínai nyelven.\\nHelyszín: Kővágóör
 s Amitábha
  templom
LOCATION:Kővágóörs\, Amitábha templom
URL:https://tfd
 k.hu/dual_event/esti-szertartas/
END:VEVENT
BEGIN:VEVENT
UID:dualevcal-67-1928288700@tfdk.hu
DTSTAMP:20260424T21
 3136Z
DTSTART;TZID=Europe/Budapest:20310208T044500
DTEND;TZID=Europ
 e/Budapest:20310208T063000
SUMMARY:Reggeli szertartás
DESCRIPTION:
 Reggeli szartartás kínai nyelven.\\nHelyszín: Kővágó
 örs\, A
 mitábha templom
LOCATION:Kővágóörs
URL:https://tfdk.hu/dual_ev
 ent/reggeli-szertartas-kovagoors/
END:VEVENT
BEGIN:VEVENT
UID:dualevcal-67-1929498300@tfdk.hu
DTSTAMP:20260424T21
 3136Z
DTSTART;TZID=Europe/Budapest:20310222T044500
DTEND;TZID=Europ
 e/Budapest:20310222T063000
SUMMARY:Reggeli szertartás
DESCRIPTION:
 Reggeli szartartás kínai nyelven.\\nHelyszín: Kővágó
 örs\, A
 mitábha templom
LOCATION:Kővágóörs
URL:https://tfdk.hu/dual_ev
 ent/reggeli-szertartas-kovagoors/
END:VEVENT
BEGIN:VEVENT
UID:dualevcal-64-1927683900@tfdk.hu
DTSTAMP:20260424T21
 3136Z
DTSTART;TZID=Europe/Budapest:20310201T044500
DTEND;TZID=Europ
 e/Budapest:20310201T063000
SUMMARY:Reggeli szertartás
DESCRIPTION:
 Reggeli szertartás kínai nyelven.\\nHelyszín: Magyarpol
 ány
LO
 CATION:Magyarpolány
URL:https://tfdk.hu/dual_event/reggeli-szertart
 as-magyarpolany/
END:VEVENT
BEGIN:VEVENT
UID:dualevcal-64-1928893500@tfdk.hu
DTSTAMP:20260424T21
 3136Z
DTSTART;TZID=Europe/Budapest:20310215T044500
DTEND;TZID=Europ
 e/Budapest:20310215T063000
SUMMARY:Reggeli szertartás
DESCRIPTION:
 Reggeli szertartás kínai nyelven.\\nHelyszín: Magyarpol
 ány
LO
 CATION:Magyarpolány
URL:https://tfdk.hu/dual_event/reggeli-szertart
 as-magyarpolany/
END:VEVENT
END:VCALENDAR
