BEGIN:VCALENDAR
VERSION:2.0
PRODID:-//Dual Event Calendar//EN
CALSCALE:GREGORIAN
X-WR-CALNAME:Dual Event Calendar - January 2031
X-WR-TIMEZONE:Europe/Budapest
BEGIN:VEVENT
UID:dualevcal-68-1925314200@tfdk.hu
DTSTAMP:20260424T20
 0320Z
DTSTART;TZID=Europe/Budapest:20310104T183000
DTEND;TZID=Europ
 e/Budapest:20310104T200000
SUMMARY:Esti szertartás
DESCRIPTION:Est
 i szertartás kínai nyelven.\\nHelyszín: Kővágóör
 s Amitábha
  templom
LOCATION:Kővágóörs\, Amitábha templom
URL:https://tfd
 k.hu/dual_event/esti-szertartas/
END:VEVENT
BEGIN:VEVENT
UID:dualevcal-68-1925919000@tfdk.hu
DTSTAMP:20260424T20
 0320Z
DTSTART;TZID=Europe/Budapest:20310111T183000
DTEND;TZID=Europ
 e/Budapest:20310111T200000
SUMMARY:Esti szertartás
DESCRIPTION:Est
 i szertartás kínai nyelven.\\nHelyszín: Kővágóör
 s Amitábha
  templom
LOCATION:Kővágóörs\, Amitábha templom
URL:https://tfd
 k.hu/dual_event/esti-szertartas/
END:VEVENT
BEGIN:VEVENT
UID:dualevcal-68-1926523800@tfdk.hu
DTSTAMP:20260424T20
 0320Z
DTSTART;TZID=Europe/Budapest:20310118T183000
DTEND;TZID=Europ
 e/Budapest:20310118T200000
SUMMARY:Esti szertartás
DESCRIPTION:Est
 i szertartás kínai nyelven.\\nHelyszín: Kővágóör
 s Amitábha
  templom
LOCATION:Kővágóörs\, Amitábha templom
URL:https://tfd
 k.hu/dual_event/esti-szertartas/
END:VEVENT
BEGIN:VEVENT
UID:dualevcal-68-1927128600@tfdk.hu
DTSTAMP:20260424T20
 0320Z
DTSTART;TZID=Europe/Budapest:20310125T183000
DTEND;TZID=Europ
 e/Budapest:20310125T200000
SUMMARY:Esti szertartás
DESCRIPTION:Est
 i szertartás kínai nyelven.\\nHelyszín: Kővágóör
 s Amitábha
  templom
LOCATION:Kővágóörs\, Amitábha templom
URL:https://tfd
 k.hu/dual_event/esti-szertartas/
END:VEVENT
BEGIN:VEVENT
UID:dualevcal-67-1925869500@tfdk.hu
DTSTAMP:20260424T20
 0320Z
DTSTART;TZID=Europe/Budapest:20310111T044500
DTEND;TZID=Europ
 e/Budapest:20310111T063000
SUMMARY:Reggeli szertartás
DESCRIPTION:
 Reggeli szartartás kínai nyelven.\\nHelyszín: Kővágó
 örs\, A
 mitábha templom
LOCATION:Kővágóörs
URL:https://tfdk.hu/dual_ev
 ent/reggeli-szertartas-kovagoors/
END:VEVENT
BEGIN:VEVENT
UID:dualevcal-67-1927079100@tfdk.hu
DTSTAMP:20260424T20
 0320Z
DTSTART;TZID=Europe/Budapest:20310125T044500
DTEND;TZID=Europ
 e/Budapest:20310125T063000
SUMMARY:Reggeli szertartás
DESCRIPTION:
 Reggeli szartartás kínai nyelven.\\nHelyszín: Kővágó
 örs\, A
 mitábha templom
LOCATION:Kővágóörs
URL:https://tfdk.hu/dual_ev
 ent/reggeli-szertartas-kovagoors/
END:VEVENT
BEGIN:VEVENT
UID:dualevcal-64-1925264700@tfdk.hu
DTSTAMP:20260424T20
 0320Z
DTSTART;TZID=Europe/Budapest:20310104T044500
DTEND;TZID=Europ
 e/Budapest:20310104T063000
SUMMARY:Reggeli szertartás
DESCRIPTION:
 Reggeli szertartás kínai nyelven.\\nHelyszín: Magyarpol
 ány
LO
 CATION:Magyarpolány
URL:https://tfdk.hu/dual_event/reggeli-szertart
 as-magyarpolany/
END:VEVENT
BEGIN:VEVENT
UID:dualevcal-64-1926474300@tfdk.hu
DTSTAMP:20260424T20
 0320Z
DTSTART;TZID=Europe/Budapest:20310118T044500
DTEND;TZID=Europ
 e/Budapest:20310118T063000
SUMMARY:Reggeli szertartás
DESCRIPTION:
 Reggeli szertartás kínai nyelven.\\nHelyszín: Magyarpol
 ány
LO
 CATION:Magyarpolány
URL:https://tfdk.hu/dual_event/reggeli-szertart
 as-magyarpolany/
END:VEVENT
END:VCALENDAR
