BEGIN:VCALENDAR
VERSION:2.0
PRODID:-//Dual Event Calendar//EN
CALSCALE:GREGORIAN
X-WR-CALNAME:Dual Event Calendar - December 2030
X-WR-TIMEZONE:Europe/Budapest
BEGIN:VEVENT
UID:dualevcal-68-1922895000@tfdk.hu
DTSTAMP:20260424T19
 3639Z
DTSTART;TZID=Europe/Budapest:20301207T183000
DTEND;TZID=Europ
 e/Budapest:20301207T200000
SUMMARY:Esti szertartás
DESCRIPTION:Est
 i szertartás kínai nyelven.\\nHelyszín: Kővágóör
 s Amitábha
  templom
LOCATION:Kővágóörs\, Amitábha templom
URL:https://tfd
 k.hu/dual_event/esti-szertartas/
END:VEVENT
BEGIN:VEVENT
UID:dualevcal-68-1923499800@tfdk.hu
DTSTAMP:20260424T19
 3639Z
DTSTART;TZID=Europe/Budapest:20301214T183000
DTEND;TZID=Europ
 e/Budapest:20301214T200000
SUMMARY:Esti szertartás
DESCRIPTION:Est
 i szertartás kínai nyelven.\\nHelyszín: Kővágóör
 s Amitábha
  templom
LOCATION:Kővágóörs\, Amitábha templom
URL:https://tfd
 k.hu/dual_event/esti-szertartas/
END:VEVENT
BEGIN:VEVENT
UID:dualevcal-68-1924104600@tfdk.hu
DTSTAMP:20260424T19
 3639Z
DTSTART;TZID=Europe/Budapest:20301221T183000
DTEND;TZID=Europ
 e/Budapest:20301221T200000
SUMMARY:Esti szertartás
DESCRIPTION:Est
 i szertartás kínai nyelven.\\nHelyszín: Kővágóör
 s Amitábha
  templom
LOCATION:Kővágóörs\, Amitábha templom
URL:https://tfd
 k.hu/dual_event/esti-szertartas/
END:VEVENT
BEGIN:VEVENT
UID:dualevcal-68-1924709400@tfdk.hu
DTSTAMP:20260424T19
 3639Z
DTSTART;TZID=Europe/Budapest:20301228T183000
DTEND;TZID=Europ
 e/Budapest:20301228T200000
SUMMARY:Esti szertartás
DESCRIPTION:Est
 i szertartás kínai nyelven.\\nHelyszín: Kővágóör
 s Amitábha
  templom
LOCATION:Kővágóörs\, Amitábha templom
URL:https://tfd
 k.hu/dual_event/esti-szertartas/
END:VEVENT
BEGIN:VEVENT
UID:dualevcal-67-1923450300@tfdk.hu
DTSTAMP:20260424T19
 3639Z
DTSTART;TZID=Europe/Budapest:20301214T044500
DTEND;TZID=Europ
 e/Budapest:20301214T063000
SUMMARY:Reggeli szertartás
DESCRIPTION:
 Reggeli szartartás kínai nyelven.\\nHelyszín: Kővágó
 örs\, A
 mitábha templom
LOCATION:Kővágóörs
URL:https://tfdk.hu/dual_ev
 ent/reggeli-szertartas-kovagoors/
END:VEVENT
BEGIN:VEVENT
UID:dualevcal-67-1924659900@tfdk.hu
DTSTAMP:20260424T19
 3639Z
DTSTART;TZID=Europe/Budapest:20301228T044500
DTEND;TZID=Europ
 e/Budapest:20301228T063000
SUMMARY:Reggeli szertartás
DESCRIPTION:
 Reggeli szartartás kínai nyelven.\\nHelyszín: Kővágó
 örs\, A
 mitábha templom
LOCATION:Kővágóörs
URL:https://tfdk.hu/dual_ev
 ent/reggeli-szertartas-kovagoors/
END:VEVENT
BEGIN:VEVENT
UID:dualevcal-64-1922845500@tfdk.hu
DTSTAMP:20260424T19
 3639Z
DTSTART;TZID=Europe/Budapest:20301207T044500
DTEND;TZID=Europ
 e/Budapest:20301207T063000
SUMMARY:Reggeli szertartás
DESCRIPTION:
 Reggeli szertartás kínai nyelven.\\nHelyszín: Magyarpol
 ány
LO
 CATION:Magyarpolány
URL:https://tfdk.hu/dual_event/reggeli-szertart
 as-magyarpolany/
END:VEVENT
BEGIN:VEVENT
UID:dualevcal-64-1924055100@tfdk.hu
DTSTAMP:20260424T19
 3639Z
DTSTART;TZID=Europe/Budapest:20301221T044500
DTEND;TZID=Europ
 e/Budapest:20301221T063000
SUMMARY:Reggeli szertartás
DESCRIPTION:
 Reggeli szertartás kínai nyelven.\\nHelyszín: Magyarpol
 ány
LO
 CATION:Magyarpolány
URL:https://tfdk.hu/dual_event/reggeli-szertart
 as-magyarpolany/
END:VEVENT
END:VCALENDAR
