BEGIN:VCALENDAR
VERSION:2.0
PRODID:-//Dual Event Calendar//EN
CALSCALE:GREGORIAN
X-WR-CALNAME:Dual Event Calendar - November 2030
X-WR-TIMEZONE:Europe/Budapest
BEGIN:VEVENT
UID:dualevcal-68-1919871000@tfdk.hu
DTSTAMP:20260424T17
 0855Z
DTSTART;TZID=Europe/Budapest:20301102T183000
DTEND;TZID=Europ
 e/Budapest:20301102T200000
SUMMARY:Esti szertartás
DESCRIPTION:Est
 i szertartás kínai nyelven.\\nHelyszín: Kővágóör
 s Amitábha
  templom
LOCATION:Kővágóörs\, Amitábha templom
URL:https://tfd
 k.hu/dual_event/esti-szertartas/
END:VEVENT
BEGIN:VEVENT
UID:dualevcal-68-1920475800@tfdk.hu
DTSTAMP:20260424T17
 0855Z
DTSTART;TZID=Europe/Budapest:20301109T183000
DTEND;TZID=Europ
 e/Budapest:20301109T200000
SUMMARY:Esti szertartás
DESCRIPTION:Est
 i szertartás kínai nyelven.\\nHelyszín: Kővágóör
 s Amitábha
  templom
LOCATION:Kővágóörs\, Amitábha templom
URL:https://tfd
 k.hu/dual_event/esti-szertartas/
END:VEVENT
BEGIN:VEVENT
UID:dualevcal-68-1921080600@tfdk.hu
DTSTAMP:20260424T17
 0855Z
DTSTART;TZID=Europe/Budapest:20301116T183000
DTEND;TZID=Europ
 e/Budapest:20301116T200000
SUMMARY:Esti szertartás
DESCRIPTION:Est
 i szertartás kínai nyelven.\\nHelyszín: Kővágóör
 s Amitábha
  templom
LOCATION:Kővágóörs\, Amitábha templom
URL:https://tfd
 k.hu/dual_event/esti-szertartas/
END:VEVENT
BEGIN:VEVENT
UID:dualevcal-68-1921685400@tfdk.hu
DTSTAMP:20260424T17
 0855Z
DTSTART;TZID=Europe/Budapest:20301123T183000
DTEND;TZID=Europ
 e/Budapest:20301123T200000
SUMMARY:Esti szertartás
DESCRIPTION:Est
 i szertartás kínai nyelven.\\nHelyszín: Kővágóör
 s Amitábha
  templom
LOCATION:Kővágóörs\, Amitábha templom
URL:https://tfd
 k.hu/dual_event/esti-szertartas/
END:VEVENT
BEGIN:VEVENT
UID:dualevcal-68-1922290200@tfdk.hu
DTSTAMP:20260424T17
 0855Z
DTSTART;TZID=Europe/Budapest:20301130T183000
DTEND;TZID=Europ
 e/Budapest:20301130T200000
SUMMARY:Esti szertartás
DESCRIPTION:Est
 i szertartás kínai nyelven.\\nHelyszín: Kővágóör
 s Amitábha
  templom
LOCATION:Kővágóörs\, Amitábha templom
URL:https://tfd
 k.hu/dual_event/esti-szertartas/
END:VEVENT
BEGIN:VEVENT
UID:dualevcal-67-1919821500@tfdk.hu
DTSTAMP:20260424T17
 0855Z
DTSTART;TZID=Europe/Budapest:20301102T044500
DTEND;TZID=Europ
 e/Budapest:20301102T063000
SUMMARY:Reggeli szertartás
DESCRIPTION:
 Reggeli szartartás kínai nyelven.\\nHelyszín: Kővágó
 örs\, A
 mitábha templom
LOCATION:Kővágóörs
URL:https://tfdk.hu/dual_ev
 ent/reggeli-szertartas-kovagoors/
END:VEVENT
BEGIN:VEVENT
UID:dualevcal-67-1921031100@tfdk.hu
DTSTAMP:20260424T17
 0855Z
DTSTART;TZID=Europe/Budapest:20301116T044500
DTEND;TZID=Europ
 e/Budapest:20301116T063000
SUMMARY:Reggeli szertartás
DESCRIPTION:
 Reggeli szartartás kínai nyelven.\\nHelyszín: Kővágó
 örs\, A
 mitábha templom
LOCATION:Kővágóörs
URL:https://tfdk.hu/dual_ev
 ent/reggeli-szertartas-kovagoors/
END:VEVENT
BEGIN:VEVENT
UID:dualevcal-67-1922240700@tfdk.hu
DTSTAMP:20260424T17
 0855Z
DTSTART;TZID=Europe/Budapest:20301130T044500
DTEND;TZID=Europ
 e/Budapest:20301130T063000
SUMMARY:Reggeli szertartás
DESCRIPTION:
 Reggeli szartartás kínai nyelven.\\nHelyszín: Kővágó
 örs\, A
 mitábha templom
LOCATION:Kővágóörs
URL:https://tfdk.hu/dual_ev
 ent/reggeli-szertartas-kovagoors/
END:VEVENT
BEGIN:VEVENT
UID:dualevcal-64-1920426300@tfdk.hu
DTSTAMP:20260424T17
 0855Z
DTSTART;TZID=Europe/Budapest:20301109T044500
DTEND;TZID=Europ
 e/Budapest:20301109T063000
SUMMARY:Reggeli szertartás
DESCRIPTION:
 Reggeli szertartás kínai nyelven.\\nHelyszín: Magyarpol
 ány
LO
 CATION:Magyarpolány
URL:https://tfdk.hu/dual_event/reggeli-szertart
 as-magyarpolany/
END:VEVENT
BEGIN:VEVENT
UID:dualevcal-64-1921635900@tfdk.hu
DTSTAMP:20260424T17
 0855Z
DTSTART;TZID=Europe/Budapest:20301123T044500
DTEND;TZID=Europ
 e/Budapest:20301123T063000
SUMMARY:Reggeli szertartás
DESCRIPTION:
 Reggeli szertartás kínai nyelven.\\nHelyszín: Magyarpol
 ány
LO
 CATION:Magyarpolány
URL:https://tfdk.hu/dual_event/reggeli-szertart
 as-magyarpolany/
END:VEVENT
END:VCALENDAR
