BEGIN:VCALENDAR
VERSION:2.0
PRODID:-//Dual Event Calendar//EN
CALSCALE:GREGORIAN
X-WR-CALNAME:Dual Event Calendar - October 2030
X-WR-TIMEZONE:Europe/Budapest
BEGIN:VEVENT
UID:dualevcal-68-1917448200@tfdk.hu
DTSTAMP:20260424T15
 3356Z
DTSTART;TZID=Europe/Budapest:20301005T183000
DTEND;TZID=Europ
 e/Budapest:20301005T200000
SUMMARY:Esti szertartás
DESCRIPTION:Est
 i szertartás kínai nyelven.\\nHelyszín: Kővágóör
 s Amitábha
  templom
LOCATION:Kővágóörs\, Amitábha templom
URL:https://tfd
 k.hu/dual_event/esti-szertartas/
END:VEVENT
BEGIN:VEVENT
UID:dualevcal-68-1918053000@tfdk.hu
DTSTAMP:20260424T15
 3356Z
DTSTART;TZID=Europe/Budapest:20301012T183000
DTEND;TZID=Europ
 e/Budapest:20301012T200000
SUMMARY:Esti szertartás
DESCRIPTION:Est
 i szertartás kínai nyelven.\\nHelyszín: Kővágóör
 s Amitábha
  templom
LOCATION:Kővágóörs\, Amitábha templom
URL:https://tfd
 k.hu/dual_event/esti-szertartas/
END:VEVENT
BEGIN:VEVENT
UID:dualevcal-68-1918657800@tfdk.hu
DTSTAMP:20260424T15
 3356Z
DTSTART;TZID=Europe/Budapest:20301019T183000
DTEND;TZID=Europ
 e/Budapest:20301019T200000
SUMMARY:Esti szertartás
DESCRIPTION:Est
 i szertartás kínai nyelven.\\nHelyszín: Kővágóör
 s Amitábha
  templom
LOCATION:Kővágóörs\, Amitábha templom
URL:https://tfd
 k.hu/dual_event/esti-szertartas/
END:VEVENT
BEGIN:VEVENT
UID:dualevcal-68-1919262600@tfdk.hu
DTSTAMP:20260424T15
 3356Z
DTSTART;TZID=Europe/Budapest:20301026T183000
DTEND;TZID=Europ
 e/Budapest:20301026T200000
SUMMARY:Esti szertartás
DESCRIPTION:Est
 i szertartás kínai nyelven.\\nHelyszín: Kővágóör
 s Amitábha
  templom
LOCATION:Kővágóörs\, Amitábha templom
URL:https://tfd
 k.hu/dual_event/esti-szertartas/
END:VEVENT
BEGIN:VEVENT
UID:dualevcal-67-1918003500@tfdk.hu
DTSTAMP:20260424T15
 3356Z
DTSTART;TZID=Europe/Budapest:20301012T044500
DTEND;TZID=Europ
 e/Budapest:20301012T063000
SUMMARY:Reggeli szertartás
DESCRIPTION:
 Reggeli szartartás kínai nyelven.\\nHelyszín: Kővágó
 örs\, A
 mitábha templom
LOCATION:Kővágóörs
URL:https://tfdk.hu/dual_ev
 ent/reggeli-szertartas-kovagoors/
END:VEVENT
BEGIN:VEVENT
UID:dualevcal-67-1919213100@tfdk.hu
DTSTAMP:20260424T15
 3356Z
DTSTART;TZID=Europe/Budapest:20301026T044500
DTEND;TZID=Europ
 e/Budapest:20301026T063000
SUMMARY:Reggeli szertartás
DESCRIPTION:
 Reggeli szartartás kínai nyelven.\\nHelyszín: Kővágó
 örs\, A
 mitábha templom
LOCATION:Kővágóörs
URL:https://tfdk.hu/dual_ev
 ent/reggeli-szertartas-kovagoors/
END:VEVENT
BEGIN:VEVENT
UID:dualevcal-64-1917398700@tfdk.hu
DTSTAMP:20260424T15
 3356Z
DTSTART;TZID=Europe/Budapest:20301005T044500
DTEND;TZID=Europ
 e/Budapest:20301005T063000
SUMMARY:Reggeli szertartás
DESCRIPTION:
 Reggeli szertartás kínai nyelven.\\nHelyszín: Magyarpol
 ány
LO
 CATION:Magyarpolány
URL:https://tfdk.hu/dual_event/reggeli-szertart
 as-magyarpolany/
END:VEVENT
BEGIN:VEVENT
UID:dualevcal-64-1918608300@tfdk.hu
DTSTAMP:20260424T15
 3356Z
DTSTART;TZID=Europe/Budapest:20301019T044500
DTEND;TZID=Europ
 e/Budapest:20301019T063000
SUMMARY:Reggeli szertartás
DESCRIPTION:
 Reggeli szertartás kínai nyelven.\\nHelyszín: Magyarpol
 ány
LO
 CATION:Magyarpolány
URL:https://tfdk.hu/dual_event/reggeli-szertart
 as-magyarpolany/
END:VEVENT
END:VCALENDAR
