BEGIN:VCALENDAR
VERSION:2.0
PRODID:-//Dual Event Calendar//EN
CALSCALE:GREGORIAN
X-WR-CALNAME:Dual Event Calendar - September 2030
X-WR-TIMEZONE:Europe/Budapest
BEGIN:VEVENT
UID:dualevcal-68-1915029000@tfdk.hu
DTSTAMP:20260424T13
 5814Z
DTSTART;TZID=Europe/Budapest:20300907T183000
DTEND;TZID=Europ
 e/Budapest:20300907T200000
SUMMARY:Esti szertartás
DESCRIPTION:Est
 i szertartás kínai nyelven.\\nHelyszín: Kővágóör
 s Amitábha
  templom
LOCATION:Kővágóörs\, Amitábha templom
URL:https://tfd
 k.hu/dual_event/esti-szertartas/
END:VEVENT
BEGIN:VEVENT
UID:dualevcal-68-1915633800@tfdk.hu
DTSTAMP:20260424T13
 5814Z
DTSTART;TZID=Europe/Budapest:20300914T183000
DTEND;TZID=Europ
 e/Budapest:20300914T200000
SUMMARY:Esti szertartás
DESCRIPTION:Est
 i szertartás kínai nyelven.\\nHelyszín: Kővágóör
 s Amitábha
  templom
LOCATION:Kővágóörs\, Amitábha templom
URL:https://tfd
 k.hu/dual_event/esti-szertartas/
END:VEVENT
BEGIN:VEVENT
UID:dualevcal-68-1916238600@tfdk.hu
DTSTAMP:20260424T13
 5814Z
DTSTART;TZID=Europe/Budapest:20300921T183000
DTEND;TZID=Europ
 e/Budapest:20300921T200000
SUMMARY:Esti szertartás
DESCRIPTION:Est
 i szertartás kínai nyelven.\\nHelyszín: Kővágóör
 s Amitábha
  templom
LOCATION:Kővágóörs\, Amitábha templom
URL:https://tfd
 k.hu/dual_event/esti-szertartas/
END:VEVENT
BEGIN:VEVENT
UID:dualevcal-68-1916843400@tfdk.hu
DTSTAMP:20260424T13
 5814Z
DTSTART;TZID=Europe/Budapest:20300928T183000
DTEND;TZID=Europ
 e/Budapest:20300928T200000
SUMMARY:Esti szertartás
DESCRIPTION:Est
 i szertartás kínai nyelven.\\nHelyszín: Kővágóör
 s Amitábha
  templom
LOCATION:Kővágóörs\, Amitábha templom
URL:https://tfd
 k.hu/dual_event/esti-szertartas/
END:VEVENT
BEGIN:VEVENT
UID:dualevcal-67-1915584300@tfdk.hu
DTSTAMP:20260424T13
 5814Z
DTSTART;TZID=Europe/Budapest:20300914T044500
DTEND;TZID=Europ
 e/Budapest:20300914T063000
SUMMARY:Reggeli szertartás
DESCRIPTION:
 Reggeli szartartás kínai nyelven.\\nHelyszín: Kővágó
 örs\, A
 mitábha templom
LOCATION:Kővágóörs
URL:https://tfdk.hu/dual_ev
 ent/reggeli-szertartas-kovagoors/
END:VEVENT
BEGIN:VEVENT
UID:dualevcal-67-1916793900@tfdk.hu
DTSTAMP:20260424T13
 5814Z
DTSTART;TZID=Europe/Budapest:20300928T044500
DTEND;TZID=Europ
 e/Budapest:20300928T063000
SUMMARY:Reggeli szertartás
DESCRIPTION:
 Reggeli szartartás kínai nyelven.\\nHelyszín: Kővágó
 örs\, A
 mitábha templom
LOCATION:Kővágóörs
URL:https://tfdk.hu/dual_ev
 ent/reggeli-szertartas-kovagoors/
END:VEVENT
BEGIN:VEVENT
UID:dualevcal-64-1914979500@tfdk.hu
DTSTAMP:20260424T13
 5814Z
DTSTART;TZID=Europe/Budapest:20300907T044500
DTEND;TZID=Europ
 e/Budapest:20300907T063000
SUMMARY:Reggeli szertartás
DESCRIPTION:
 Reggeli szertartás kínai nyelven.\\nHelyszín: Magyarpol
 ány
LO
 CATION:Magyarpolány
URL:https://tfdk.hu/dual_event/reggeli-szertart
 as-magyarpolany/
END:VEVENT
BEGIN:VEVENT
UID:dualevcal-64-1916189100@tfdk.hu
DTSTAMP:20260424T13
 5814Z
DTSTART;TZID=Europe/Budapest:20300921T044500
DTEND;TZID=Europ
 e/Budapest:20300921T063000
SUMMARY:Reggeli szertartás
DESCRIPTION:
 Reggeli szertartás kínai nyelven.\\nHelyszín: Magyarpol
 ány
LO
 CATION:Magyarpolány
URL:https://tfdk.hu/dual_event/reggeli-szertart
 as-magyarpolany/
END:VEVENT
END:VCALENDAR
