BEGIN:VCALENDAR
VERSION:2.0
PRODID:-//Dual Event Calendar//EN
CALSCALE:GREGORIAN
X-WR-CALNAME:Dual Event Calendar - July 2030
X-WR-TIMEZONE:Europe/Budapest
BEGIN:VEVENT
UID:dualevcal-68-1909585800@tfdk.hu
DTSTAMP:20260424T10
 4613Z
DTSTART;TZID=Europe/Budapest:20300706T183000
DTEND;TZID=Europ
 e/Budapest:20300706T200000
SUMMARY:Esti szertartás
DESCRIPTION:Est
 i szertartás kínai nyelven.\\nHelyszín: Kővágóör
 s Amitábha
  templom
LOCATION:Kővágóörs\, Amitábha templom
URL:https://tfd
 k.hu/dual_event/esti-szertartas/
END:VEVENT
BEGIN:VEVENT
UID:dualevcal-68-1910190600@tfdk.hu
DTSTAMP:20260424T10
 4613Z
DTSTART;TZID=Europe/Budapest:20300713T183000
DTEND;TZID=Europ
 e/Budapest:20300713T200000
SUMMARY:Esti szertartás
DESCRIPTION:Est
 i szertartás kínai nyelven.\\nHelyszín: Kővágóör
 s Amitábha
  templom
LOCATION:Kővágóörs\, Amitábha templom
URL:https://tfd
 k.hu/dual_event/esti-szertartas/
END:VEVENT
BEGIN:VEVENT
UID:dualevcal-68-1910795400@tfdk.hu
DTSTAMP:20260424T10
 4613Z
DTSTART;TZID=Europe/Budapest:20300720T183000
DTEND;TZID=Europ
 e/Budapest:20300720T200000
SUMMARY:Esti szertartás
DESCRIPTION:Est
 i szertartás kínai nyelven.\\nHelyszín: Kővágóör
 s Amitábha
  templom
LOCATION:Kővágóörs\, Amitábha templom
URL:https://tfd
 k.hu/dual_event/esti-szertartas/
END:VEVENT
BEGIN:VEVENT
UID:dualevcal-68-1911400200@tfdk.hu
DTSTAMP:20260424T10
 4613Z
DTSTART;TZID=Europe/Budapest:20300727T183000
DTEND;TZID=Europ
 e/Budapest:20300727T200000
SUMMARY:Esti szertartás
DESCRIPTION:Est
 i szertartás kínai nyelven.\\nHelyszín: Kővágóör
 s Amitábha
  templom
LOCATION:Kővágóörs\, Amitábha templom
URL:https://tfd
 k.hu/dual_event/esti-szertartas/
END:VEVENT
BEGIN:VEVENT
UID:dualevcal-67-1909536300@tfdk.hu
DTSTAMP:20260424T10
 4613Z
DTSTART;TZID=Europe/Budapest:20300706T044500
DTEND;TZID=Europ
 e/Budapest:20300706T063000
SUMMARY:Reggeli szertartás
DESCRIPTION:
 Reggeli szartartás kínai nyelven.\\nHelyszín: Kővágó
 örs\, A
 mitábha templom
LOCATION:Kővágóörs
URL:https://tfdk.hu/dual_ev
 ent/reggeli-szertartas-kovagoors/
END:VEVENT
BEGIN:VEVENT
UID:dualevcal-67-1910745900@tfdk.hu
DTSTAMP:20260424T10
 4613Z
DTSTART;TZID=Europe/Budapest:20300720T044500
DTEND;TZID=Europ
 e/Budapest:20300720T063000
SUMMARY:Reggeli szertartás
DESCRIPTION:
 Reggeli szartartás kínai nyelven.\\nHelyszín: Kővágó
 örs\, A
 mitábha templom
LOCATION:Kővágóörs
URL:https://tfdk.hu/dual_ev
 ent/reggeli-szertartas-kovagoors/
END:VEVENT
BEGIN:VEVENT
UID:dualevcal-64-1910141100@tfdk.hu
DTSTAMP:20260424T10
 4613Z
DTSTART;TZID=Europe/Budapest:20300713T044500
DTEND;TZID=Europ
 e/Budapest:20300713T063000
SUMMARY:Reggeli szertartás
DESCRIPTION:
 Reggeli szertartás kínai nyelven.\\nHelyszín: Magyarpol
 ány
LO
 CATION:Magyarpolány
URL:https://tfdk.hu/dual_event/reggeli-szertart
 as-magyarpolany/
END:VEVENT
BEGIN:VEVENT
UID:dualevcal-64-1911350700@tfdk.hu
DTSTAMP:20260424T10
 4613Z
DTSTART;TZID=Europe/Budapest:20300727T044500
DTEND;TZID=Europ
 e/Budapest:20300727T063000
SUMMARY:Reggeli szertartás
DESCRIPTION:
 Reggeli szertartás kínai nyelven.\\nHelyszín: Magyarpol
 ány
LO
 CATION:Magyarpolány
URL:https://tfdk.hu/dual_event/reggeli-szertart
 as-magyarpolany/
END:VEVENT
END:VCALENDAR
