BEGIN:VCALENDAR
VERSION:2.0
PRODID:-//Dual Event Calendar//EN
CALSCALE:GREGORIAN
X-WR-CALNAME:Dual Event Calendar - June 2030
X-WR-TIMEZONE:Europe/Budapest
BEGIN:VEVENT
UID:dualevcal-68-1906561800@tfdk.hu
DTSTAMP:20260424T08
 5714Z
DTSTART;TZID=Europe/Budapest:20300601T183000
DTEND;TZID=Europ
 e/Budapest:20300601T200000
SUMMARY:Esti szertartás
DESCRIPTION:Est
 i szertartás kínai nyelven.\\nHelyszín: Kővágóör
 s Amitábha
  templom
LOCATION:Kővágóörs\, Amitábha templom
URL:https://tfd
 k.hu/dual_event/esti-szertartas/
END:VEVENT
BEGIN:VEVENT
UID:dualevcal-68-1907166600@tfdk.hu
DTSTAMP:20260424T08
 5714Z
DTSTART;TZID=Europe/Budapest:20300608T183000
DTEND;TZID=Europ
 e/Budapest:20300608T200000
SUMMARY:Esti szertartás
DESCRIPTION:Est
 i szertartás kínai nyelven.\\nHelyszín: Kővágóör
 s Amitábha
  templom
LOCATION:Kővágóörs\, Amitábha templom
URL:https://tfd
 k.hu/dual_event/esti-szertartas/
END:VEVENT
BEGIN:VEVENT
UID:dualevcal-68-1907771400@tfdk.hu
DTSTAMP:20260424T08
 5714Z
DTSTART;TZID=Europe/Budapest:20300615T183000
DTEND;TZID=Europ
 e/Budapest:20300615T200000
SUMMARY:Esti szertartás
DESCRIPTION:Est
 i szertartás kínai nyelven.\\nHelyszín: Kővágóör
 s Amitábha
  templom
LOCATION:Kővágóörs\, Amitábha templom
URL:https://tfd
 k.hu/dual_event/esti-szertartas/
END:VEVENT
BEGIN:VEVENT
UID:dualevcal-68-1908376200@tfdk.hu
DTSTAMP:20260424T08
 5714Z
DTSTART;TZID=Europe/Budapest:20300622T183000
DTEND;TZID=Europ
 e/Budapest:20300622T200000
SUMMARY:Esti szertartás
DESCRIPTION:Est
 i szertartás kínai nyelven.\\nHelyszín: Kővágóör
 s Amitábha
  templom
LOCATION:Kővágóörs\, Amitábha templom
URL:https://tfd
 k.hu/dual_event/esti-szertartas/
END:VEVENT
BEGIN:VEVENT
UID:dualevcal-68-1908981000@tfdk.hu
DTSTAMP:20260424T08
 5714Z
DTSTART;TZID=Europe/Budapest:20300629T183000
DTEND;TZID=Europ
 e/Budapest:20300629T200000
SUMMARY:Esti szertartás
DESCRIPTION:Est
 i szertartás kínai nyelven.\\nHelyszín: Kővágóör
 s Amitábha
  templom
LOCATION:Kővágóörs\, Amitábha templom
URL:https://tfd
 k.hu/dual_event/esti-szertartas/
END:VEVENT
BEGIN:VEVENT
UID:dualevcal-67-1907117100@tfdk.hu
DTSTAMP:20260424T08
 5714Z
DTSTART;TZID=Europe/Budapest:20300608T044500
DTEND;TZID=Europ
 e/Budapest:20300608T063000
SUMMARY:Reggeli szertartás
DESCRIPTION:
 Reggeli szartartás kínai nyelven.\\nHelyszín: Kővágó
 örs\, A
 mitábha templom
LOCATION:Kővágóörs
URL:https://tfdk.hu/dual_ev
 ent/reggeli-szertartas-kovagoors/
END:VEVENT
BEGIN:VEVENT
UID:dualevcal-67-1908326700@tfdk.hu
DTSTAMP:20260424T08
 5714Z
DTSTART;TZID=Europe/Budapest:20300622T044500
DTEND;TZID=Europ
 e/Budapest:20300622T063000
SUMMARY:Reggeli szertartás
DESCRIPTION:
 Reggeli szartartás kínai nyelven.\\nHelyszín: Kővágó
 örs\, A
 mitábha templom
LOCATION:Kővágóörs
URL:https://tfdk.hu/dual_ev
 ent/reggeli-szertartas-kovagoors/
END:VEVENT
BEGIN:VEVENT
UID:dualevcal-64-1906512300@tfdk.hu
DTSTAMP:20260424T08
 5714Z
DTSTART;TZID=Europe/Budapest:20300601T044500
DTEND;TZID=Europ
 e/Budapest:20300601T063000
SUMMARY:Reggeli szertartás
DESCRIPTION:
 Reggeli szertartás kínai nyelven.\\nHelyszín: Magyarpol
 ány
LO
 CATION:Magyarpolány
URL:https://tfdk.hu/dual_event/reggeli-szertart
 as-magyarpolany/
END:VEVENT
BEGIN:VEVENT
UID:dualevcal-64-1907721900@tfdk.hu
DTSTAMP:20260424T08
 5714Z
DTSTART;TZID=Europe/Budapest:20300615T044500
DTEND;TZID=Europ
 e/Budapest:20300615T063000
SUMMARY:Reggeli szertartás
DESCRIPTION:
 Reggeli szertartás kínai nyelven.\\nHelyszín: Magyarpol
 ány
LO
 CATION:Magyarpolány
URL:https://tfdk.hu/dual_event/reggeli-szertart
 as-magyarpolany/
END:VEVENT
BEGIN:VEVENT
UID:dualevcal-64-1908931500@tfdk.hu
DTSTAMP:20260424T08
 5714Z
DTSTART;TZID=Europe/Budapest:20300629T044500
DTEND;TZID=Europ
 e/Budapest:20300629T063000
SUMMARY:Reggeli szertartás
DESCRIPTION:
 Reggeli szertartás kínai nyelven.\\nHelyszín: Magyarpol
 ány
LO
 CATION:Magyarpolány
URL:https://tfdk.hu/dual_event/reggeli-szertart
 as-magyarpolany/
END:VEVENT
END:VCALENDAR
