BEGIN:VCALENDAR
VERSION:2.0
PRODID:-//Dual Event Calendar//EN
CALSCALE:GREGORIAN
X-WR-CALNAME:Dual Event Calendar - May 2030
X-WR-TIMEZONE:Europe/Budapest
BEGIN:VEVENT
UID:dualevcal-68-1904142600@tfdk.hu
DTSTAMP:20260424T08
 5139Z
DTSTART;TZID=Europe/Budapest:20300504T183000
DTEND;TZID=Europ
 e/Budapest:20300504T200000
SUMMARY:Esti szertartás
DESCRIPTION:Est
 i szertartás kínai nyelven.\\nHelyszín: Kővágóör
 s Amitábha
  templom
LOCATION:Kővágóörs\, Amitábha templom
URL:https://tfd
 k.hu/dual_event/esti-szertartas/
END:VEVENT
BEGIN:VEVENT
UID:dualevcal-68-1904747400@tfdk.hu
DTSTAMP:20260424T08
 5139Z
DTSTART;TZID=Europe/Budapest:20300511T183000
DTEND;TZID=Europ
 e/Budapest:20300511T200000
SUMMARY:Esti szertartás
DESCRIPTION:Est
 i szertartás kínai nyelven.\\nHelyszín: Kővágóör
 s Amitábha
  templom
LOCATION:Kővágóörs\, Amitábha templom
URL:https://tfd
 k.hu/dual_event/esti-szertartas/
END:VEVENT
BEGIN:VEVENT
UID:dualevcal-68-1905352200@tfdk.hu
DTSTAMP:20260424T08
 5139Z
DTSTART;TZID=Europe/Budapest:20300518T183000
DTEND;TZID=Europ
 e/Budapest:20300518T200000
SUMMARY:Esti szertartás
DESCRIPTION:Est
 i szertartás kínai nyelven.\\nHelyszín: Kővágóör
 s Amitábha
  templom
LOCATION:Kővágóörs\, Amitábha templom
URL:https://tfd
 k.hu/dual_event/esti-szertartas/
END:VEVENT
BEGIN:VEVENT
UID:dualevcal-68-1905957000@tfdk.hu
DTSTAMP:20260424T08
 5139Z
DTSTART;TZID=Europe/Budapest:20300525T183000
DTEND;TZID=Europ
 e/Budapest:20300525T200000
SUMMARY:Esti szertartás
DESCRIPTION:Est
 i szertartás kínai nyelven.\\nHelyszín: Kővágóör
 s Amitábha
  templom
LOCATION:Kővágóörs\, Amitábha templom
URL:https://tfd
 k.hu/dual_event/esti-szertartas/
END:VEVENT
BEGIN:VEVENT
UID:dualevcal-67-1904697900@tfdk.hu
DTSTAMP:20260424T08
 5139Z
DTSTART;TZID=Europe/Budapest:20300511T044500
DTEND;TZID=Europ
 e/Budapest:20300511T063000
SUMMARY:Reggeli szertartás
DESCRIPTION:
 Reggeli szartartás kínai nyelven.\\nHelyszín: Kővágó
 örs\, A
 mitábha templom
LOCATION:Kővágóörs
URL:https://tfdk.hu/dual_ev
 ent/reggeli-szertartas-kovagoors/
END:VEVENT
BEGIN:VEVENT
UID:dualevcal-67-1905907500@tfdk.hu
DTSTAMP:20260424T08
 5139Z
DTSTART;TZID=Europe/Budapest:20300525T044500
DTEND;TZID=Europ
 e/Budapest:20300525T063000
SUMMARY:Reggeli szertartás
DESCRIPTION:
 Reggeli szartartás kínai nyelven.\\nHelyszín: Kővágó
 örs\, A
 mitábha templom
LOCATION:Kővágóörs
URL:https://tfdk.hu/dual_ev
 ent/reggeli-szertartas-kovagoors/
END:VEVENT
BEGIN:VEVENT
UID:dualevcal-64-1904093100@tfdk.hu
DTSTAMP:20260424T08
 5139Z
DTSTART;TZID=Europe/Budapest:20300504T044500
DTEND;TZID=Europ
 e/Budapest:20300504T063000
SUMMARY:Reggeli szertartás
DESCRIPTION:
 Reggeli szertartás kínai nyelven.\\nHelyszín: Magyarpol
 ány
LO
 CATION:Magyarpolány
URL:https://tfdk.hu/dual_event/reggeli-szertart
 as-magyarpolany/
END:VEVENT
BEGIN:VEVENT
UID:dualevcal-64-1905302700@tfdk.hu
DTSTAMP:20260424T08
 5139Z
DTSTART;TZID=Europe/Budapest:20300518T044500
DTEND;TZID=Europ
 e/Budapest:20300518T063000
SUMMARY:Reggeli szertartás
DESCRIPTION:
 Reggeli szertartás kínai nyelven.\\nHelyszín: Magyarpol
 ány
LO
 CATION:Magyarpolány
URL:https://tfdk.hu/dual_event/reggeli-szertart
 as-magyarpolany/
END:VEVENT
END:VCALENDAR
