BEGIN:VCALENDAR
VERSION:2.0
PRODID:-//Dual Event Calendar//EN
CALSCALE:GREGORIAN
X-WR-CALNAME:Dual Event Calendar - March 2030
X-WR-TIMEZONE:Europe/Budapest
BEGIN:VEVENT
UID:dualevcal-68-1898703000@tfdk.hu
DTSTAMP:20260424T04
 0810Z
DTSTART;TZID=Europe/Budapest:20300302T183000
DTEND;TZID=Europ
 e/Budapest:20300302T200000
SUMMARY:Esti szertartás
DESCRIPTION:Est
 i szertartás kínai nyelven.\\nHelyszín: Kővágóör
 s Amitábha
  templom
LOCATION:Kővágóörs\, Amitábha templom
URL:https://tfd
 k.hu/dual_event/esti-szertartas/
END:VEVENT
BEGIN:VEVENT
UID:dualevcal-68-1899307800@tfdk.hu
DTSTAMP:20260424T04
 0810Z
DTSTART;TZID=Europe/Budapest:20300309T183000
DTEND;TZID=Europ
 e/Budapest:20300309T200000
SUMMARY:Esti szertartás
DESCRIPTION:Est
 i szertartás kínai nyelven.\\nHelyszín: Kővágóör
 s Amitábha
  templom
LOCATION:Kővágóörs\, Amitábha templom
URL:https://tfd
 k.hu/dual_event/esti-szertartas/
END:VEVENT
BEGIN:VEVENT
UID:dualevcal-68-1899912600@tfdk.hu
DTSTAMP:20260424T04
 0810Z
DTSTART;TZID=Europe/Budapest:20300316T183000
DTEND;TZID=Europ
 e/Budapest:20300316T200000
SUMMARY:Esti szertartás
DESCRIPTION:Est
 i szertartás kínai nyelven.\\nHelyszín: Kővágóör
 s Amitábha
  templom
LOCATION:Kővágóörs\, Amitábha templom
URL:https://tfd
 k.hu/dual_event/esti-szertartas/
END:VEVENT
BEGIN:VEVENT
UID:dualevcal-68-1900517400@tfdk.hu
DTSTAMP:20260424T04
 0810Z
DTSTART;TZID=Europe/Budapest:20300323T183000
DTEND;TZID=Europ
 e/Budapest:20300323T200000
SUMMARY:Esti szertartás
DESCRIPTION:Est
 i szertartás kínai nyelven.\\nHelyszín: Kővágóör
 s Amitábha
  templom
LOCATION:Kővágóörs\, Amitábha templom
URL:https://tfd
 k.hu/dual_event/esti-szertartas/
END:VEVENT
BEGIN:VEVENT
UID:dualevcal-68-1901122200@tfdk.hu
DTSTAMP:20260424T04
 0810Z
DTSTART;TZID=Europe/Budapest:20300330T183000
DTEND;TZID=Europ
 e/Budapest:20300330T200000
SUMMARY:Esti szertartás
DESCRIPTION:Est
 i szertartás kínai nyelven.\\nHelyszín: Kővágóör
 s Amitábha
  templom
LOCATION:Kővágóörs\, Amitábha templom
URL:https://tfd
 k.hu/dual_event/esti-szertartas/
END:VEVENT
BEGIN:VEVENT
UID:dualevcal-67-1899258300@tfdk.hu
DTSTAMP:20260424T04
 0810Z
DTSTART;TZID=Europe/Budapest:20300309T044500
DTEND;TZID=Europ
 e/Budapest:20300309T063000
SUMMARY:Reggeli szertartás
DESCRIPTION:
 Reggeli szartartás kínai nyelven.\\nHelyszín: Kővágó
 örs\, A
 mitábha templom
LOCATION:Kővágóörs
URL:https://tfdk.hu/dual_ev
 ent/reggeli-szertartas-kovagoors/
END:VEVENT
BEGIN:VEVENT
UID:dualevcal-67-1900467900@tfdk.hu
DTSTAMP:20260424T04
 0810Z
DTSTART;TZID=Europe/Budapest:20300323T044500
DTEND;TZID=Europ
 e/Budapest:20300323T063000
SUMMARY:Reggeli szertartás
DESCRIPTION:
 Reggeli szartartás kínai nyelven.\\nHelyszín: Kővágó
 örs\, A
 mitábha templom
LOCATION:Kővágóörs
URL:https://tfdk.hu/dual_ev
 ent/reggeli-szertartas-kovagoors/
END:VEVENT
BEGIN:VEVENT
UID:dualevcal-64-1898653500@tfdk.hu
DTSTAMP:20260424T04
 0810Z
DTSTART;TZID=Europe/Budapest:20300302T044500
DTEND;TZID=Europ
 e/Budapest:20300302T063000
SUMMARY:Reggeli szertartás
DESCRIPTION:
 Reggeli szertartás kínai nyelven.\\nHelyszín: Magyarpol
 ány
LO
 CATION:Magyarpolány
URL:https://tfdk.hu/dual_event/reggeli-szertart
 as-magyarpolany/
END:VEVENT
BEGIN:VEVENT
UID:dualevcal-64-1899863100@tfdk.hu
DTSTAMP:20260424T04
 0810Z
DTSTART;TZID=Europe/Budapest:20300316T044500
DTEND;TZID=Europ
 e/Budapest:20300316T063000
SUMMARY:Reggeli szertartás
DESCRIPTION:
 Reggeli szertartás kínai nyelven.\\nHelyszín: Magyarpol
 ány
LO
 CATION:Magyarpolány
URL:https://tfdk.hu/dual_event/reggeli-szertart
 as-magyarpolany/
END:VEVENT
BEGIN:VEVENT
UID:dualevcal-64-1901072700@tfdk.hu
DTSTAMP:20260424T04
 0810Z
DTSTART;TZID=Europe/Budapest:20300330T044500
DTEND;TZID=Europ
 e/Budapest:20300330T063000
SUMMARY:Reggeli szertartás
DESCRIPTION:
 Reggeli szertartás kínai nyelven.\\nHelyszín: Magyarpol
 ány
LO
 CATION:Magyarpolány
URL:https://tfdk.hu/dual_event/reggeli-szertart
 as-magyarpolany/
END:VEVENT
END:VCALENDAR
