BEGIN:VCALENDAR
VERSION:2.0
PRODID:-//Dual Event Calendar//EN
CALSCALE:GREGORIAN
X-WR-CALNAME:Dual Event Calendar - January 2030
X-WR-TIMEZONE:Europe/Budapest
BEGIN:VEVENT
UID:dualevcal-68-1893864600@tfdk.hu
DTSTAMP:20260424T01
 1230Z
DTSTART;TZID=Europe/Budapest:20300105T183000
DTEND;TZID=Europ
 e/Budapest:20300105T200000
SUMMARY:Esti szertartás
DESCRIPTION:Est
 i szertartás kínai nyelven.\\nHelyszín: Kővágóör
 s Amitábha
  templom
LOCATION:Kővágóörs\, Amitábha templom
URL:https://tfd
 k.hu/dual_event/esti-szertartas/
END:VEVENT
BEGIN:VEVENT
UID:dualevcal-68-1894469400@tfdk.hu
DTSTAMP:20260424T01
 1230Z
DTSTART;TZID=Europe/Budapest:20300112T183000
DTEND;TZID=Europ
 e/Budapest:20300112T200000
SUMMARY:Esti szertartás
DESCRIPTION:Est
 i szertartás kínai nyelven.\\nHelyszín: Kővágóör
 s Amitábha
  templom
LOCATION:Kővágóörs\, Amitábha templom
URL:https://tfd
 k.hu/dual_event/esti-szertartas/
END:VEVENT
BEGIN:VEVENT
UID:dualevcal-68-1895074200@tfdk.hu
DTSTAMP:20260424T01
 1230Z
DTSTART;TZID=Europe/Budapest:20300119T183000
DTEND;TZID=Europ
 e/Budapest:20300119T200000
SUMMARY:Esti szertartás
DESCRIPTION:Est
 i szertartás kínai nyelven.\\nHelyszín: Kővágóör
 s Amitábha
  templom
LOCATION:Kővágóörs\, Amitábha templom
URL:https://tfd
 k.hu/dual_event/esti-szertartas/
END:VEVENT
BEGIN:VEVENT
UID:dualevcal-68-1895679000@tfdk.hu
DTSTAMP:20260424T01
 1230Z
DTSTART;TZID=Europe/Budapest:20300126T183000
DTEND;TZID=Europ
 e/Budapest:20300126T200000
SUMMARY:Esti szertartás
DESCRIPTION:Est
 i szertartás kínai nyelven.\\nHelyszín: Kővágóör
 s Amitábha
  templom
LOCATION:Kővágóörs\, Amitábha templom
URL:https://tfd
 k.hu/dual_event/esti-szertartas/
END:VEVENT
BEGIN:VEVENT
UID:dualevcal-67-1894419900@tfdk.hu
DTSTAMP:20260424T01
 1230Z
DTSTART;TZID=Europe/Budapest:20300112T044500
DTEND;TZID=Europ
 e/Budapest:20300112T063000
SUMMARY:Reggeli szertartás
DESCRIPTION:
 Reggeli szartartás kínai nyelven.\\nHelyszín: Kővágó
 örs\, A
 mitábha templom
LOCATION:Kővágóörs
URL:https://tfdk.hu/dual_ev
 ent/reggeli-szertartas-kovagoors/
END:VEVENT
BEGIN:VEVENT
UID:dualevcal-67-1895629500@tfdk.hu
DTSTAMP:20260424T01
 1230Z
DTSTART;TZID=Europe/Budapest:20300126T044500
DTEND;TZID=Europ
 e/Budapest:20300126T063000
SUMMARY:Reggeli szertartás
DESCRIPTION:
 Reggeli szartartás kínai nyelven.\\nHelyszín: Kővágó
 örs\, A
 mitábha templom
LOCATION:Kővágóörs
URL:https://tfdk.hu/dual_ev
 ent/reggeli-szertartas-kovagoors/
END:VEVENT
BEGIN:VEVENT
UID:dualevcal-64-1893815100@tfdk.hu
DTSTAMP:20260424T01
 1230Z
DTSTART;TZID=Europe/Budapest:20300105T044500
DTEND;TZID=Europ
 e/Budapest:20300105T063000
SUMMARY:Reggeli szertartás
DESCRIPTION:
 Reggeli szertartás kínai nyelven.\\nHelyszín: Magyarpol
 ány
LO
 CATION:Magyarpolány
URL:https://tfdk.hu/dual_event/reggeli-szertart
 as-magyarpolany/
END:VEVENT
BEGIN:VEVENT
UID:dualevcal-64-1895024700@tfdk.hu
DTSTAMP:20260424T01
 1230Z
DTSTART;TZID=Europe/Budapest:20300119T044500
DTEND;TZID=Europ
 e/Budapest:20300119T063000
SUMMARY:Reggeli szertartás
DESCRIPTION:
 Reggeli szertartás kínai nyelven.\\nHelyszín: Magyarpol
 ány
LO
 CATION:Magyarpolány
URL:https://tfdk.hu/dual_event/reggeli-szertart
 as-magyarpolany/
END:VEVENT
END:VCALENDAR
