BEGIN:VCALENDAR
VERSION:2.0
PRODID:-//Dual Event Calendar//EN
CALSCALE:GREGORIAN
X-WR-CALNAME:Dual Event Calendar - December 2029
X-WR-TIMEZONE:Europe/Budapest
BEGIN:VEVENT
UID:dualevcal-68-1890840600@tfdk.hu
DTSTAMP:20260423T23
 3300Z
DTSTART;TZID=Europe/Budapest:20291201T183000
DTEND;TZID=Europ
 e/Budapest:20291201T200000
SUMMARY:Esti szertartás
DESCRIPTION:Est
 i szertartás kínai nyelven.\\nHelyszín: Kővágóör
 s Amitábha
  templom
LOCATION:Kővágóörs\, Amitábha templom
URL:https://tfd
 k.hu/dual_event/esti-szertartas/
END:VEVENT
BEGIN:VEVENT
UID:dualevcal-68-1891445400@tfdk.hu
DTSTAMP:20260423T23
 3300Z
DTSTART;TZID=Europe/Budapest:20291208T183000
DTEND;TZID=Europ
 e/Budapest:20291208T200000
SUMMARY:Esti szertartás
DESCRIPTION:Est
 i szertartás kínai nyelven.\\nHelyszín: Kővágóör
 s Amitábha
  templom
LOCATION:Kővágóörs\, Amitábha templom
URL:https://tfd
 k.hu/dual_event/esti-szertartas/
END:VEVENT
BEGIN:VEVENT
UID:dualevcal-68-1892050200@tfdk.hu
DTSTAMP:20260423T23
 3300Z
DTSTART;TZID=Europe/Budapest:20291215T183000
DTEND;TZID=Europ
 e/Budapest:20291215T200000
SUMMARY:Esti szertartás
DESCRIPTION:Est
 i szertartás kínai nyelven.\\nHelyszín: Kővágóör
 s Amitábha
  templom
LOCATION:Kővágóörs\, Amitábha templom
URL:https://tfd
 k.hu/dual_event/esti-szertartas/
END:VEVENT
BEGIN:VEVENT
UID:dualevcal-68-1892655000@tfdk.hu
DTSTAMP:20260423T23
 3300Z
DTSTART;TZID=Europe/Budapest:20291222T183000
DTEND;TZID=Europ
 e/Budapest:20291222T200000
SUMMARY:Esti szertartás
DESCRIPTION:Est
 i szertartás kínai nyelven.\\nHelyszín: Kővágóör
 s Amitábha
  templom
LOCATION:Kővágóörs\, Amitábha templom
URL:https://tfd
 k.hu/dual_event/esti-szertartas/
END:VEVENT
BEGIN:VEVENT
UID:dualevcal-68-1893259800@tfdk.hu
DTSTAMP:20260423T23
 3300Z
DTSTART;TZID=Europe/Budapest:20291229T183000
DTEND;TZID=Europ
 e/Budapest:20291229T200000
SUMMARY:Esti szertartás
DESCRIPTION:Est
 i szertartás kínai nyelven.\\nHelyszín: Kővágóör
 s Amitábha
  templom
LOCATION:Kővágóörs\, Amitábha templom
URL:https://tfd
 k.hu/dual_event/esti-szertartas/
END:VEVENT
BEGIN:VEVENT
UID:dualevcal-67-1890791100@tfdk.hu
DTSTAMP:20260423T23
 3300Z
DTSTART;TZID=Europe/Budapest:20291201T044500
DTEND;TZID=Europ
 e/Budapest:20291201T063000
SUMMARY:Reggeli szertartás
DESCRIPTION:
 Reggeli szartartás kínai nyelven.\\nHelyszín: Kővágó
 örs\, A
 mitábha templom
LOCATION:Kővágóörs
URL:https://tfdk.hu/dual_ev
 ent/reggeli-szertartas-kovagoors/
END:VEVENT
BEGIN:VEVENT
UID:dualevcal-67-1892000700@tfdk.hu
DTSTAMP:20260423T23
 3300Z
DTSTART;TZID=Europe/Budapest:20291215T044500
DTEND;TZID=Europ
 e/Budapest:20291215T063000
SUMMARY:Reggeli szertartás
DESCRIPTION:
 Reggeli szartartás kínai nyelven.\\nHelyszín: Kővágó
 örs\, A
 mitábha templom
LOCATION:Kővágóörs
URL:https://tfdk.hu/dual_ev
 ent/reggeli-szertartas-kovagoors/
END:VEVENT
BEGIN:VEVENT
UID:dualevcal-67-1893210300@tfdk.hu
DTSTAMP:20260423T23
 3300Z
DTSTART;TZID=Europe/Budapest:20291229T044500
DTEND;TZID=Europ
 e/Budapest:20291229T063000
SUMMARY:Reggeli szertartás
DESCRIPTION:
 Reggeli szartartás kínai nyelven.\\nHelyszín: Kővágó
 örs\, A
 mitábha templom
LOCATION:Kővágóörs
URL:https://tfdk.hu/dual_ev
 ent/reggeli-szertartas-kovagoors/
END:VEVENT
BEGIN:VEVENT
UID:dualevcal-64-1891395900@tfdk.hu
DTSTAMP:20260423T23
 3300Z
DTSTART;TZID=Europe/Budapest:20291208T044500
DTEND;TZID=Europ
 e/Budapest:20291208T063000
SUMMARY:Reggeli szertartás
DESCRIPTION:
 Reggeli szertartás kínai nyelven.\\nHelyszín: Magyarpol
 ány
LO
 CATION:Magyarpolány
URL:https://tfdk.hu/dual_event/reggeli-szertart
 as-magyarpolany/
END:VEVENT
BEGIN:VEVENT
UID:dualevcal-64-1892605500@tfdk.hu
DTSTAMP:20260423T23
 3300Z
DTSTART;TZID=Europe/Budapest:20291222T044500
DTEND;TZID=Europ
 e/Budapest:20291222T063000
SUMMARY:Reggeli szertartás
DESCRIPTION:
 Reggeli szertartás kínai nyelven.\\nHelyszín: Magyarpol
 ány
LO
 CATION:Magyarpolány
URL:https://tfdk.hu/dual_event/reggeli-szertart
 as-magyarpolany/
END:VEVENT
END:VCALENDAR
