BEGIN:VCALENDAR
VERSION:2.0
PRODID:-//Dual Event Calendar//EN
CALSCALE:GREGORIAN
X-WR-CALNAME:Dual Event Calendar - November 2029
X-WR-TIMEZONE:Europe/Budapest
BEGIN:VEVENT
UID:dualevcal-68-1888421400@tfdk.hu
DTSTAMP:20260423T21
 5343Z
DTSTART;TZID=Europe/Budapest:20291103T183000
DTEND;TZID=Europ
 e/Budapest:20291103T200000
SUMMARY:Esti szertartás
DESCRIPTION:Est
 i szertartás kínai nyelven.\\nHelyszín: Kővágóör
 s Amitábha
  templom
LOCATION:Kővágóörs\, Amitábha templom
URL:https://tfd
 k.hu/dual_event/esti-szertartas/
END:VEVENT
BEGIN:VEVENT
UID:dualevcal-68-1889026200@tfdk.hu
DTSTAMP:20260423T21
 5343Z
DTSTART;TZID=Europe/Budapest:20291110T183000
DTEND;TZID=Europ
 e/Budapest:20291110T200000
SUMMARY:Esti szertartás
DESCRIPTION:Est
 i szertartás kínai nyelven.\\nHelyszín: Kővágóör
 s Amitábha
  templom
LOCATION:Kővágóörs\, Amitábha templom
URL:https://tfd
 k.hu/dual_event/esti-szertartas/
END:VEVENT
BEGIN:VEVENT
UID:dualevcal-68-1889631000@tfdk.hu
DTSTAMP:20260423T21
 5343Z
DTSTART;TZID=Europe/Budapest:20291117T183000
DTEND;TZID=Europ
 e/Budapest:20291117T200000
SUMMARY:Esti szertartás
DESCRIPTION:Est
 i szertartás kínai nyelven.\\nHelyszín: Kővágóör
 s Amitábha
  templom
LOCATION:Kővágóörs\, Amitábha templom
URL:https://tfd
 k.hu/dual_event/esti-szertartas/
END:VEVENT
BEGIN:VEVENT
UID:dualevcal-68-1890235800@tfdk.hu
DTSTAMP:20260423T21
 5343Z
DTSTART;TZID=Europe/Budapest:20291124T183000
DTEND;TZID=Europ
 e/Budapest:20291124T200000
SUMMARY:Esti szertartás
DESCRIPTION:Est
 i szertartás kínai nyelven.\\nHelyszín: Kővágóör
 s Amitábha
  templom
LOCATION:Kővágóörs\, Amitábha templom
URL:https://tfd
 k.hu/dual_event/esti-szertartas/
END:VEVENT
BEGIN:VEVENT
UID:dualevcal-67-1888371900@tfdk.hu
DTSTAMP:20260423T21
 5343Z
DTSTART;TZID=Europe/Budapest:20291103T044500
DTEND;TZID=Europ
 e/Budapest:20291103T063000
SUMMARY:Reggeli szertartás
DESCRIPTION:
 Reggeli szartartás kínai nyelven.\\nHelyszín: Kővágó
 örs\, A
 mitábha templom
LOCATION:Kővágóörs
URL:https://tfdk.hu/dual_ev
 ent/reggeli-szertartas-kovagoors/
END:VEVENT
BEGIN:VEVENT
UID:dualevcal-67-1889581500@tfdk.hu
DTSTAMP:20260423T21
 5343Z
DTSTART;TZID=Europe/Budapest:20291117T044500
DTEND;TZID=Europ
 e/Budapest:20291117T063000
SUMMARY:Reggeli szertartás
DESCRIPTION:
 Reggeli szartartás kínai nyelven.\\nHelyszín: Kővágó
 örs\, A
 mitábha templom
LOCATION:Kővágóörs
URL:https://tfdk.hu/dual_ev
 ent/reggeli-szertartas-kovagoors/
END:VEVENT
BEGIN:VEVENT
UID:dualevcal-64-1888976700@tfdk.hu
DTSTAMP:20260423T21
 5343Z
DTSTART;TZID=Europe/Budapest:20291110T044500
DTEND;TZID=Europ
 e/Budapest:20291110T063000
SUMMARY:Reggeli szertartás
DESCRIPTION:
 Reggeli szertartás kínai nyelven.\\nHelyszín: Magyarpol
 ány
LO
 CATION:Magyarpolány
URL:https://tfdk.hu/dual_event/reggeli-szertart
 as-magyarpolany/
END:VEVENT
BEGIN:VEVENT
UID:dualevcal-64-1890186300@tfdk.hu
DTSTAMP:20260423T21
 5343Z
DTSTART;TZID=Europe/Budapest:20291124T044500
DTEND;TZID=Europ
 e/Budapest:20291124T063000
SUMMARY:Reggeli szertartás
DESCRIPTION:
 Reggeli szertartás kínai nyelven.\\nHelyszín: Magyarpol
 ány
LO
 CATION:Magyarpolány
URL:https://tfdk.hu/dual_event/reggeli-szertart
 as-magyarpolany/
END:VEVENT
END:VCALENDAR
