BEGIN:VCALENDAR
VERSION:2.0
PRODID:-//Dual Event Calendar//EN
CALSCALE:GREGORIAN
X-WR-CALNAME:Dual Event Calendar - October 2029
X-WR-TIMEZONE:Europe/Budapest
BEGIN:VEVENT
UID:dualevcal-68-1885998600@tfdk.hu
DTSTAMP:20260423T20
 1635Z
DTSTART;TZID=Europe/Budapest:20291006T183000
DTEND;TZID=Europ
 e/Budapest:20291006T200000
SUMMARY:Esti szertartás
DESCRIPTION:Est
 i szertartás kínai nyelven.\\nHelyszín: Kővágóör
 s Amitábha
  templom
LOCATION:Kővágóörs\, Amitábha templom
URL:https://tfd
 k.hu/dual_event/esti-szertartas/
END:VEVENT
BEGIN:VEVENT
UID:dualevcal-68-1886603400@tfdk.hu
DTSTAMP:20260423T20
 1635Z
DTSTART;TZID=Europe/Budapest:20291013T183000
DTEND;TZID=Europ
 e/Budapest:20291013T200000
SUMMARY:Esti szertartás
DESCRIPTION:Est
 i szertartás kínai nyelven.\\nHelyszín: Kővágóör
 s Amitábha
  templom
LOCATION:Kővágóörs\, Amitábha templom
URL:https://tfd
 k.hu/dual_event/esti-szertartas/
END:VEVENT
BEGIN:VEVENT
UID:dualevcal-68-1887208200@tfdk.hu
DTSTAMP:20260423T20
 1635Z
DTSTART;TZID=Europe/Budapest:20291020T183000
DTEND;TZID=Europ
 e/Budapest:20291020T200000
SUMMARY:Esti szertartás
DESCRIPTION:Est
 i szertartás kínai nyelven.\\nHelyszín: Kővágóör
 s Amitábha
  templom
LOCATION:Kővágóörs\, Amitábha templom
URL:https://tfd
 k.hu/dual_event/esti-szertartas/
END:VEVENT
BEGIN:VEVENT
UID:dualevcal-68-1887813000@tfdk.hu
DTSTAMP:20260423T20
 1635Z
DTSTART;TZID=Europe/Budapest:20291027T183000
DTEND;TZID=Europ
 e/Budapest:20291027T200000
SUMMARY:Esti szertartás
DESCRIPTION:Est
 i szertartás kínai nyelven.\\nHelyszín: Kővágóör
 s Amitábha
  templom
LOCATION:Kővágóörs\, Amitábha templom
URL:https://tfd
 k.hu/dual_event/esti-szertartas/
END:VEVENT
BEGIN:VEVENT
UID:dualevcal-67-1886553900@tfdk.hu
DTSTAMP:20260423T20
 1635Z
DTSTART;TZID=Europe/Budapest:20291013T044500
DTEND;TZID=Europ
 e/Budapest:20291013T063000
SUMMARY:Reggeli szertartás
DESCRIPTION:
 Reggeli szartartás kínai nyelven.\\nHelyszín: Kővágó
 örs\, A
 mitábha templom
LOCATION:Kővágóörs
URL:https://tfdk.hu/dual_ev
 ent/reggeli-szertartas-kovagoors/
END:VEVENT
BEGIN:VEVENT
UID:dualevcal-67-1887763500@tfdk.hu
DTSTAMP:20260423T20
 1635Z
DTSTART;TZID=Europe/Budapest:20291027T044500
DTEND;TZID=Europ
 e/Budapest:20291027T063000
SUMMARY:Reggeli szertartás
DESCRIPTION:
 Reggeli szartartás kínai nyelven.\\nHelyszín: Kővágó
 örs\, A
 mitábha templom
LOCATION:Kővágóörs
URL:https://tfdk.hu/dual_ev
 ent/reggeli-szertartas-kovagoors/
END:VEVENT
BEGIN:VEVENT
UID:dualevcal-64-1885949100@tfdk.hu
DTSTAMP:20260423T20
 1635Z
DTSTART;TZID=Europe/Budapest:20291006T044500
DTEND;TZID=Europ
 e/Budapest:20291006T063000
SUMMARY:Reggeli szertartás
DESCRIPTION:
 Reggeli szertartás kínai nyelven.\\nHelyszín: Magyarpol
 ány
LO
 CATION:Magyarpolány
URL:https://tfdk.hu/dual_event/reggeli-szertart
 as-magyarpolany/
END:VEVENT
BEGIN:VEVENT
UID:dualevcal-64-1887158700@tfdk.hu
DTSTAMP:20260423T20
 1635Z
DTSTART;TZID=Europe/Budapest:20291020T044500
DTEND;TZID=Europ
 e/Budapest:20291020T063000
SUMMARY:Reggeli szertartás
DESCRIPTION:
 Reggeli szertartás kínai nyelven.\\nHelyszín: Magyarpol
 ány
LO
 CATION:Magyarpolány
URL:https://tfdk.hu/dual_event/reggeli-szertart
 as-magyarpolany/
END:VEVENT
END:VCALENDAR
