BEGIN:VCALENDAR
VERSION:2.0
PRODID:-//Dual Event Calendar//EN
CALSCALE:GREGORIAN
X-WR-CALNAME:Dual Event Calendar - September 2029
X-WR-TIMEZONE:Europe/Budapest
BEGIN:VEVENT
UID:dualevcal-68-1882974600@tfdk.hu
DTSTAMP:20260423T19
 5954Z
DTSTART;TZID=Europe/Budapest:20290901T183000
DTEND;TZID=Europ
 e/Budapest:20290901T200000
SUMMARY:Esti szertartás
DESCRIPTION:Est
 i szertartás kínai nyelven.\\nHelyszín: Kővágóör
 s Amitábha
  templom
LOCATION:Kővágóörs\, Amitábha templom
URL:https://tfd
 k.hu/dual_event/esti-szertartas/
END:VEVENT
BEGIN:VEVENT
UID:dualevcal-68-1883579400@tfdk.hu
DTSTAMP:20260423T19
 5954Z
DTSTART;TZID=Europe/Budapest:20290908T183000
DTEND;TZID=Europ
 e/Budapest:20290908T200000
SUMMARY:Esti szertartás
DESCRIPTION:Est
 i szertartás kínai nyelven.\\nHelyszín: Kővágóör
 s Amitábha
  templom
LOCATION:Kővágóörs\, Amitábha templom
URL:https://tfd
 k.hu/dual_event/esti-szertartas/
END:VEVENT
BEGIN:VEVENT
UID:dualevcal-68-1884184200@tfdk.hu
DTSTAMP:20260423T19
 5954Z
DTSTART;TZID=Europe/Budapest:20290915T183000
DTEND;TZID=Europ
 e/Budapest:20290915T200000
SUMMARY:Esti szertartás
DESCRIPTION:Est
 i szertartás kínai nyelven.\\nHelyszín: Kővágóör
 s Amitábha
  templom
LOCATION:Kővágóörs\, Amitábha templom
URL:https://tfd
 k.hu/dual_event/esti-szertartas/
END:VEVENT
BEGIN:VEVENT
UID:dualevcal-68-1884789000@tfdk.hu
DTSTAMP:20260423T19
 5954Z
DTSTART;TZID=Europe/Budapest:20290922T183000
DTEND;TZID=Europ
 e/Budapest:20290922T200000
SUMMARY:Esti szertartás
DESCRIPTION:Est
 i szertartás kínai nyelven.\\nHelyszín: Kővágóör
 s Amitábha
  templom
LOCATION:Kővágóörs\, Amitábha templom
URL:https://tfd
 k.hu/dual_event/esti-szertartas/
END:VEVENT
BEGIN:VEVENT
UID:dualevcal-68-1885393800@tfdk.hu
DTSTAMP:20260423T19
 5954Z
DTSTART;TZID=Europe/Budapest:20290929T183000
DTEND;TZID=Europ
 e/Budapest:20290929T200000
SUMMARY:Esti szertartás
DESCRIPTION:Est
 i szertartás kínai nyelven.\\nHelyszín: Kővágóör
 s Amitábha
  templom
LOCATION:Kővágóörs\, Amitábha templom
URL:https://tfd
 k.hu/dual_event/esti-szertartas/
END:VEVENT
BEGIN:VEVENT
UID:dualevcal-67-1882925100@tfdk.hu
DTSTAMP:20260423T19
 5954Z
DTSTART;TZID=Europe/Budapest:20290901T044500
DTEND;TZID=Europ
 e/Budapest:20290901T063000
SUMMARY:Reggeli szertartás
DESCRIPTION:
 Reggeli szartartás kínai nyelven.\\nHelyszín: Kővágó
 örs\, A
 mitábha templom
LOCATION:Kővágóörs
URL:https://tfdk.hu/dual_ev
 ent/reggeli-szertartas-kovagoors/
END:VEVENT
BEGIN:VEVENT
UID:dualevcal-67-1884134700@tfdk.hu
DTSTAMP:20260423T19
 5954Z
DTSTART;TZID=Europe/Budapest:20290915T044500
DTEND;TZID=Europ
 e/Budapest:20290915T063000
SUMMARY:Reggeli szertartás
DESCRIPTION:
 Reggeli szartartás kínai nyelven.\\nHelyszín: Kővágó
 örs\, A
 mitábha templom
LOCATION:Kővágóörs
URL:https://tfdk.hu/dual_ev
 ent/reggeli-szertartas-kovagoors/
END:VEVENT
BEGIN:VEVENT
UID:dualevcal-67-1885344300@tfdk.hu
DTSTAMP:20260423T19
 5954Z
DTSTART;TZID=Europe/Budapest:20290929T044500
DTEND;TZID=Europ
 e/Budapest:20290929T063000
SUMMARY:Reggeli szertartás
DESCRIPTION:
 Reggeli szartartás kínai nyelven.\\nHelyszín: Kővágó
 örs\, A
 mitábha templom
LOCATION:Kővágóörs
URL:https://tfdk.hu/dual_ev
 ent/reggeli-szertartas-kovagoors/
END:VEVENT
BEGIN:VEVENT
UID:dualevcal-64-1883529900@tfdk.hu
DTSTAMP:20260423T19
 5954Z
DTSTART;TZID=Europe/Budapest:20290908T044500
DTEND;TZID=Europ
 e/Budapest:20290908T063000
SUMMARY:Reggeli szertartás
DESCRIPTION:
 Reggeli szertartás kínai nyelven.\\nHelyszín: Magyarpol
 ány
LO
 CATION:Magyarpolány
URL:https://tfdk.hu/dual_event/reggeli-szertart
 as-magyarpolany/
END:VEVENT
BEGIN:VEVENT
UID:dualevcal-64-1884739500@tfdk.hu
DTSTAMP:20260423T19
 5954Z
DTSTART;TZID=Europe/Budapest:20290922T044500
DTEND;TZID=Europ
 e/Budapest:20290922T063000
SUMMARY:Reggeli szertartás
DESCRIPTION:
 Reggeli szertartás kínai nyelven.\\nHelyszín: Magyarpol
 ány
LO
 CATION:Magyarpolány
URL:https://tfdk.hu/dual_event/reggeli-szertart
 as-magyarpolany/
END:VEVENT
END:VCALENDAR
