BEGIN:VCALENDAR
VERSION:2.0
PRODID:-//Dual Event Calendar//EN
CALSCALE:GREGORIAN
X-WR-CALNAME:Dual Event Calendar - August 2029
X-WR-TIMEZONE:Europe/Budapest
BEGIN:VEVENT
UID:dualevcal-68-1880555400@tfdk.hu
DTSTAMP:20260423T16
 3620Z
DTSTART;TZID=Europe/Budapest:20290804T183000
DTEND;TZID=Europ
 e/Budapest:20290804T200000
SUMMARY:Esti szertartás
DESCRIPTION:Est
 i szertartás kínai nyelven.\\nHelyszín: Kővágóör
 s Amitábha
  templom
LOCATION:Kővágóörs\, Amitábha templom
URL:https://tfd
 k.hu/dual_event/esti-szertartas/
END:VEVENT
BEGIN:VEVENT
UID:dualevcal-68-1881160200@tfdk.hu
DTSTAMP:20260423T16
 3620Z
DTSTART;TZID=Europe/Budapest:20290811T183000
DTEND;TZID=Europ
 e/Budapest:20290811T200000
SUMMARY:Esti szertartás
DESCRIPTION:Est
 i szertartás kínai nyelven.\\nHelyszín: Kővágóör
 s Amitábha
  templom
LOCATION:Kővágóörs\, Amitábha templom
URL:https://tfd
 k.hu/dual_event/esti-szertartas/
END:VEVENT
BEGIN:VEVENT
UID:dualevcal-68-1881765000@tfdk.hu
DTSTAMP:20260423T16
 3620Z
DTSTART;TZID=Europe/Budapest:20290818T183000
DTEND;TZID=Europ
 e/Budapest:20290818T200000
SUMMARY:Esti szertartás
DESCRIPTION:Est
 i szertartás kínai nyelven.\\nHelyszín: Kővágóör
 s Amitábha
  templom
LOCATION:Kővágóörs\, Amitábha templom
URL:https://tfd
 k.hu/dual_event/esti-szertartas/
END:VEVENT
BEGIN:VEVENT
UID:dualevcal-68-1882369800@tfdk.hu
DTSTAMP:20260423T16
 3620Z
DTSTART;TZID=Europe/Budapest:20290825T183000
DTEND;TZID=Europ
 e/Budapest:20290825T200000
SUMMARY:Esti szertartás
DESCRIPTION:Est
 i szertartás kínai nyelven.\\nHelyszín: Kővágóör
 s Amitábha
  templom
LOCATION:Kővágóörs\, Amitábha templom
URL:https://tfd
 k.hu/dual_event/esti-szertartas/
END:VEVENT
BEGIN:VEVENT
UID:dualevcal-67-1880505900@tfdk.hu
DTSTAMP:20260423T16
 3620Z
DTSTART;TZID=Europe/Budapest:20290804T044500
DTEND;TZID=Europ
 e/Budapest:20290804T063000
SUMMARY:Reggeli szertartás
DESCRIPTION:
 Reggeli szartartás kínai nyelven.\\nHelyszín: Kővágó
 örs\, A
 mitábha templom
LOCATION:Kővágóörs
URL:https://tfdk.hu/dual_ev
 ent/reggeli-szertartas-kovagoors/
END:VEVENT
BEGIN:VEVENT
UID:dualevcal-67-1881715500@tfdk.hu
DTSTAMP:20260423T16
 3620Z
DTSTART;TZID=Europe/Budapest:20290818T044500
DTEND;TZID=Europ
 e/Budapest:20290818T063000
SUMMARY:Reggeli szertartás
DESCRIPTION:
 Reggeli szartartás kínai nyelven.\\nHelyszín: Kővágó
 örs\, A
 mitábha templom
LOCATION:Kővágóörs
URL:https://tfdk.hu/dual_ev
 ent/reggeli-szertartas-kovagoors/
END:VEVENT
BEGIN:VEVENT
UID:dualevcal-64-1881110700@tfdk.hu
DTSTAMP:20260423T16
 3620Z
DTSTART;TZID=Europe/Budapest:20290811T044500
DTEND;TZID=Europ
 e/Budapest:20290811T063000
SUMMARY:Reggeli szertartás
DESCRIPTION:
 Reggeli szertartás kínai nyelven.\\nHelyszín: Magyarpol
 ány
LO
 CATION:Magyarpolány
URL:https://tfdk.hu/dual_event/reggeli-szertart
 as-magyarpolany/
END:VEVENT
BEGIN:VEVENT
UID:dualevcal-64-1882320300@tfdk.hu
DTSTAMP:20260423T16
 3620Z
DTSTART;TZID=Europe/Budapest:20290825T044500
DTEND;TZID=Europ
 e/Budapest:20290825T063000
SUMMARY:Reggeli szertartás
DESCRIPTION:
 Reggeli szertartás kínai nyelven.\\nHelyszín: Magyarpol
 ány
LO
 CATION:Magyarpolány
URL:https://tfdk.hu/dual_event/reggeli-szertart
 as-magyarpolany/
END:VEVENT
END:VCALENDAR
