BEGIN:VCALENDAR
VERSION:2.0
PRODID:-//Dual Event Calendar//EN
CALSCALE:GREGORIAN
X-WR-CALNAME:Dual Event Calendar - July 2029
X-WR-TIMEZONE:Europe/Budapest
BEGIN:VEVENT
UID:dualevcal-68-1878136200@tfdk.hu
DTSTAMP:20260423T14
 5758Z
DTSTART;TZID=Europe/Budapest:20290707T183000
DTEND;TZID=Europ
 e/Budapest:20290707T200000
SUMMARY:Esti szertartás
DESCRIPTION:Est
 i szertartás kínai nyelven.\\nHelyszín: Kővágóör
 s Amitábha
  templom
LOCATION:Kővágóörs\, Amitábha templom
URL:https://tfd
 k.hu/dual_event/esti-szertartas/
END:VEVENT
BEGIN:VEVENT
UID:dualevcal-68-1878741000@tfdk.hu
DTSTAMP:20260423T14
 5758Z
DTSTART;TZID=Europe/Budapest:20290714T183000
DTEND;TZID=Europ
 e/Budapest:20290714T200000
SUMMARY:Esti szertartás
DESCRIPTION:Est
 i szertartás kínai nyelven.\\nHelyszín: Kővágóör
 s Amitábha
  templom
LOCATION:Kővágóörs\, Amitábha templom
URL:https://tfd
 k.hu/dual_event/esti-szertartas/
END:VEVENT
BEGIN:VEVENT
UID:dualevcal-68-1879345800@tfdk.hu
DTSTAMP:20260423T14
 5758Z
DTSTART;TZID=Europe/Budapest:20290721T183000
DTEND;TZID=Europ
 e/Budapest:20290721T200000
SUMMARY:Esti szertartás
DESCRIPTION:Est
 i szertartás kínai nyelven.\\nHelyszín: Kővágóör
 s Amitábha
  templom
LOCATION:Kővágóörs\, Amitábha templom
URL:https://tfd
 k.hu/dual_event/esti-szertartas/
END:VEVENT
BEGIN:VEVENT
UID:dualevcal-68-1879950600@tfdk.hu
DTSTAMP:20260423T14
 5758Z
DTSTART;TZID=Europe/Budapest:20290728T183000
DTEND;TZID=Europ
 e/Budapest:20290728T200000
SUMMARY:Esti szertartás
DESCRIPTION:Est
 i szertartás kínai nyelven.\\nHelyszín: Kővágóör
 s Amitábha
  templom
LOCATION:Kővágóörs\, Amitábha templom
URL:https://tfd
 k.hu/dual_event/esti-szertartas/
END:VEVENT
BEGIN:VEVENT
UID:dualevcal-67-1878086700@tfdk.hu
DTSTAMP:20260423T14
 5758Z
DTSTART;TZID=Europe/Budapest:20290707T044500
DTEND;TZID=Europ
 e/Budapest:20290707T063000
SUMMARY:Reggeli szertartás
DESCRIPTION:
 Reggeli szartartás kínai nyelven.\\nHelyszín: Kővágó
 örs\, A
 mitábha templom
LOCATION:Kővágóörs
URL:https://tfdk.hu/dual_ev
 ent/reggeli-szertartas-kovagoors/
END:VEVENT
BEGIN:VEVENT
UID:dualevcal-67-1879296300@tfdk.hu
DTSTAMP:20260423T14
 5758Z
DTSTART;TZID=Europe/Budapest:20290721T044500
DTEND;TZID=Europ
 e/Budapest:20290721T063000
SUMMARY:Reggeli szertartás
DESCRIPTION:
 Reggeli szartartás kínai nyelven.\\nHelyszín: Kővágó
 örs\, A
 mitábha templom
LOCATION:Kővágóörs
URL:https://tfdk.hu/dual_ev
 ent/reggeli-szertartas-kovagoors/
END:VEVENT
BEGIN:VEVENT
UID:dualevcal-64-1878691500@tfdk.hu
DTSTAMP:20260423T14
 5758Z
DTSTART;TZID=Europe/Budapest:20290714T044500
DTEND;TZID=Europ
 e/Budapest:20290714T063000
SUMMARY:Reggeli szertartás
DESCRIPTION:
 Reggeli szertartás kínai nyelven.\\nHelyszín: Magyarpol
 ány
LO
 CATION:Magyarpolány
URL:https://tfdk.hu/dual_event/reggeli-szertart
 as-magyarpolany/
END:VEVENT
BEGIN:VEVENT
UID:dualevcal-64-1879901100@tfdk.hu
DTSTAMP:20260423T14
 5758Z
DTSTART;TZID=Europe/Budapest:20290728T044500
DTEND;TZID=Europ
 e/Budapest:20290728T063000
SUMMARY:Reggeli szertartás
DESCRIPTION:
 Reggeli szertartás kínai nyelven.\\nHelyszín: Magyarpol
 ány
LO
 CATION:Magyarpolány
URL:https://tfdk.hu/dual_event/reggeli-szertart
 as-magyarpolany/
END:VEVENT
END:VCALENDAR
