BEGIN:VCALENDAR
VERSION:2.0
PRODID:-//Dual Event Calendar//EN
CALSCALE:GREGORIAN
X-WR-CALNAME:Dual Event Calendar - June 2029
X-WR-TIMEZONE:Europe/Budapest
BEGIN:VEVENT
UID:dualevcal-68-1875112200@tfdk.hu
DTSTAMP:20260423T13
 1950Z
DTSTART;TZID=Europe/Budapest:20290602T183000
DTEND;TZID=Europ
 e/Budapest:20290602T200000
SUMMARY:Esti szertartás
DESCRIPTION:Est
 i szertartás kínai nyelven.\\nHelyszín: Kővágóör
 s Amitábha
  templom
LOCATION:Kővágóörs\, Amitábha templom
URL:https://tfd
 k.hu/dual_event/esti-szertartas/
END:VEVENT
BEGIN:VEVENT
UID:dualevcal-68-1875717000@tfdk.hu
DTSTAMP:20260423T13
 1950Z
DTSTART;TZID=Europe/Budapest:20290609T183000
DTEND;TZID=Europ
 e/Budapest:20290609T200000
SUMMARY:Esti szertartás
DESCRIPTION:Est
 i szertartás kínai nyelven.\\nHelyszín: Kővágóör
 s Amitábha
  templom
LOCATION:Kővágóörs\, Amitábha templom
URL:https://tfd
 k.hu/dual_event/esti-szertartas/
END:VEVENT
BEGIN:VEVENT
UID:dualevcal-68-1876321800@tfdk.hu
DTSTAMP:20260423T13
 1950Z
DTSTART;TZID=Europe/Budapest:20290616T183000
DTEND;TZID=Europ
 e/Budapest:20290616T200000
SUMMARY:Esti szertartás
DESCRIPTION:Est
 i szertartás kínai nyelven.\\nHelyszín: Kővágóör
 s Amitábha
  templom
LOCATION:Kővágóörs\, Amitábha templom
URL:https://tfd
 k.hu/dual_event/esti-szertartas/
END:VEVENT
BEGIN:VEVENT
UID:dualevcal-68-1876926600@tfdk.hu
DTSTAMP:20260423T13
 1950Z
DTSTART;TZID=Europe/Budapest:20290623T183000
DTEND;TZID=Europ
 e/Budapest:20290623T200000
SUMMARY:Esti szertartás
DESCRIPTION:Est
 i szertartás kínai nyelven.\\nHelyszín: Kővágóör
 s Amitábha
  templom
LOCATION:Kővágóörs\, Amitábha templom
URL:https://tfd
 k.hu/dual_event/esti-szertartas/
END:VEVENT
BEGIN:VEVENT
UID:dualevcal-68-1877531400@tfdk.hu
DTSTAMP:20260423T13
 1950Z
DTSTART;TZID=Europe/Budapest:20290630T183000
DTEND;TZID=Europ
 e/Budapest:20290630T200000
SUMMARY:Esti szertartás
DESCRIPTION:Est
 i szertartás kínai nyelven.\\nHelyszín: Kővágóör
 s Amitábha
  templom
LOCATION:Kővágóörs\, Amitábha templom
URL:https://tfd
 k.hu/dual_event/esti-szertartas/
END:VEVENT
BEGIN:VEVENT
UID:dualevcal-67-1875667500@tfdk.hu
DTSTAMP:20260423T13
 1950Z
DTSTART;TZID=Europe/Budapest:20290609T044500
DTEND;TZID=Europ
 e/Budapest:20290609T063000
SUMMARY:Reggeli szertartás
DESCRIPTION:
 Reggeli szartartás kínai nyelven.\\nHelyszín: Kővágó
 örs\, A
 mitábha templom
LOCATION:Kővágóörs
URL:https://tfdk.hu/dual_ev
 ent/reggeli-szertartas-kovagoors/
END:VEVENT
BEGIN:VEVENT
UID:dualevcal-67-1876877100@tfdk.hu
DTSTAMP:20260423T13
 1950Z
DTSTART;TZID=Europe/Budapest:20290623T044500
DTEND;TZID=Europ
 e/Budapest:20290623T063000
SUMMARY:Reggeli szertartás
DESCRIPTION:
 Reggeli szartartás kínai nyelven.\\nHelyszín: Kővágó
 örs\, A
 mitábha templom
LOCATION:Kővágóörs
URL:https://tfdk.hu/dual_ev
 ent/reggeli-szertartas-kovagoors/
END:VEVENT
BEGIN:VEVENT
UID:dualevcal-64-1875062700@tfdk.hu
DTSTAMP:20260423T13
 1950Z
DTSTART;TZID=Europe/Budapest:20290602T044500
DTEND;TZID=Europ
 e/Budapest:20290602T063000
SUMMARY:Reggeli szertartás
DESCRIPTION:
 Reggeli szertartás kínai nyelven.\\nHelyszín: Magyarpol
 ány
LO
 CATION:Magyarpolány
URL:https://tfdk.hu/dual_event/reggeli-szertart
 as-magyarpolany/
END:VEVENT
BEGIN:VEVENT
UID:dualevcal-64-1876272300@tfdk.hu
DTSTAMP:20260423T13
 1950Z
DTSTART;TZID=Europe/Budapest:20290616T044500
DTEND;TZID=Europ
 e/Budapest:20290616T063000
SUMMARY:Reggeli szertartás
DESCRIPTION:
 Reggeli szertartás kínai nyelven.\\nHelyszín: Magyarpol
 ány
LO
 CATION:Magyarpolány
URL:https://tfdk.hu/dual_event/reggeli-szertart
 as-magyarpolany/
END:VEVENT
BEGIN:VEVENT
UID:dualevcal-64-1877481900@tfdk.hu
DTSTAMP:20260423T13
 1950Z
DTSTART;TZID=Europe/Budapest:20290630T044500
DTEND;TZID=Europ
 e/Budapest:20290630T063000
SUMMARY:Reggeli szertartás
DESCRIPTION:
 Reggeli szertartás kínai nyelven.\\nHelyszín: Magyarpol
 ány
LO
 CATION:Magyarpolány
URL:https://tfdk.hu/dual_event/reggeli-szertart
 as-magyarpolany/
END:VEVENT
END:VCALENDAR
