BEGIN:VCALENDAR
VERSION:2.0
PRODID:-//Dual Event Calendar//EN
CALSCALE:GREGORIAN
X-WR-CALNAME:Dual Event Calendar - May 2029
X-WR-TIMEZONE:Europe/Budapest
BEGIN:VEVENT
UID:dualevcal-68-1872693000@tfdk.hu
DTSTAMP:20260423T11
 3212Z
DTSTART;TZID=Europe/Budapest:20290505T183000
DTEND;TZID=Europ
 e/Budapest:20290505T200000
SUMMARY:Esti szertartás
DESCRIPTION:Est
 i szertartás kínai nyelven.\\nHelyszín: Kővágóör
 s Amitábha
  templom
LOCATION:Kővágóörs\, Amitábha templom
URL:https://tfd
 k.hu/dual_event/esti-szertartas/
END:VEVENT
BEGIN:VEVENT
UID:dualevcal-68-1873297800@tfdk.hu
DTSTAMP:20260423T11
 3212Z
DTSTART;TZID=Europe/Budapest:20290512T183000
DTEND;TZID=Europ
 e/Budapest:20290512T200000
SUMMARY:Esti szertartás
DESCRIPTION:Est
 i szertartás kínai nyelven.\\nHelyszín: Kővágóör
 s Amitábha
  templom
LOCATION:Kővágóörs\, Amitábha templom
URL:https://tfd
 k.hu/dual_event/esti-szertartas/
END:VEVENT
BEGIN:VEVENT
UID:dualevcal-68-1873902600@tfdk.hu
DTSTAMP:20260423T11
 3212Z
DTSTART;TZID=Europe/Budapest:20290519T183000
DTEND;TZID=Europ
 e/Budapest:20290519T200000
SUMMARY:Esti szertartás
DESCRIPTION:Est
 i szertartás kínai nyelven.\\nHelyszín: Kővágóör
 s Amitábha
  templom
LOCATION:Kővágóörs\, Amitábha templom
URL:https://tfd
 k.hu/dual_event/esti-szertartas/
END:VEVENT
BEGIN:VEVENT
UID:dualevcal-68-1874507400@tfdk.hu
DTSTAMP:20260423T11
 3212Z
DTSTART;TZID=Europe/Budapest:20290526T183000
DTEND;TZID=Europ
 e/Budapest:20290526T200000
SUMMARY:Esti szertartás
DESCRIPTION:Est
 i szertartás kínai nyelven.\\nHelyszín: Kővágóör
 s Amitábha
  templom
LOCATION:Kővágóörs\, Amitábha templom
URL:https://tfd
 k.hu/dual_event/esti-szertartas/
END:VEVENT
BEGIN:VEVENT
UID:dualevcal-67-1873248300@tfdk.hu
DTSTAMP:20260423T11
 3212Z
DTSTART;TZID=Europe/Budapest:20290512T044500
DTEND;TZID=Europ
 e/Budapest:20290512T063000
SUMMARY:Reggeli szertartás
DESCRIPTION:
 Reggeli szartartás kínai nyelven.\\nHelyszín: Kővágó
 örs\, A
 mitábha templom
LOCATION:Kővágóörs
URL:https://tfdk.hu/dual_ev
 ent/reggeli-szertartas-kovagoors/
END:VEVENT
BEGIN:VEVENT
UID:dualevcal-67-1874457900@tfdk.hu
DTSTAMP:20260423T11
 3212Z
DTSTART;TZID=Europe/Budapest:20290526T044500
DTEND;TZID=Europ
 e/Budapest:20290526T063000
SUMMARY:Reggeli szertartás
DESCRIPTION:
 Reggeli szartartás kínai nyelven.\\nHelyszín: Kővágó
 örs\, A
 mitábha templom
LOCATION:Kővágóörs
URL:https://tfdk.hu/dual_ev
 ent/reggeli-szertartas-kovagoors/
END:VEVENT
BEGIN:VEVENT
UID:dualevcal-64-1872643500@tfdk.hu
DTSTAMP:20260423T11
 3212Z
DTSTART;TZID=Europe/Budapest:20290505T044500
DTEND;TZID=Europ
 e/Budapest:20290505T063000
SUMMARY:Reggeli szertartás
DESCRIPTION:
 Reggeli szertartás kínai nyelven.\\nHelyszín: Magyarpol
 ány
LO
 CATION:Magyarpolány
URL:https://tfdk.hu/dual_event/reggeli-szertart
 as-magyarpolany/
END:VEVENT
BEGIN:VEVENT
UID:dualevcal-64-1873853100@tfdk.hu
DTSTAMP:20260423T11
 3212Z
DTSTART;TZID=Europe/Budapest:20290519T044500
DTEND;TZID=Europ
 e/Budapest:20290519T063000
SUMMARY:Reggeli szertartás
DESCRIPTION:
 Reggeli szertartás kínai nyelven.\\nHelyszín: Magyarpol
 ány
LO
 CATION:Magyarpolány
URL:https://tfdk.hu/dual_event/reggeli-szertart
 as-magyarpolany/
END:VEVENT
END:VCALENDAR
