BEGIN:VCALENDAR
VERSION:2.0
PRODID:-//Dual Event Calendar//EN
CALSCALE:GREGORIAN
X-WR-CALNAME:Dual Event Calendar - April 2029
X-WR-TIMEZONE:Europe/Budapest
BEGIN:VEVENT
UID:dualevcal-68-1870273800@tfdk.hu
DTSTAMP:20260423T09
 5755Z
DTSTART;TZID=Europe/Budapest:20290407T183000
DTEND;TZID=Europ
 e/Budapest:20290407T200000
SUMMARY:Esti szertartás
DESCRIPTION:Est
 i szertartás kínai nyelven.\\nHelyszín: Kővágóör
 s Amitábha
  templom
LOCATION:Kővágóörs\, Amitábha templom
URL:https://tfd
 k.hu/dual_event/esti-szertartas/
END:VEVENT
BEGIN:VEVENT
UID:dualevcal-68-1870878600@tfdk.hu
DTSTAMP:20260423T09
 5755Z
DTSTART;TZID=Europe/Budapest:20290414T183000
DTEND;TZID=Europ
 e/Budapest:20290414T200000
SUMMARY:Esti szertartás
DESCRIPTION:Est
 i szertartás kínai nyelven.\\nHelyszín: Kővágóör
 s Amitábha
  templom
LOCATION:Kővágóörs\, Amitábha templom
URL:https://tfd
 k.hu/dual_event/esti-szertartas/
END:VEVENT
BEGIN:VEVENT
UID:dualevcal-68-1871483400@tfdk.hu
DTSTAMP:20260423T09
 5755Z
DTSTART;TZID=Europe/Budapest:20290421T183000
DTEND;TZID=Europ
 e/Budapest:20290421T200000
SUMMARY:Esti szertartás
DESCRIPTION:Est
 i szertartás kínai nyelven.\\nHelyszín: Kővágóör
 s Amitábha
  templom
LOCATION:Kővágóörs\, Amitábha templom
URL:https://tfd
 k.hu/dual_event/esti-szertartas/
END:VEVENT
BEGIN:VEVENT
UID:dualevcal-68-1872088200@tfdk.hu
DTSTAMP:20260423T09
 5755Z
DTSTART;TZID=Europe/Budapest:20290428T183000
DTEND;TZID=Europ
 e/Budapest:20290428T200000
SUMMARY:Esti szertartás
DESCRIPTION:Est
 i szertartás kínai nyelven.\\nHelyszín: Kővágóör
 s Amitábha
  templom
LOCATION:Kővágóörs\, Amitábha templom
URL:https://tfd
 k.hu/dual_event/esti-szertartas/
END:VEVENT
BEGIN:VEVENT
UID:dualevcal-67-1870829100@tfdk.hu
DTSTAMP:20260423T09
 5755Z
DTSTART;TZID=Europe/Budapest:20290414T044500
DTEND;TZID=Europ
 e/Budapest:20290414T063000
SUMMARY:Reggeli szertartás
DESCRIPTION:
 Reggeli szartartás kínai nyelven.\\nHelyszín: Kővágó
 örs\, A
 mitábha templom
LOCATION:Kővágóörs
URL:https://tfdk.hu/dual_ev
 ent/reggeli-szertartas-kovagoors/
END:VEVENT
BEGIN:VEVENT
UID:dualevcal-67-1872038700@tfdk.hu
DTSTAMP:20260423T09
 5755Z
DTSTART;TZID=Europe/Budapest:20290428T044500
DTEND;TZID=Europ
 e/Budapest:20290428T063000
SUMMARY:Reggeli szertartás
DESCRIPTION:
 Reggeli szartartás kínai nyelven.\\nHelyszín: Kővágó
 örs\, A
 mitábha templom
LOCATION:Kővágóörs
URL:https://tfdk.hu/dual_ev
 ent/reggeli-szertartas-kovagoors/
END:VEVENT
BEGIN:VEVENT
UID:dualevcal-64-1870224300@tfdk.hu
DTSTAMP:20260423T09
 5755Z
DTSTART;TZID=Europe/Budapest:20290407T044500
DTEND;TZID=Europ
 e/Budapest:20290407T063000
SUMMARY:Reggeli szertartás
DESCRIPTION:
 Reggeli szertartás kínai nyelven.\\nHelyszín: Magyarpol
 ány
LO
 CATION:Magyarpolány
URL:https://tfdk.hu/dual_event/reggeli-szertart
 as-magyarpolany/
END:VEVENT
BEGIN:VEVENT
UID:dualevcal-64-1871433900@tfdk.hu
DTSTAMP:20260423T09
 5755Z
DTSTART;TZID=Europe/Budapest:20290421T044500
DTEND;TZID=Europ
 e/Budapest:20290421T063000
SUMMARY:Reggeli szertartás
DESCRIPTION:
 Reggeli szertartás kínai nyelven.\\nHelyszín: Magyarpol
 ány
LO
 CATION:Magyarpolány
URL:https://tfdk.hu/dual_event/reggeli-szertart
 as-magyarpolany/
END:VEVENT
END:VCALENDAR
