BEGIN:VCALENDAR
VERSION:2.0
PRODID:-//Dual Event Calendar//EN
CALSCALE:GREGORIAN
X-WR-CALNAME:Dual Event Calendar - March 2029
X-WR-TIMEZONE:Europe/Budapest
BEGIN:VEVENT
UID:dualevcal-68-1867253400@tfdk.hu
DTSTAMP:20260423T08
 4525Z
DTSTART;TZID=Europe/Budapest:20290303T183000
DTEND;TZID=Europ
 e/Budapest:20290303T200000
SUMMARY:Esti szertartás
DESCRIPTION:Est
 i szertartás kínai nyelven.\\nHelyszín: Kővágóör
 s Amitábha
  templom
LOCATION:Kővágóörs\, Amitábha templom
URL:https://tfd
 k.hu/dual_event/esti-szertartas/
END:VEVENT
BEGIN:VEVENT
UID:dualevcal-68-1867858200@tfdk.hu
DTSTAMP:20260423T08
 4525Z
DTSTART;TZID=Europe/Budapest:20290310T183000
DTEND;TZID=Europ
 e/Budapest:20290310T200000
SUMMARY:Esti szertartás
DESCRIPTION:Est
 i szertartás kínai nyelven.\\nHelyszín: Kővágóör
 s Amitábha
  templom
LOCATION:Kővágóörs\, Amitábha templom
URL:https://tfd
 k.hu/dual_event/esti-szertartas/
END:VEVENT
BEGIN:VEVENT
UID:dualevcal-68-1868463000@tfdk.hu
DTSTAMP:20260423T08
 4525Z
DTSTART;TZID=Europe/Budapest:20290317T183000
DTEND;TZID=Europ
 e/Budapest:20290317T200000
SUMMARY:Esti szertartás
DESCRIPTION:Est
 i szertartás kínai nyelven.\\nHelyszín: Kővágóör
 s Amitábha
  templom
LOCATION:Kővágóörs\, Amitábha templom
URL:https://tfd
 k.hu/dual_event/esti-szertartas/
END:VEVENT
BEGIN:VEVENT
UID:dualevcal-68-1869067800@tfdk.hu
DTSTAMP:20260423T08
 4525Z
DTSTART;TZID=Europe/Budapest:20290324T183000
DTEND;TZID=Europ
 e/Budapest:20290324T200000
SUMMARY:Esti szertartás
DESCRIPTION:Est
 i szertartás kínai nyelven.\\nHelyszín: Kővágóör
 s Amitábha
  templom
LOCATION:Kővágóörs\, Amitábha templom
URL:https://tfd
 k.hu/dual_event/esti-szertartas/
END:VEVENT
BEGIN:VEVENT
UID:dualevcal-68-1869669000@tfdk.hu
DTSTAMP:20260423T08
 4525Z
DTSTART;TZID=Europe/Budapest:20290331T183000
DTEND;TZID=Europ
 e/Budapest:20290331T200000
SUMMARY:Esti szertartás
DESCRIPTION:Est
 i szertartás kínai nyelven.\\nHelyszín: Kővágóör
 s Amitábha
  templom
LOCATION:Kővágóörs\, Amitábha templom
URL:https://tfd
 k.hu/dual_event/esti-szertartas/
END:VEVENT
BEGIN:VEVENT
UID:dualevcal-67-1867808700@tfdk.hu
DTSTAMP:20260423T08
 4525Z
DTSTART;TZID=Europe/Budapest:20290310T044500
DTEND;TZID=Europ
 e/Budapest:20290310T063000
SUMMARY:Reggeli szertartás
DESCRIPTION:
 Reggeli szartartás kínai nyelven.\\nHelyszín: Kővágó
 örs\, A
 mitábha templom
LOCATION:Kővágóörs
URL:https://tfdk.hu/dual_ev
 ent/reggeli-szertartas-kovagoors/
END:VEVENT
BEGIN:VEVENT
UID:dualevcal-67-1869018300@tfdk.hu
DTSTAMP:20260423T08
 4525Z
DTSTART;TZID=Europe/Budapest:20290324T044500
DTEND;TZID=Europ
 e/Budapest:20290324T063000
SUMMARY:Reggeli szertartás
DESCRIPTION:
 Reggeli szartartás kínai nyelven.\\nHelyszín: Kővágó
 örs\, A
 mitábha templom
LOCATION:Kővágóörs
URL:https://tfdk.hu/dual_ev
 ent/reggeli-szertartas-kovagoors/
END:VEVENT
BEGIN:VEVENT
UID:dualevcal-67-1869619500@tfdk.hu
DTSTAMP:20260423T08
 4525Z
DTSTART;TZID=Europe/Budapest:20290331T044500
DTEND;TZID=Europ
 e/Budapest:20290331T063000
SUMMARY:Reggeli szertartás
DESCRIPTION:
 Reggeli szartartás kínai nyelven.\\nHelyszín: Kővágó
 örs\, A
 mitábha templom
LOCATION:Kővágóörs
URL:https://tfdk.hu/dual_ev
 ent/reggeli-szertartas-kovagoors/
END:VEVENT
BEGIN:VEVENT
UID:dualevcal-64-1867203900@tfdk.hu
DTSTAMP:20260423T08
 4525Z
DTSTART;TZID=Europe/Budapest:20290303T044500
DTEND;TZID=Europ
 e/Budapest:20290303T063000
SUMMARY:Reggeli szertartás
DESCRIPTION:
 Reggeli szertartás kínai nyelven.\\nHelyszín: Magyarpol
 ány
LO
 CATION:Magyarpolány
URL:https://tfdk.hu/dual_event/reggeli-szertart
 as-magyarpolany/
END:VEVENT
BEGIN:VEVENT
UID:dualevcal-64-1868413500@tfdk.hu
DTSTAMP:20260423T08
 4525Z
DTSTART;TZID=Europe/Budapest:20290317T044500
DTEND;TZID=Europ
 e/Budapest:20290317T063000
SUMMARY:Reggeli szertartás
DESCRIPTION:
 Reggeli szertartás kínai nyelven.\\nHelyszín: Magyarpol
 ány
LO
 CATION:Magyarpolány
URL:https://tfdk.hu/dual_event/reggeli-szertart
 as-magyarpolany/
END:VEVENT
END:VCALENDAR
