BEGIN:VCALENDAR
VERSION:2.0
PRODID:-//Dual Event Calendar//EN
CALSCALE:GREGORIAN
X-WR-CALNAME:Dual Event Calendar - February 2029
X-WR-TIMEZONE:Europe/Budapest
BEGIN:VEVENT
UID:dualevcal-68-1864834200@tfdk.hu
DTSTAMP:20260421T18
 3231Z
DTSTART;TZID=Europe/Budapest:20290203T183000
DTEND;TZID=Europ
 e/Budapest:20290203T200000
SUMMARY:Esti szertartás
DESCRIPTION:Est
 i szertartás kínai nyelven.\\nHelyszín: Kővágóör
 s Amitábha
  templom
LOCATION:Kővágóörs\, Amitábha templom
URL:https://tfd
 k.hu/dual_event/esti-szertartas/
END:VEVENT
BEGIN:VEVENT
UID:dualevcal-68-1865439000@tfdk.hu
DTSTAMP:20260421T18
 3231Z
DTSTART;TZID=Europe/Budapest:20290210T183000
DTEND;TZID=Europ
 e/Budapest:20290210T200000
SUMMARY:Esti szertartás
DESCRIPTION:Est
 i szertartás kínai nyelven.\\nHelyszín: Kővágóör
 s Amitábha
  templom
LOCATION:Kővágóörs\, Amitábha templom
URL:https://tfd
 k.hu/dual_event/esti-szertartas/
END:VEVENT
BEGIN:VEVENT
UID:dualevcal-68-1866043800@tfdk.hu
DTSTAMP:20260421T18
 3231Z
DTSTART;TZID=Europe/Budapest:20290217T183000
DTEND;TZID=Europ
 e/Budapest:20290217T200000
SUMMARY:Esti szertartás
DESCRIPTION:Est
 i szertartás kínai nyelven.\\nHelyszín: Kővágóör
 s Amitábha
  templom
LOCATION:Kővágóörs\, Amitábha templom
URL:https://tfd
 k.hu/dual_event/esti-szertartas/
END:VEVENT
BEGIN:VEVENT
UID:dualevcal-68-1866648600@tfdk.hu
DTSTAMP:20260421T18
 3231Z
DTSTART;TZID=Europe/Budapest:20290224T183000
DTEND;TZID=Europ
 e/Budapest:20290224T200000
SUMMARY:Esti szertartás
DESCRIPTION:Est
 i szertartás kínai nyelven.\\nHelyszín: Kővágóör
 s Amitábha
  templom
LOCATION:Kővágóörs\, Amitábha templom
URL:https://tfd
 k.hu/dual_event/esti-szertartas/
END:VEVENT
BEGIN:VEVENT
UID:dualevcal-67-1865389500@tfdk.hu
DTSTAMP:20260421T18
 3231Z
DTSTART;TZID=Europe/Budapest:20290210T044500
DTEND;TZID=Europ
 e/Budapest:20290210T063000
SUMMARY:Reggeli szertartás
DESCRIPTION:
 Reggeli szartartás kínai nyelven.\\nHelyszín: Kővágó
 örs\, A
 mitábha templom
LOCATION:Kővágóörs
URL:https://tfdk.hu/dual_ev
 ent/reggeli-szertartas-kovagoors/
END:VEVENT
BEGIN:VEVENT
UID:dualevcal-67-1866599100@tfdk.hu
DTSTAMP:20260421T18
 3231Z
DTSTART;TZID=Europe/Budapest:20290224T044500
DTEND;TZID=Europ
 e/Budapest:20290224T063000
SUMMARY:Reggeli szertartás
DESCRIPTION:
 Reggeli szartartás kínai nyelven.\\nHelyszín: Kővágó
 örs\, A
 mitábha templom
LOCATION:Kővágóörs
URL:https://tfdk.hu/dual_ev
 ent/reggeli-szertartas-kovagoors/
END:VEVENT
BEGIN:VEVENT
UID:dualevcal-64-1864784700@tfdk.hu
DTSTAMP:20260421T18
 3231Z
DTSTART;TZID=Europe/Budapest:20290203T044500
DTEND;TZID=Europ
 e/Budapest:20290203T063000
SUMMARY:Reggeli szertartás
DESCRIPTION:
 Reggeli szertartás kínai nyelven.\\nHelyszín: Magyarpol
 ány
LO
 CATION:Magyarpolány
URL:https://tfdk.hu/dual_event/reggeli-szertart
 as-magyarpolany/
END:VEVENT
BEGIN:VEVENT
UID:dualevcal-64-1865994300@tfdk.hu
DTSTAMP:20260421T18
 3231Z
DTSTART;TZID=Europe/Budapest:20290217T044500
DTEND;TZID=Europ
 e/Budapest:20290217T063000
SUMMARY:Reggeli szertartás
DESCRIPTION:
 Reggeli szertartás kínai nyelven.\\nHelyszín: Magyarpol
 ány
LO
 CATION:Magyarpolány
URL:https://tfdk.hu/dual_event/reggeli-szertart
 as-magyarpolany/
END:VEVENT
END:VCALENDAR
