BEGIN:VCALENDAR
VERSION:2.0
PRODID:-//Dual Event Calendar//EN
CALSCALE:GREGORIAN
X-WR-CALNAME:Dual Event Calendar - January 2029
X-WR-TIMEZONE:Europe/Budapest
BEGIN:VEVENT
UID:dualevcal-68-1862415000@tfdk.hu
DTSTAMP:20260421T16
 5905Z
DTSTART;TZID=Europe/Budapest:20290106T183000
DTEND;TZID=Europ
 e/Budapest:20290106T200000
SUMMARY:Esti szertartás
DESCRIPTION:Est
 i szertartás kínai nyelven.\\nHelyszín: Kővágóör
 s Amitábha
  templom
LOCATION:Kővágóörs\, Amitábha templom
URL:https://tfd
 k.hu/dual_event/esti-szertartas/
END:VEVENT
BEGIN:VEVENT
UID:dualevcal-68-1863019800@tfdk.hu
DTSTAMP:20260421T16
 5905Z
DTSTART;TZID=Europe/Budapest:20290113T183000
DTEND;TZID=Europ
 e/Budapest:20290113T200000
SUMMARY:Esti szertartás
DESCRIPTION:Est
 i szertartás kínai nyelven.\\nHelyszín: Kővágóör
 s Amitábha
  templom
LOCATION:Kővágóörs\, Amitábha templom
URL:https://tfd
 k.hu/dual_event/esti-szertartas/
END:VEVENT
BEGIN:VEVENT
UID:dualevcal-68-1863624600@tfdk.hu
DTSTAMP:20260421T16
 5905Z
DTSTART;TZID=Europe/Budapest:20290120T183000
DTEND;TZID=Europ
 e/Budapest:20290120T200000
SUMMARY:Esti szertartás
DESCRIPTION:Est
 i szertartás kínai nyelven.\\nHelyszín: Kővágóör
 s Amitábha
  templom
LOCATION:Kővágóörs\, Amitábha templom
URL:https://tfd
 k.hu/dual_event/esti-szertartas/
END:VEVENT
BEGIN:VEVENT
UID:dualevcal-68-1864229400@tfdk.hu
DTSTAMP:20260421T16
 5905Z
DTSTART;TZID=Europe/Budapest:20290127T183000
DTEND;TZID=Europ
 e/Budapest:20290127T200000
SUMMARY:Esti szertartás
DESCRIPTION:Est
 i szertartás kínai nyelven.\\nHelyszín: Kővágóör
 s Amitábha
  templom
LOCATION:Kővágóörs\, Amitábha templom
URL:https://tfd
 k.hu/dual_event/esti-szertartas/
END:VEVENT
BEGIN:VEVENT
UID:dualevcal-67-1862970300@tfdk.hu
DTSTAMP:20260421T16
 5905Z
DTSTART;TZID=Europe/Budapest:20290113T044500
DTEND;TZID=Europ
 e/Budapest:20290113T063000
SUMMARY:Reggeli szertartás
DESCRIPTION:
 Reggeli szartartás kínai nyelven.\\nHelyszín: Kővágó
 örs\, A
 mitábha templom
LOCATION:Kővágóörs
URL:https://tfdk.hu/dual_ev
 ent/reggeli-szertartas-kovagoors/
END:VEVENT
BEGIN:VEVENT
UID:dualevcal-67-1864179900@tfdk.hu
DTSTAMP:20260421T16
 5905Z
DTSTART;TZID=Europe/Budapest:20290127T044500
DTEND;TZID=Europ
 e/Budapest:20290127T063000
SUMMARY:Reggeli szertartás
DESCRIPTION:
 Reggeli szartartás kínai nyelven.\\nHelyszín: Kővágó
 örs\, A
 mitábha templom
LOCATION:Kővágóörs
URL:https://tfdk.hu/dual_ev
 ent/reggeli-szertartas-kovagoors/
END:VEVENT
BEGIN:VEVENT
UID:dualevcal-64-1862365500@tfdk.hu
DTSTAMP:20260421T16
 5905Z
DTSTART;TZID=Europe/Budapest:20290106T044500
DTEND;TZID=Europ
 e/Budapest:20290106T063000
SUMMARY:Reggeli szertartás
DESCRIPTION:
 Reggeli szertartás kínai nyelven.\\nHelyszín: Magyarpol
 ány
LO
 CATION:Magyarpolány
URL:https://tfdk.hu/dual_event/reggeli-szertart
 as-magyarpolany/
END:VEVENT
BEGIN:VEVENT
UID:dualevcal-64-1863575100@tfdk.hu
DTSTAMP:20260421T16
 5905Z
DTSTART;TZID=Europe/Budapest:20290120T044500
DTEND;TZID=Europ
 e/Budapest:20290120T063000
SUMMARY:Reggeli szertartás
DESCRIPTION:
 Reggeli szertartás kínai nyelven.\\nHelyszín: Magyarpol
 ány
LO
 CATION:Magyarpolány
URL:https://tfdk.hu/dual_event/reggeli-szertart
 as-magyarpolany/
END:VEVENT
END:VCALENDAR
