BEGIN:VCALENDAR
VERSION:2.0
PRODID:-//Dual Event Calendar//EN
CALSCALE:GREGORIAN
X-WR-CALNAME:Dual Event Calendar - December 2028
X-WR-TIMEZONE:Europe/Budapest
BEGIN:VEVENT
UID:dualevcal-68-1859391000@tfdk.hu
DTSTAMP:20260421T15
 2512Z
DTSTART;TZID=Europe/Budapest:20281202T183000
DTEND;TZID=Europ
 e/Budapest:20281202T200000
SUMMARY:Esti szertartás
DESCRIPTION:Est
 i szertartás kínai nyelven.\\nHelyszín: Kővágóör
 s Amitábha
  templom
LOCATION:Kővágóörs\, Amitábha templom
URL:https://tfd
 k.hu/dual_event/esti-szertartas/
END:VEVENT
BEGIN:VEVENT
UID:dualevcal-68-1859995800@tfdk.hu
DTSTAMP:20260421T15
 2512Z
DTSTART;TZID=Europe/Budapest:20281209T183000
DTEND;TZID=Europ
 e/Budapest:20281209T200000
SUMMARY:Esti szertartás
DESCRIPTION:Est
 i szertartás kínai nyelven.\\nHelyszín: Kővágóör
 s Amitábha
  templom
LOCATION:Kővágóörs\, Amitábha templom
URL:https://tfd
 k.hu/dual_event/esti-szertartas/
END:VEVENT
BEGIN:VEVENT
UID:dualevcal-68-1860600600@tfdk.hu
DTSTAMP:20260421T15
 2512Z
DTSTART;TZID=Europe/Budapest:20281216T183000
DTEND;TZID=Europ
 e/Budapest:20281216T200000
SUMMARY:Esti szertartás
DESCRIPTION:Est
 i szertartás kínai nyelven.\\nHelyszín: Kővágóör
 s Amitábha
  templom
LOCATION:Kővágóörs\, Amitábha templom
URL:https://tfd
 k.hu/dual_event/esti-szertartas/
END:VEVENT
BEGIN:VEVENT
UID:dualevcal-68-1861205400@tfdk.hu
DTSTAMP:20260421T15
 2512Z
DTSTART;TZID=Europe/Budapest:20281223T183000
DTEND;TZID=Europ
 e/Budapest:20281223T200000
SUMMARY:Esti szertartás
DESCRIPTION:Est
 i szertartás kínai nyelven.\\nHelyszín: Kővágóör
 s Amitábha
  templom
LOCATION:Kővágóörs\, Amitábha templom
URL:https://tfd
 k.hu/dual_event/esti-szertartas/
END:VEVENT
BEGIN:VEVENT
UID:dualevcal-68-1861810200@tfdk.hu
DTSTAMP:20260421T15
 2512Z
DTSTART;TZID=Europe/Budapest:20281230T183000
DTEND;TZID=Europ
 e/Budapest:20281230T200000
SUMMARY:Esti szertartás
DESCRIPTION:Est
 i szertartás kínai nyelven.\\nHelyszín: Kővágóör
 s Amitábha
  templom
LOCATION:Kővágóörs\, Amitábha templom
URL:https://tfd
 k.hu/dual_event/esti-szertartas/
END:VEVENT
BEGIN:VEVENT
UID:dualevcal-67-1859341500@tfdk.hu
DTSTAMP:20260421T15
 2512Z
DTSTART;TZID=Europe/Budapest:20281202T044500
DTEND;TZID=Europ
 e/Budapest:20281202T063000
SUMMARY:Reggeli szertartás
DESCRIPTION:
 Reggeli szartartás kínai nyelven.\\nHelyszín: Kővágó
 örs\, A
 mitábha templom
LOCATION:Kővágóörs
URL:https://tfdk.hu/dual_ev
 ent/reggeli-szertartas-kovagoors/
END:VEVENT
BEGIN:VEVENT
UID:dualevcal-67-1860551100@tfdk.hu
DTSTAMP:20260421T15
 2512Z
DTSTART;TZID=Europe/Budapest:20281216T044500
DTEND;TZID=Europ
 e/Budapest:20281216T063000
SUMMARY:Reggeli szertartás
DESCRIPTION:
 Reggeli szartartás kínai nyelven.\\nHelyszín: Kővágó
 örs\, A
 mitábha templom
LOCATION:Kővágóörs
URL:https://tfdk.hu/dual_ev
 ent/reggeli-szertartas-kovagoors/
END:VEVENT
BEGIN:VEVENT
UID:dualevcal-67-1861760700@tfdk.hu
DTSTAMP:20260421T15
 2512Z
DTSTART;TZID=Europe/Budapest:20281230T044500
DTEND;TZID=Europ
 e/Budapest:20281230T063000
SUMMARY:Reggeli szertartás
DESCRIPTION:
 Reggeli szartartás kínai nyelven.\\nHelyszín: Kővágó
 örs\, A
 mitábha templom
LOCATION:Kővágóörs
URL:https://tfdk.hu/dual_ev
 ent/reggeli-szertartas-kovagoors/
END:VEVENT
BEGIN:VEVENT
UID:dualevcal-64-1859946300@tfdk.hu
DTSTAMP:20260421T15
 2512Z
DTSTART;TZID=Europe/Budapest:20281209T044500
DTEND;TZID=Europ
 e/Budapest:20281209T063000
SUMMARY:Reggeli szertartás
DESCRIPTION:
 Reggeli szertartás kínai nyelven.\\nHelyszín: Magyarpol
 ány
LO
 CATION:Magyarpolány
URL:https://tfdk.hu/dual_event/reggeli-szertart
 as-magyarpolany/
END:VEVENT
BEGIN:VEVENT
UID:dualevcal-64-1861155900@tfdk.hu
DTSTAMP:20260421T15
 2512Z
DTSTART;TZID=Europe/Budapest:20281223T044500
DTEND;TZID=Europ
 e/Budapest:20281223T063000
SUMMARY:Reggeli szertartás
DESCRIPTION:
 Reggeli szertartás kínai nyelven.\\nHelyszín: Magyarpol
 ány
LO
 CATION:Magyarpolány
URL:https://tfdk.hu/dual_event/reggeli-szertart
 as-magyarpolany/
END:VEVENT
END:VCALENDAR
