BEGIN:VCALENDAR
VERSION:2.0
PRODID:-//Dual Event Calendar//EN
CALSCALE:GREGORIAN
X-WR-CALNAME:Dual Event Calendar - November 2028
X-WR-TIMEZONE:Europe/Budapest
BEGIN:VEVENT
UID:dualevcal-68-1856971800@tfdk.hu
DTSTAMP:20260421T13
 4550Z
DTSTART;TZID=Europe/Budapest:20281104T183000
DTEND;TZID=Europ
 e/Budapest:20281104T200000
SUMMARY:Esti szertartás
DESCRIPTION:Est
 i szertartás kínai nyelven.\\nHelyszín: Kővágóör
 s Amitábha
  templom
LOCATION:Kővágóörs\, Amitábha templom
URL:https://tfd
 k.hu/dual_event/esti-szertartas/
END:VEVENT
BEGIN:VEVENT
UID:dualevcal-68-1857576600@tfdk.hu
DTSTAMP:20260421T13
 4550Z
DTSTART;TZID=Europe/Budapest:20281111T183000
DTEND;TZID=Europ
 e/Budapest:20281111T200000
SUMMARY:Esti szertartás
DESCRIPTION:Est
 i szertartás kínai nyelven.\\nHelyszín: Kővágóör
 s Amitábha
  templom
LOCATION:Kővágóörs\, Amitábha templom
URL:https://tfd
 k.hu/dual_event/esti-szertartas/
END:VEVENT
BEGIN:VEVENT
UID:dualevcal-68-1858181400@tfdk.hu
DTSTAMP:20260421T13
 4550Z
DTSTART;TZID=Europe/Budapest:20281118T183000
DTEND;TZID=Europ
 e/Budapest:20281118T200000
SUMMARY:Esti szertartás
DESCRIPTION:Est
 i szertartás kínai nyelven.\\nHelyszín: Kővágóör
 s Amitábha
  templom
LOCATION:Kővágóörs\, Amitábha templom
URL:https://tfd
 k.hu/dual_event/esti-szertartas/
END:VEVENT
BEGIN:VEVENT
UID:dualevcal-68-1858786200@tfdk.hu
DTSTAMP:20260421T13
 4550Z
DTSTART;TZID=Europe/Budapest:20281125T183000
DTEND;TZID=Europ
 e/Budapest:20281125T200000
SUMMARY:Esti szertartás
DESCRIPTION:Est
 i szertartás kínai nyelven.\\nHelyszín: Kővágóör
 s Amitábha
  templom
LOCATION:Kővágóörs\, Amitábha templom
URL:https://tfd
 k.hu/dual_event/esti-szertartas/
END:VEVENT
BEGIN:VEVENT
UID:dualevcal-67-1856922300@tfdk.hu
DTSTAMP:20260421T13
 4550Z
DTSTART;TZID=Europe/Budapest:20281104T044500
DTEND;TZID=Europ
 e/Budapest:20281104T063000
SUMMARY:Reggeli szertartás
DESCRIPTION:
 Reggeli szartartás kínai nyelven.\\nHelyszín: Kővágó
 örs\, A
 mitábha templom
LOCATION:Kővágóörs
URL:https://tfdk.hu/dual_ev
 ent/reggeli-szertartas-kovagoors/
END:VEVENT
BEGIN:VEVENT
UID:dualevcal-67-1858131900@tfdk.hu
DTSTAMP:20260421T13
 4550Z
DTSTART;TZID=Europe/Budapest:20281118T044500
DTEND;TZID=Europ
 e/Budapest:20281118T063000
SUMMARY:Reggeli szertartás
DESCRIPTION:
 Reggeli szartartás kínai nyelven.\\nHelyszín: Kővágó
 örs\, A
 mitábha templom
LOCATION:Kővágóörs
URL:https://tfdk.hu/dual_ev
 ent/reggeli-szertartas-kovagoors/
END:VEVENT
BEGIN:VEVENT
UID:dualevcal-64-1857527100@tfdk.hu
DTSTAMP:20260421T13
 4550Z
DTSTART;TZID=Europe/Budapest:20281111T044500
DTEND;TZID=Europ
 e/Budapest:20281111T063000
SUMMARY:Reggeli szertartás
DESCRIPTION:
 Reggeli szertartás kínai nyelven.\\nHelyszín: Magyarpol
 ány
LO
 CATION:Magyarpolány
URL:https://tfdk.hu/dual_event/reggeli-szertart
 as-magyarpolany/
END:VEVENT
BEGIN:VEVENT
UID:dualevcal-64-1858736700@tfdk.hu
DTSTAMP:20260421T13
 4550Z
DTSTART;TZID=Europe/Budapest:20281125T044500
DTEND;TZID=Europ
 e/Budapest:20281125T063000
SUMMARY:Reggeli szertartás
DESCRIPTION:
 Reggeli szertartás kínai nyelven.\\nHelyszín: Magyarpol
 ány
LO
 CATION:Magyarpolány
URL:https://tfdk.hu/dual_event/reggeli-szertart
 as-magyarpolany/
END:VEVENT
END:VCALENDAR
