BEGIN:VCALENDAR
VERSION:2.0
PRODID:-//Dual Event Calendar//EN
CALSCALE:GREGORIAN
X-WR-CALNAME:Dual Event Calendar - October 2028
X-WR-TIMEZONE:Europe/Budapest
BEGIN:VEVENT
UID:dualevcal-68-1854549000@tfdk.hu
DTSTAMP:20260421T12
 1238Z
DTSTART;TZID=Europe/Budapest:20281007T183000
DTEND;TZID=Europ
 e/Budapest:20281007T200000
SUMMARY:Esti szertartás
DESCRIPTION:Est
 i szertartás kínai nyelven.\\nHelyszín: Kővágóör
 s Amitábha
  templom
LOCATION:Kővágóörs\, Amitábha templom
URL:https://tfd
 k.hu/dual_event/esti-szertartas/
END:VEVENT
BEGIN:VEVENT
UID:dualevcal-68-1855153800@tfdk.hu
DTSTAMP:20260421T12
 1238Z
DTSTART;TZID=Europe/Budapest:20281014T183000
DTEND;TZID=Europ
 e/Budapest:20281014T200000
SUMMARY:Esti szertartás
DESCRIPTION:Est
 i szertartás kínai nyelven.\\nHelyszín: Kővágóör
 s Amitábha
  templom
LOCATION:Kővágóörs\, Amitábha templom
URL:https://tfd
 k.hu/dual_event/esti-szertartas/
END:VEVENT
BEGIN:VEVENT
UID:dualevcal-68-1855758600@tfdk.hu
DTSTAMP:20260421T12
 1238Z
DTSTART;TZID=Europe/Budapest:20281021T183000
DTEND;TZID=Europ
 e/Budapest:20281021T200000
SUMMARY:Esti szertartás
DESCRIPTION:Est
 i szertartás kínai nyelven.\\nHelyszín: Kővágóör
 s Amitábha
  templom
LOCATION:Kővágóörs\, Amitábha templom
URL:https://tfd
 k.hu/dual_event/esti-szertartas/
END:VEVENT
BEGIN:VEVENT
UID:dualevcal-68-1856363400@tfdk.hu
DTSTAMP:20260421T12
 1238Z
DTSTART;TZID=Europe/Budapest:20281028T183000
DTEND;TZID=Europ
 e/Budapest:20281028T200000
SUMMARY:Esti szertartás
DESCRIPTION:Est
 i szertartás kínai nyelven.\\nHelyszín: Kővágóör
 s Amitábha
  templom
LOCATION:Kővágóörs\, Amitábha templom
URL:https://tfd
 k.hu/dual_event/esti-szertartas/
END:VEVENT
BEGIN:VEVENT
UID:dualevcal-67-1855104300@tfdk.hu
DTSTAMP:20260421T12
 1238Z
DTSTART;TZID=Europe/Budapest:20281014T044500
DTEND;TZID=Europ
 e/Budapest:20281014T063000
SUMMARY:Reggeli szertartás
DESCRIPTION:
 Reggeli szartartás kínai nyelven.\\nHelyszín: Kővágó
 örs\, A
 mitábha templom
LOCATION:Kővágóörs
URL:https://tfdk.hu/dual_ev
 ent/reggeli-szertartas-kovagoors/
END:VEVENT
BEGIN:VEVENT
UID:dualevcal-67-1856313900@tfdk.hu
DTSTAMP:20260421T12
 1238Z
DTSTART;TZID=Europe/Budapest:20281028T044500
DTEND;TZID=Europ
 e/Budapest:20281028T063000
SUMMARY:Reggeli szertartás
DESCRIPTION:
 Reggeli szartartás kínai nyelven.\\nHelyszín: Kővágó
 örs\, A
 mitábha templom
LOCATION:Kővágóörs
URL:https://tfdk.hu/dual_ev
 ent/reggeli-szertartas-kovagoors/
END:VEVENT
BEGIN:VEVENT
UID:dualevcal-64-1854499500@tfdk.hu
DTSTAMP:20260421T12
 1238Z
DTSTART;TZID=Europe/Budapest:20281007T044500
DTEND;TZID=Europ
 e/Budapest:20281007T063000
SUMMARY:Reggeli szertartás
DESCRIPTION:
 Reggeli szertartás kínai nyelven.\\nHelyszín: Magyarpol
 ány
LO
 CATION:Magyarpolány
URL:https://tfdk.hu/dual_event/reggeli-szertart
 as-magyarpolany/
END:VEVENT
BEGIN:VEVENT
UID:dualevcal-64-1855709100@tfdk.hu
DTSTAMP:20260421T12
 1238Z
DTSTART;TZID=Europe/Budapest:20281021T044500
DTEND;TZID=Europ
 e/Budapest:20281021T063000
SUMMARY:Reggeli szertartás
DESCRIPTION:
 Reggeli szertartás kínai nyelven.\\nHelyszín: Magyarpol
 ány
LO
 CATION:Magyarpolány
URL:https://tfdk.hu/dual_event/reggeli-szertart
 as-magyarpolany/
END:VEVENT
END:VCALENDAR
