BEGIN:VCALENDAR
VERSION:2.0
PRODID:-//Dual Event Calendar//EN
CALSCALE:GREGORIAN
X-WR-CALNAME:Dual Event Calendar - September 2028
X-WR-TIMEZONE:Europe/Budapest
BEGIN:VEVENT
UID:dualevcal-68-1851525000@tfdk.hu
DTSTAMP:20260421T08
 5853Z
DTSTART;TZID=Europe/Budapest:20280902T183000
DTEND;TZID=Europ
 e/Budapest:20280902T200000
SUMMARY:Esti szertartás
DESCRIPTION:Est
 i szertartás kínai nyelven.\\nHelyszín: Kővágóör
 s Amitábha
  templom
LOCATION:Kővágóörs\, Amitábha templom
URL:https://tfd
 k.hu/dual_event/esti-szertartas/
END:VEVENT
BEGIN:VEVENT
UID:dualevcal-68-1852129800@tfdk.hu
DTSTAMP:20260421T08
 5853Z
DTSTART;TZID=Europe/Budapest:20280909T183000
DTEND;TZID=Europ
 e/Budapest:20280909T200000
SUMMARY:Esti szertartás
DESCRIPTION:Est
 i szertartás kínai nyelven.\\nHelyszín: Kővágóör
 s Amitábha
  templom
LOCATION:Kővágóörs\, Amitábha templom
URL:https://tfd
 k.hu/dual_event/esti-szertartas/
END:VEVENT
BEGIN:VEVENT
UID:dualevcal-68-1852734600@tfdk.hu
DTSTAMP:20260421T08
 5853Z
DTSTART;TZID=Europe/Budapest:20280916T183000
DTEND;TZID=Europ
 e/Budapest:20280916T200000
SUMMARY:Esti szertartás
DESCRIPTION:Est
 i szertartás kínai nyelven.\\nHelyszín: Kővágóör
 s Amitábha
  templom
LOCATION:Kővágóörs\, Amitábha templom
URL:https://tfd
 k.hu/dual_event/esti-szertartas/
END:VEVENT
BEGIN:VEVENT
UID:dualevcal-68-1853339400@tfdk.hu
DTSTAMP:20260421T08
 5853Z
DTSTART;TZID=Europe/Budapest:20280923T183000
DTEND;TZID=Europ
 e/Budapest:20280923T200000
SUMMARY:Esti szertartás
DESCRIPTION:Est
 i szertartás kínai nyelven.\\nHelyszín: Kővágóör
 s Amitábha
  templom
LOCATION:Kővágóörs\, Amitábha templom
URL:https://tfd
 k.hu/dual_event/esti-szertartas/
END:VEVENT
BEGIN:VEVENT
UID:dualevcal-68-1853944200@tfdk.hu
DTSTAMP:20260421T08
 5853Z
DTSTART;TZID=Europe/Budapest:20280930T183000
DTEND;TZID=Europ
 e/Budapest:20280930T200000
SUMMARY:Esti szertartás
DESCRIPTION:Est
 i szertartás kínai nyelven.\\nHelyszín: Kővágóör
 s Amitábha
  templom
LOCATION:Kővágóörs\, Amitábha templom
URL:https://tfd
 k.hu/dual_event/esti-szertartas/
END:VEVENT
BEGIN:VEVENT
UID:dualevcal-67-1851475500@tfdk.hu
DTSTAMP:20260421T08
 5853Z
DTSTART;TZID=Europe/Budapest:20280902T044500
DTEND;TZID=Europ
 e/Budapest:20280902T063000
SUMMARY:Reggeli szertartás
DESCRIPTION:
 Reggeli szartartás kínai nyelven.\\nHelyszín: Kővágó
 örs\, A
 mitábha templom
LOCATION:Kővágóörs
URL:https://tfdk.hu/dual_ev
 ent/reggeli-szertartas-kovagoors/
END:VEVENT
BEGIN:VEVENT
UID:dualevcal-67-1852685100@tfdk.hu
DTSTAMP:20260421T08
 5853Z
DTSTART;TZID=Europe/Budapest:20280916T044500
DTEND;TZID=Europ
 e/Budapest:20280916T063000
SUMMARY:Reggeli szertartás
DESCRIPTION:
 Reggeli szartartás kínai nyelven.\\nHelyszín: Kővágó
 örs\, A
 mitábha templom
LOCATION:Kővágóörs
URL:https://tfdk.hu/dual_ev
 ent/reggeli-szertartas-kovagoors/
END:VEVENT
BEGIN:VEVENT
UID:dualevcal-67-1853894700@tfdk.hu
DTSTAMP:20260421T08
 5853Z
DTSTART;TZID=Europe/Budapest:20280930T044500
DTEND;TZID=Europ
 e/Budapest:20280930T063000
SUMMARY:Reggeli szertartás
DESCRIPTION:
 Reggeli szartartás kínai nyelven.\\nHelyszín: Kővágó
 örs\, A
 mitábha templom
LOCATION:Kővágóörs
URL:https://tfdk.hu/dual_ev
 ent/reggeli-szertartas-kovagoors/
END:VEVENT
BEGIN:VEVENT
UID:dualevcal-64-1852080300@tfdk.hu
DTSTAMP:20260421T08
 5853Z
DTSTART;TZID=Europe/Budapest:20280909T044500
DTEND;TZID=Europ
 e/Budapest:20280909T063000
SUMMARY:Reggeli szertartás
DESCRIPTION:
 Reggeli szertartás kínai nyelven.\\nHelyszín: Magyarpol
 ány
LO
 CATION:Magyarpolány
URL:https://tfdk.hu/dual_event/reggeli-szertart
 as-magyarpolany/
END:VEVENT
BEGIN:VEVENT
UID:dualevcal-64-1853289900@tfdk.hu
DTSTAMP:20260421T08
 5853Z
DTSTART;TZID=Europe/Budapest:20280923T044500
DTEND;TZID=Europ
 e/Budapest:20280923T063000
SUMMARY:Reggeli szertartás
DESCRIPTION:
 Reggeli szertartás kínai nyelven.\\nHelyszín: Magyarpol
 ány
LO
 CATION:Magyarpolány
URL:https://tfdk.hu/dual_event/reggeli-szertart
 as-magyarpolany/
END:VEVENT
END:VCALENDAR
